BEGIN:VCALENDAR
VERSION:2.0
PRODID:-//ZNP - ECPv6.11.2.1//NONSGML v1.0//EN
CALSCALE:GREGORIAN
METHOD:PUBLISH
X-WR-CALNAME:ZNP
X-ORIGINAL-URL:https://znp.edu.pl
X-WR-CALDESC:Events for ZNP
REFRESH-INTERVAL;VALUE=DURATION:PT1H
X-Robots-Tag:noindex
X-PUBLISHED-TTL:PT1H
BEGIN:VTIMEZONE
TZID:UTC
BEGIN:STANDARD
TZOFFSETFROM:+0000
TZOFFSETTO:+0000
TZNAME:UTC
DTSTART:20260101T000000
END:STANDARD
END:VTIMEZONE
BEGIN:VEVENT
DTSTART;TZID=UTC:20260422T110000
DTEND;TZID=UTC:20260422T120000
DTSTAMP:20260422T040349
CREATED:20260420T113522Z
LAST-MODIFIED:20260420T113607Z
UID:10000975-1776855600-1776859200@znp.edu.pl
SUMMARY:Konferencja prasowa ZNP
DESCRIPTION:Konferencja prasowa ZNP (live na Facebooku) \n\n22 kwietnia 2026 roku\ngodz. 11:00\n\nsiedziba ZNP w Warszawie na Powiślu\, ul. Smulikowskiego 6/8\, I piętro \nTemat: Co z inicjatywą ZNP w sprawie wynagrodzeń nauczycieli? \nUczestnicy: \nSławomir Broniarz\, prezes ZNP \nUrszula Woźniak\, wiceprezes ZG ZNP \nSzymon Lepper\, nauczyciel\, Oddział ZNP w Gdyni
URL:https://znp.edu.pl/impreza/konferencja-prasowa-znp-13/
ATTACH;FMTTYPE=image/jpeg:https://znp.edu.pl/assets/uploads/2026/04/Dodaj-podtytul-11.jpg
END:VEVENT
END:VCALENDAR