BEGIN:VCALENDAR
VERSION:2.0
PRODID:-//ZNP - ECPv6.11.2.1//NONSGML v1.0//EN
CALSCALE:GREGORIAN
METHOD:PUBLISH
X-ORIGINAL-URL:https://znp.edu.pl
X-WR-CALDESC:Events for ZNP
REFRESH-INTERVAL;VALUE=DURATION:PT1H
X-Robots-Tag:noindex
X-PUBLISHED-TTL:PT1H
BEGIN:VTIMEZONE
TZID:UTC
BEGIN:STANDARD
TZOFFSETFROM:+0000
TZOFFSETTO:+0000
TZNAME:UTC
DTSTART:20200101T000000
END:STANDARD
END:VTIMEZONE
BEGIN:VEVENT
DTSTART;VALUE=DATE:20200919
DTEND;VALUE=DATE:20200920
DTSTAMP:20260425T193829
CREATED:20200115T154947Z
LAST-MODIFIED:20200115T154947Z
UID:10000731-1600473600-1600559999@znp.edu.pl
SUMMARY:XX Ogólnopolski Konkurs Poetycki „O Złotą Wieżę Piastowską”
DESCRIPTION:
URL:https://znp.edu.pl/impreza/xx-ogolnopolski-konkurs-poetycki-o-zlota-wieze-piastowska/
LOCATION:Cafe Muzeum\, ul. Regera 6\, Cieszyn\, Polska
CATEGORIES:Imprezy kulturalne
END:VEVENT
END:VCALENDAR