BEGIN:VCALENDAR
VERSION:2.0
PRODID:-//ZNP - ECPv6.11.2.1//NONSGML v1.0//EN
CALSCALE:GREGORIAN
METHOD:PUBLISH
X-WR-CALNAME:ZNP
X-ORIGINAL-URL:https://znp.edu.pl
X-WR-CALDESC:Events for ZNP
REFRESH-INTERVAL;VALUE=DURATION:PT1H
X-Robots-Tag:noindex
X-PUBLISHED-TTL:PT1H
BEGIN:VTIMEZONE
TZID:UTC
BEGIN:STANDARD
TZOFFSETFROM:+0000
TZOFFSETTO:+0000
TZNAME:UTC
DTSTART:20230101T000000
END:STANDARD
END:VTIMEZONE
BEGIN:VEVENT
DTSTART;TZID=UTC:20230314T080000
DTEND;TZID=UTC:20230501T170000
DTSTAMP:20260423T032839
CREATED:20230314T104632Z
LAST-MODIFIED:20230314T104632Z
UID:10000829-1678780800-1682960400@znp.edu.pl
SUMMARY:Konkurs dla Maturzystów na esej
DESCRIPTION:Wystartowała kolejna edycja konkursu dla maturzystów organizowanego przez Concilium Civitas przy współpracy Związku Nauczycielstwa Polskiego. \nMaturzysto\, Maturzystko! \n Jeśli chcesz za darmo studiować w Akademia Leona Koźmińskiego\, Collegium Civitas\, Uniwersytet SWPS \n Jeśli chcesz się spotkać i dyskutować z profesorami najlepszych uczelni świata: Harvardu\, Oxfordu\, Stanfordu\, Yale \n Jeśli chcesz być zaproszony do Młodego Concilium – ekskluzywnego grona Twoich rówieśników interesujących się sprawami publicznymi \n Jeśli jesteś tegorocznym maturzystą \nWeź udział w ogłoszonym z inicjatywy Concilium Civitas konkursie na esej /artykuł/ reportaż na temat: \n Zima\, wiosna\, lato\, jesień: moja Polska po wyborach 2023  \nOrganizowanym przez Fundację Collegium Civitas i Związek Nauczycielstwa Polskiego. \nTermin nadsyłania prac 1.03–1.05 2023 \nhttp://conciliumcivitas.pl/konkurs-dla-maturzystow-2023/…
URL:https://znp.edu.pl/impreza/konkurs-dla-maturzystow-na-esej/
CATEGORIES:Imprezy kulturalne
ATTACH;FMTTYPE=image/jpeg:https://znp.edu.pl/assets/uploads/2023/03/Esej-2023.jpg
END:VEVENT
END:VCALENDAR