BEGIN:VCALENDAR
VERSION:2.0
PRODID:-//ZNP - ECPv6.11.2.1//NONSGML v1.0//EN
CALSCALE:GREGORIAN
METHOD:PUBLISH
X-ORIGINAL-URL:https://znp.edu.pl
X-WR-CALDESC:Events for ZNP
REFRESH-INTERVAL;VALUE=DURATION:PT1H
X-Robots-Tag:noindex
X-PUBLISHED-TTL:PT1H
BEGIN:VTIMEZONE
TZID:UTC
BEGIN:STANDARD
TZOFFSETFROM:+0000
TZOFFSETTO:+0000
TZNAME:UTC
DTSTART:20210101T000000
END:STANDARD
END:VTIMEZONE
BEGIN:VEVENT
DTSTART;TZID=UTC:20210925T080000
DTEND;TZID=UTC:20210926T170000
DTSTAMP:20260425T025805
CREATED:20210927T092320Z
LAST-MODIFIED:20210927T092320Z
UID:10000775-1632556800-1632675600@znp.edu.pl
SUMMARY:XVII OGÓLNOPOLSKI ZLOT MŁODYCH NAUCZYCIELI
DESCRIPTION:
URL:https://znp.edu.pl/impreza/xvii-ogolnopolski-zlot-mlodych-nauczycieli/
LOCATION:Dąbrowa Górnicza
CATEGORIES:Imprezy inne
END:VEVENT
BEGIN:VEVENT
DTSTART;TZID=UTC:20210927T080000
DTEND;TZID=UTC:20210927T170000
DTSTAMP:20260425T025805
CREATED:20210927T092436Z
LAST-MODIFIED:20210927T092436Z
UID:10000776-1632729600-1632762000@znp.edu.pl
SUMMARY:Prezydium ZG ZNP
DESCRIPTION:
URL:https://znp.edu.pl/impreza/prezydium-zg-znp-2/
LOCATION:Warszawa
END:VEVENT
BEGIN:VEVENT
DTSTART;TZID=UTC:20210927T123000
DTEND;TZID=UTC:20210927T123000
DTSTAMP:20260425T025805
CREATED:20210927T092601Z
LAST-MODIFIED:20210927T093520Z
UID:10000777-1632745800-1632745800@znp.edu.pl
SUMMARY:Konferencja prasowa ZNP
DESCRIPTION:Zapraszamy na konferencję prasową prezesa ZNP Sławomira Broniarza w poniedziałek\, 27 września o godz. 12.30 po posiedzeniu Prezydium ZG ZNP\, która odbędzie się w siedzibie ZNP przy ul. Smulikowskiego 6/8\, I p. \nTemat: Co proponuje minister Przemysław Czarnek 
URL:https://znp.edu.pl/impreza/konferencja-prasowa-znp/
LOCATION:Warszawa
END:VEVENT
END:VCALENDAR