BEGIN:VCALENDAR
VERSION:2.0
PRODID:-//ZNP - ECPv6.11.2.1//NONSGML v1.0//EN
CALSCALE:GREGORIAN
METHOD:PUBLISH
X-ORIGINAL-URL:https://znp.edu.pl
X-WR-CALDESC:Events for ZNP
REFRESH-INTERVAL;VALUE=DURATION:PT1H
X-Robots-Tag:noindex
X-PUBLISHED-TTL:PT1H
BEGIN:VTIMEZONE
TZID:UTC
BEGIN:STANDARD
TZOFFSETFROM:+0000
TZOFFSETTO:+0000
TZNAME:UTC
DTSTART:20210101T000000
END:STANDARD
END:VTIMEZONE
BEGIN:VEVENT
DTSTART;TZID=UTC:20211001T150000
DTEND;TZID=UTC:20211001T183000
DTSTAMP:20260425T011147
CREATED:20210929T130752Z
LAST-MODIFIED:20210930T092913Z
UID:10000529-1633100400-1633113000@znp.edu.pl
SUMMARY:MEDIA: Zaproszenie na uroczystości ZNP w Krakowie 1 października
DESCRIPTION:Zapraszamy na uroczystości z okazji 115. rocznicy powstania ZNP oraz 81. rocznicy powstania Tajnej Organizacji Nauczycielskiej\, które odbędą się w piątek\, 1 października br. w Krakowie – na uroczyste złożenie kwiatów na grobach Stanisława Nowaka\, pierwszego prezesa ZNP oraz prezesów Okręgu Krakowskiego i Małopolskiego Władysława Sieńki i Andrzeja Ujejskiego. \nTermin: 1 października\, godz. 15.00 – 16.00 \nMiejsce: Cmentarz Rakowicki\, Kraków \nTemat: Uroczyste złożenie kwiatów na grobach Stanisława Nowaka\, pierwszego prezesa ZNP oraz prezesów Okręgu Krakowskiego i Małopolskiego Władysława Sieńki i Andrzeja Ujejskiego \nUczestnicy: Członkowie Zarządu Głównego ZNP \nUWAGA: Zainteresowane media zapraszamy na uroczyste posiedzenie Zarządu Głównego ZNP\, które rozpocznie się w sobotę\, 2 października o godz. 12.00 w Centrum Dydaktyki AGH (Pawilon U-2\, ul. Reymonta 7\, Kraków) z udziałem zaproszonych gości (m.in. władz miasta) oraz na konferencję prasową ZNP o godz. 11.30 przed wejściem do Centrum Dydaktyki AGH\, Pawilon U-2 (ul. Reymonta 7\, Kraków). \nUroczyste obchody 115. rocznicy powstania Związku Nauczycielstwa Polskiego i 81. rocznicy powstania Tajnej Organizacji Nauczycielskiej odbywają się pod Patronatem Honorowym: \n\nPrezydenta Miasta Krakowa Jacka Majchrowskiego\nRektora Akademii Górniczo – Hutniczej w Krakowie prof. dr hab. inż. Jerzego Lisa
URL:https://znp.edu.pl/impreza/media-zaproszenie-na-uroczystosci-znp-w-krakowie-1-pazdziernika/
LOCATION:Kraków
CATEGORIES:Imprezy inne
ATTACH;FMTTYPE=image/png:https://znp.edu.pl/assets/uploads/2021/09/znp_sm_post_rocznica.png
END:VEVENT
BEGIN:VEVENT
DTSTART;TZID=UTC:20211002T113000
DTEND;TZID=UTC:20211002T150000
DTSTAMP:20260425T011147
CREATED:20210929T131021Z
LAST-MODIFIED:20210930T092951Z
UID:10000530-1633174200-1633186800@znp.edu.pl
SUMMARY:MEDIA: Zaproszenie na konferencję prasową ZNP w Krakowie 2 października
DESCRIPTION:Zapraszamy na konferencję prasową Związku Nauczycielstwa Polskiego\, która odbędzie się w sobotę\, 2 października w Krakowie tuż przed uroczystym posiedzeniem Zarządu Głównego ZNP z okazji 115. rocznicy powstania ZNP oraz 81. rocznicy powstania Tajnej Organizacji Nauczycielskiej. \nTermin: 2 października\, godz. 11.30 \nMiejsce: przed wejściem do Centrum Dydaktyki AGH\, Pawilon U-2 (ul. Reymonta 7\, Kraków) \nTemat: Aktualna sytuacja w oświacie \nUczestnicy: Sławomir Broniarz\, prezes ZNP oraz Arkadiusz Boroń\, prezes Okręgu Małopolskiego ZNP. \nUWAGA: Zainteresowane media zapraszamy na uroczyste posiedzenie Zarządu Głównego ZNP\, które rozpocznie się o godz. 12.00 w Centrum Dydaktyki AGH (Pawilon U-2\, ul. Reymonta 7\, Kraków) z udziałem zaproszonych gości (m.in. władz miasta). \nUroczyste obchody 115. rocznicy powstania Związku Nauczycielstwa Polskiego i 81. rocznicy powstania Tajnej Organizacji Nauczycielskiej odbywają się pod Patronatem Honorowym: \n\nPrezydenta Miasta Krakowa Jacka Majchrowskiego\nRektora Akademii Górniczo – Hutniczej w Krakowie prof. dr hab. inż. Jerzego Lisa
URL:https://znp.edu.pl/impreza/media-zaproszenie-na-konferencje-prasowa-znp-w-krakowie-2-pazdziernika/
ATTACH;FMTTYPE=image/png:https://znp.edu.pl/assets/uploads/2021/09/znp_sm_post_rocznica.png
END:VEVENT
BEGIN:VEVENT
DTSTART;TZID=UTC:20211002T120000
DTEND;TZID=UTC:20211002T143000
DTSTAMP:20260425T011147
CREATED:20210927T095559Z
LAST-MODIFIED:20210930T092828Z
UID:10000528-1633176000-1633185000@znp.edu.pl
SUMMARY:Posiedzenie ZG ZNP
DESCRIPTION:Posiedzenie ZG ZNP z okazji 115. rocznicy powstania ZNP oraz 81. rocznicy powstania TON. \nWydarzenia towarzyszące: \nTermin: 1 października\, godz. 15.00 – 16.00 \nMiejsce: Cmentarz Rakowicki\, Kraków \nTemat: Uroczyste złożenie kwiatów na grobach Stanisława Nowaka\, pierwszego prezesa ZNP oraz prezesów Okręgu Krakowskiego i Małopolskiego Władysława Sieńki i Andrzeja Ujejskiego. \n  \nTermin: 2 października\, godz. 11.30 \nMiejsce: przed wejściem do Centrum Dydaktyki AGH\, Pawilon U-2 (ul. Reymonta 7\, Kraków) \nKonferencja prasowa ZNP: Aktualna sytuacja w oświacie \nUczestnicy: Sławomir Broniarz\, prezes ZNP oraz Arkadiusz  Boroń\, prezes Okręgu Małopolskiego ZNP. \n  \nUroczyste obchody 115. rocznicy powstania Związku Nauczycielstwa Polskiego i 81. rocznicy powstania Tajnej Organizacji Nauczycielskiej odbywają się pod Patronatem Honorowym: \n\nPrezydenta Miasta Krakowa Jacka Majchrowskiego\nRektora Akademii Górniczo – Hutniczej w Krakowie prof. dr hab. inż. Jerzego Lisa
URL:https://znp.edu.pl/impreza/13448/
ATTACH;FMTTYPE=image/png:https://znp.edu.pl/assets/uploads/2021/09/znp_sm_post_rocznica.png
END:VEVENT
BEGIN:VEVENT
DTSTART;TZID=UTC:20211005T120000
DTEND;TZID=UTC:20211005T123000
DTSTAMP:20260425T011147
CREATED:20211004T115008Z
LAST-MODIFIED:20211004T115008Z
UID:10000531-1633435200-1633437000@znp.edu.pl
SUMMARY:Zaproszenie na konferencję prasową ZNP: Manifestacja nauczycieli
DESCRIPTION:Zapraszamy na konferencję prasową prezesa ZNP Sławomira Broniarza we wtorek\, 5 października 2021 r. o godz. 12.00\, która odbędzie się w warszawskiej siedzibie ZNP przy ul. Smulikowskiego 6/8\, I p. \nTemat: Manifestacja nauczycieli i pracowników oświaty
URL:https://znp.edu.pl/impreza/zaproszenie-na-konferencje-prasowa-znp-manifestacja-nauczycieli/
LOCATION:Warszawa
ATTACH;FMTTYPE=image/jpeg:https://znp.edu.pl/assets/uploads/2018/01/ikona-ZNP-media.jpg
END:VEVENT
BEGIN:VEVENT
DTSTART;TZID=UTC:20211009T113000
DTEND;TZID=UTC:20211009T130000
DTSTAMP:20260425T011147
CREATED:20211005T134532Z
LAST-MODIFIED:20211005T134532Z
UID:10000532-1633779000-1633784400@znp.edu.pl
SUMMARY:Manifestacja nauczycieli i pracowników oświaty
DESCRIPTION:
URL:https://znp.edu.pl/impreza/manifestacja-nauczycieli-i-pracownikow-oswiaty/
LOCATION:Warszawa
ATTACH;FMTTYPE=image/png:https://znp.edu.pl/assets/uploads/2021/10/znp_sm_post_manifestacja-mein_5b.png
END:VEVENT
BEGIN:VEVENT
DTSTART;TZID=UTC:20211022T110000
DTEND;TZID=UTC:20211022T140000
DTSTAMP:20260425T011147
CREATED:20211022T114151Z
LAST-MODIFIED:20211022T114151Z
UID:10000533-1634900400-1634911200@znp.edu.pl
SUMMARY:Posiedzenie Zespołu ds. statusu zawodowego pracowników oświaty
DESCRIPTION:Nie wierzcie w miliardy\, które na nas czekają. Nie wierzcie\, że zamiana pragmatyki podniesie nasz prestiż i przyciągnie do zawodu młodych nauczycieli. Nie róbcie zakupów na konto przyszłego wzrostu wynagrodzeń\, bo system Czarnka to wynagrodzenie gwarantowane okupione zwiększeniem pensum i odebraniem wielu dodatków oraz wynagrodzenie negocjowane. Ale aby negocjować\, trzeba mieć na to pieniądze\, a tych pieniędzy nie ma w budżecie. I to jest to oszustwo – podkreśla Krzysztof Baszczyński\, wiceprezes ZG ZNP przed posiedzeniem Zespołu ds. statusu zawodowego pracowników oświaty\, które odbędzie się w piątek 22 października.
URL:https://znp.edu.pl/impreza/posiedzenie-zespolu-ds-statusu-zawodowego-pracownikow-oswiaty-2/
ATTACH;FMTTYPE=image/png:https://znp.edu.pl/assets/uploads/2021/10/znp_sm_post_dziesiatka_dla_nauczycieli_2-1.png
END:VEVENT
BEGIN:VEVENT
DTSTART;TZID=UTC:20211023T090000
DTEND;TZID=UTC:20211023T113000
DTSTAMP:20260425T011147
CREATED:20211022T114552Z
LAST-MODIFIED:20211022T114944Z
UID:10000534-1634979600-1634988600@znp.edu.pl
SUMMARY:XVIII Dzień Związkowca w Pawłowicach na Śląsku
DESCRIPTION:W sobotę 23 października odbędzie się XVIII Dzień Związkowca połączony z nadaniem Sztandaru Oddziałowi ZNP w Pawłowicach (woj. śląskie). Patronat honorowy nad wydarzeniem objęli: \n\nprezes ZNP Sławomir Broniarz\,\nprezes Okręgu Śląskiego ZNP Jadwiga Aleksandra Rezler\noraz prezes Oddziału ZNP w Pawłowicach Monika Klyszcz-Kaczmarek.
URL:https://znp.edu.pl/impreza/xviii-dzien-zwiazkowca-w-pawlowicach-na-slasku/
ATTACH;FMTTYPE=image/jpeg:https://znp.edu.pl/assets/uploads/2021/10/247277145_959453141341332_2998328321493507762_n.jpg
END:VEVENT
END:VCALENDAR