BEGIN:VCALENDAR
VERSION:2.0
PRODID:-//ZNP - ECPv6.11.2.1//NONSGML v1.0//EN
CALSCALE:GREGORIAN
METHOD:PUBLISH
X-ORIGINAL-URL:https://znp.edu.pl
X-WR-CALDESC:Events for ZNP
REFRESH-INTERVAL;VALUE=DURATION:PT1H
X-Robots-Tag:noindex
X-PUBLISHED-TTL:PT1H
BEGIN:VTIMEZONE
TZID:UTC
BEGIN:STANDARD
TZOFFSETFROM:+0000
TZOFFSETTO:+0000
TZNAME:UTC
DTSTART:20210101T000000
END:STANDARD
END:VTIMEZONE
BEGIN:VEVENT
DTSTART;TZID=UTC:20211108T103000
DTEND;TZID=UTC:20211108T230000
DTSTAMP:20260424T231137
CREATED:20211107T123606Z
LAST-MODIFIED:20211107T123606Z
UID:10000535-1636367400-1636412400@znp.edu.pl
SUMMARY:Briefing prasowy
DESCRIPTION:Zapraszamy na briefing prasowy Sławomira Broniarza\, prezesa ZNP oraz Donalda Tuska\, przewodniczącego Platformy Obywatelskiej. \nW briefingu wezmą udział także posłanki PO – Krystyna Szumilas i Kinga Gajewska oraz wiceprezesi ZG ZNP Krzysztof Baszczyński i Grzegorz Gruchlik. \nBriefing odbędzie się po spotkaniu przedstawicieli PO z członkami Prezydium ZG ZNP i po rozmowie na temat aktualnej sytuacji w edukacji. \nTermin: 8.11.2021\, godz. 10.30 \nMiejsce: Europejskie Centrum Solidarności\, pl. Solidarności 1\, Gdańsk (tuż przed wejściem głównym do budynku) \nTemat: Aktualna sytuacja w oświacie
URL:https://znp.edu.pl/impreza/briefing-prasowy/
LOCATION:Gdańsk\, Europejskie Centrum Solidarności
ATTACH;FMTTYPE=image/jpeg:https://znp.edu.pl/assets/uploads/2018/01/ikona-ZNP-media.jpg
END:VEVENT
BEGIN:VEVENT
DTSTART;TZID=UTC:20211118T100000
DTEND;TZID=UTC:20211118T150000
DTSTAMP:20260424T231137
CREATED:20211117T124004Z
LAST-MODIFIED:20211117T130745Z
UID:10000536-1637229600-1637247600@znp.edu.pl
SUMMARY:Wydarzenia medialne ZNP 18 listopada
DESCRIPTION:  \n\nBriefing prasowy ZNP i KP Lewica po wspólnym spotkaniu. Godz. 10.05 – Sejm\n\n  \n\nKonferencja prasowa ZNP i FZZ na temat negocjacji z ministrem Przemysławem Czarnkiem i obywatelskiej inicjatywy „Godne płace i wysoki prestiż nauczycieli” z udziałem prezesa ZNP Sławomira Broniarza i przewodniczącego WZZ „Forum – Oświata” Sławomira Wittkowicza. Godz. 11.15 – przed gmachem MEiN\n\n  \n\nZłożenie 250 tysięcy podpisów pod obywatelską inicjatywą ustawodawczą „Godne płace i wysoki prestiż nauczycieli”\, zakładającą powiązanie wynagrodzeń nauczycieli z przeciętnym wynagrodzeniem w gospodarce narodowej. Godz. 12.00 – Biuro podawcze Sejmu\, od ul. Frascati\n\n  \n\nSpotkanie kierownictwa ZNP z Władysławem Kosiniakiem – Kamyszem\, prezesem PSL i przewodniczącym KP Koalicja Polska. Godz. 14.00 – PSL\, ul. Piękna 3A
URL:https://znp.edu.pl/impreza/wydarzenia-medialne-znp-18-listopada-2021-r/
ATTACH;FMTTYPE=image/jpeg:https://znp.edu.pl/assets/uploads/2021/04/600x280px_aktualnosci_pole-ochronne.jpg
END:VEVENT
BEGIN:VEVENT
DTSTART;TZID=UTC:20211118T120000
DTEND;TZID=UTC:20211118T123000
DTSTAMP:20260424T231137
CREATED:20211117T131702Z
LAST-MODIFIED:20211117T131702Z
UID:10000537-1637236800-1637238600@znp.edu.pl
SUMMARY:Sejm: Złożenie podpisów pod inicjatywą „Godne płace i wysoki prestiż nauczycieli”
DESCRIPTION:Złożenie 250 tysięcy podpisów pod obywatelską inicjatywą ustawodawczą „Godne płace i wysoki prestiż nauczycieli”\, zakładającą powiązanie wynagrodzeń nauczycieli z przeciętnym wynagrodzeniem w gospodarce narodowej. Godz. 12.00 – Biuro podawcze Sejmu\, od ul. Frascati
URL:https://znp.edu.pl/impreza/sejm-zlozenie-podpisow-pod-inicjatywa-godne-place-i-wysoki-prestiz-nauczycieli/
LOCATION:Sejm
ATTACH;FMTTYPE=image/jpeg:https://znp.edu.pl/assets/uploads/2021/08/Opinia-ZNP-do-projektu-ustawy-o-zmianie-ustawy-–-Prawo-oswiatowe-1.jpg
END:VEVENT
BEGIN:VEVENT
DTSTART;TZID=UTC:20211125T080000
DTEND;TZID=UTC:20211125T170000
DTSTAMP:20260424T231137
CREATED:20211125T110505Z
LAST-MODIFIED:20211125T110559Z
UID:10000779-1637827200-1637859600@znp.edu.pl
SUMMARY:Międzynarodowy Dzień Eliminacji Przemocy wobec Kobiet
DESCRIPTION:Polecamy kampanię European Trade Union Committee for Education (@ETUCE_CSEE) nawołującą do przyjęcia dyrektywy UE ws. zapobiegania i zwalczania wszelkich form przemocy ze względu na płeć w szczególności w miejscu pracy. \n#16Days #RatifyC190 #EndSRGBV \n@daveswords
URL:https://znp.edu.pl/impreza/miedzynarodowy-dzien-eliminacji-przemocy-wobec-kobiet/
ATTACH;FMTTYPE=image/jpeg:https://znp.edu.pl/assets/uploads/2021/11/SM_image_IDEVW_Tw-scaled.jpg
END:VEVENT
BEGIN:VEVENT
DTSTART;TZID=UTC:20211126T100000
DTEND;TZID=UTC:20211126T123000
DTSTAMP:20260424T231137
CREATED:20211124T112421Z
LAST-MODIFIED:20211125T101603Z
UID:10000778-1637920800-1637929800@znp.edu.pl
SUMMARY:Konferencja: Edukacja klimatyczna
DESCRIPTION:„Edukacja klimatyczna jako narzędzie transformacji klimatycznej z perspektywy Śląska i Ślązaków. Zorganizujmy się sami!” \nSeminarium odbędzie się w Katowicach. Miasto to było gospodarzem szczytu klimatycznego COP24 w 2018 roku i jest stolicą regionu\, którego gospodarka opiera się na wydobyciu węgla. Jego mieszkańcy są z jednej strony najbardziej świadomi zagrożeń związanych z degradacją środowiska i jednocześnie pełni obaw przed utratą pracy wynikającą z zamykania kopalń. Nawiązanie dialogu ma służyć wypracowaniu wspólnych rozwiązań dla zrównoważonego rozwoju regionu\, zwrócić uwagę na obawy i oczekiwania młodych ludzi o przyszłość\, zainicjować kampanię edukacyjną o zmianach klimatu\, która jednocześnie będzie stanowiła forum dialogu o tym\, jak dokonać transformacji w życiu indywidualnych mieszkańców\, w którym oni sami będą podmiotem a nie przedmiotem zmian. \nDyskusja będzie koncentrowała się wokół głównych tematów: \nA. transformacja klimatyczna z perspektywy pracobiorców \nB. wyzwania klimatyczne regionu \nC. edukacja jako narzędzie transformacji klimatycznej \nD. możliwości wdrożenia działań \nKatowice\, siedziba Zarządu Okręgu Śląskiego ZNP\, ul. Starowiejska 11 \nOrganizatorzy: ZNP\, ZGG\, FES i CID \nTransmisja live: Facebook @znpedupl \n Link do spotkania za pośrednictwem platformy ZOOM: https://zoom.us/j/96171289353 \nKonferencja: Edukacja klimatyczna \n \n  \n  
URL:https://znp.edu.pl/impreza/seminarium-edukacja-klimatyczna/
CATEGORIES:Imprezy inne
ATTACH;FMTTYPE=image/png:https://znp.edu.pl/assets/uploads/2021/11/fb_cover_wydarzenia_edukacja-klimatyczna_3000.png
END:VEVENT
END:VCALENDAR