BEGIN:VCALENDAR
VERSION:2.0
PRODID:-//ZNP - ECPv6.11.2.1//NONSGML v1.0//EN
CALSCALE:GREGORIAN
METHOD:PUBLISH
X-ORIGINAL-URL:https://znp.edu.pl
X-WR-CALDESC:Events for ZNP
REFRESH-INTERVAL;VALUE=DURATION:PT1H
X-Robots-Tag:noindex
X-PUBLISHED-TTL:PT1H
BEGIN:VTIMEZONE
TZID:UTC
BEGIN:STANDARD
TZOFFSETFROM:+0000
TZOFFSETTO:+0000
TZNAME:UTC
DTSTART:20220101T000000
END:STANDARD
END:VTIMEZONE
BEGIN:VEVENT
DTSTART;TZID=UTC:20220104T110000
DTEND;TZID=UTC:20220104T170000
DTSTAMP:20260424T193530
CREATED:20220103T144800Z
LAST-MODIFIED:20220103T150423Z
UID:10000785-1641294000-1641315600@znp.edu.pl
SUMMARY:Lex Czarnek
DESCRIPTION:godz. 11:00 Sejm – konferencja prasowa “Wolnej Szkoły” z udziałem prezesa ZNP Sławomira Broniarza\,\ngodz. 15:00 Sejm – wiceprezes ZG ZNP Krzysztof Baszczyński weźmie udział w posiedzeniu sejmowych Komisji Edukacji\, Nauki i Młodzieży oraz Komisji Obrony Narodowej\, gdzie odbędzie się pierwsze czytanie projektów zmian prawa oświatowego oraz głosowanie\, w wyniku którego komisje przedstawią Sejmowi RP wniosek o: 1) przyjęcie projektu bez poprawek\, 2) przyjęcie projektu z określonymi poprawkami w formie tekstu jednolitego projektu lub 3) odrzucenie projektu\,\ngodz. 15:00 – w czasie posiedzenia komisji – przed Sejmem RP odbędzie się demonstracja nauczycieli\, uczniów\, rodziców\, przedstawicieli środowisk edukacyjnych. Samorządy\, organizacje społeczne\, ZNP\, dyrektorzy\, rodzice i uczniowie staną razem w obronie szkoły przed Lex Czarnek. 
URL:https://znp.edu.pl/impreza/lex-czarnek/
ATTACH;FMTTYPE=image/jpeg:https://znp.edu.pl/assets/uploads/2022/01/FHywbw1XsAQnho0.jpeg
END:VEVENT
BEGIN:VEVENT
DTSTART;TZID=UTC:20220105T080000
DTEND;TZID=UTC:20220105T093000
DTSTAMP:20260424T193530
CREATED:20220103T150309Z
LAST-MODIFIED:20220103T150353Z
UID:10000786-1641369600-1641375000@znp.edu.pl
SUMMARY:Senat: Rozpatrzenie ustawy budżetowej na rok 2022
DESCRIPTION:godz. 8.30 Senat – wiceprezes ZG ZNP Krzysztof Baszczyński weźmie udział w posiedzeniu senackiej Komisji Nauki\, Edukacji i Sportu\, podczas której nastąpi rozpatrzenie ustawy budżetowej na rok 2022 w częściach właściwych przedmiotowemu zakresowi działania komisji (druk senacki nr 601\, druki sejmowe nr 1624\, 1819 i 1819-A): „30 – Oświata i Wychowanie; 82 – Subwencje ogólne dla jednostek samorządu terytorialnego; 83 – Rezerwy celowe; 85 – Budżety wojewodów ogółem”. Przedstawiciel ZNP zaproponuje proedukacyjne poprawki.
URL:https://znp.edu.pl/impreza/senat-rozpatrzenie-ustawy-budzetowej-na-rok-2022/
ATTACH;FMTTYPE=image/jpeg:https://znp.edu.pl/assets/uploads/2021/12/sejm.jpg
END:VEVENT
BEGIN:VEVENT
DTSTART;TZID=UTC:20220118T123000
DTEND;TZID=UTC:20220118T130000
DTSTAMP:20260424T193530
CREATED:20220118T110611Z
LAST-MODIFIED:20220118T110738Z
UID:10000787-1642509000-1642510800@znp.edu.pl
SUMMARY:Nie ma zgody na hejt wobec nauczycieli - zaproszenie na konferencję prasową
DESCRIPTION:Zapraszamy na konferencję prasową prezesa ZNP Sławomira Broniarza \n\nwe wtorek\, 18 stycznia 2022 r. o godz. 12.30\nw siedzibie ZNP przy ul. Smulikowskiego 6/8\, I piętro.\n\nTEMAT: Nie ma zgody na hejt wobec nauczycieli
URL:https://znp.edu.pl/impreza/nie-ma-zgody-na-hejt-wobec-nauczycieli-zaproszenie-na-konferencje-prasowa-znp/
ATTACH;FMTTYPE=image/png:https://znp.edu.pl/assets/uploads/2022/01/znp_sm_post_styczen-nr-4-1.png
END:VEVENT
BEGIN:VEVENT
DTSTART;TZID=UTC:20220124T140000
DTEND;TZID=UTC:20220124T170000
DTSTAMP:20260424T193530
CREATED:20220124T120323Z
LAST-MODIFIED:20220124T120821Z
UID:10000543-1643032800-1643043600@znp.edu.pl
SUMMARY:Wysłuchanie publiczne dotyczące tzw. lex Wójcik
DESCRIPTION:W poniedziałek\, 24 stycznia 2022 r. o godz. 14:00 odbędzie się w Sejmie wysłuchanie publiczne zorganizowane przez klub parlamentarny Koalicji Obywatelskiej dotyczące tzw. lex Wójcik\, czyli rządowego projektu nowelizacji Prawa oświatowego. \nTemat: Zmiana prawa oświatowego – Lex Wójcik. Nowy bat na dyrektorów \nW wysłuchaniu weźmie udział wiceprezes ZG ZNP Krzysztof Baszczyński\, który przedstawi opinię ZNP na temat tego projektu. \nWysłuchanie można oglądać online na stronach organizatorów: @PlatformaNews \nTransmisja ? \nhttps://www.facebook.com/PlatformaNews \nOPINIA ZNP \nOpinia ZNP ws. projektu ustawy o zmianie ustawy Prawo oświatowe \n 
URL:https://znp.edu.pl/impreza/14539/
CATEGORIES:Webinarium
ATTACH;FMTTYPE=image/jpeg:https://znp.edu.pl/assets/uploads/2022/01/Projekt-bez-tytulu-7.jpg
END:VEVENT
BEGIN:VEVENT
DTSTART;TZID=UTC:20220124T143000
DTEND;TZID=UTC:20220124T160000
DTSTAMP:20260424T193530
CREATED:20220124T114202Z
LAST-MODIFIED:20220124T114202Z
UID:10000538-1643034600-1643040000@znp.edu.pl
SUMMARY:Webinar: Wszystko\, co musisz wiedzieć o Nowym Ładzie 
DESCRIPTION:Zapraszamy nauczycieli i pracowników oświaty na bezpłatny webinar: \nWszystko\, co musisz wiedzieć o Nowym Ładzie  \nGdzie: TEAMS \nJak: Zgłoszenie i wybrany termin należy wysłać na adres: znpwebinar@znp.edu.pl \nSzkolenie prowadzi prawnik Krzysztof Stradomski. \nPodczas webinaru poruszona zostanie tematyka najistotniejszych zmian dla nauczycieli i pracowników wynikających z reformy systemu podatkowego. Szczególna uwaga zostanie położona na kwestie: \n\nulgi dla klasy średniej\,\nzmian w zasadach określania wysokości zaliczki na podatek dochodowy\,\nzatrudnienia w więcej niż jednej szkole\,\nograniczenia negatywnych skutków ww. reformy w kontekście wynagrodzenia za godziny ponadwymiarowe i dodatkowego wynagrodzenia rocznego.\n\nUczestnicy i uczestniczki będą mogli zadawać pytania!   \n24 stycznia: g. 14:30 – 16:00 – zgłoszenia można wysyłać już teraz na adres: znpwebinar@znp.edu.pl \nPozostałe terminy: \n26 stycznia: g. 8:30 – 10:00 oraz g. 18:30 – 20:00 – zgłoszenia można wysyłać już teraz na adres: znpwebinar@znp.edu.pl \n31 stycznia: g. 8:00 – 9:30 – nabór wkrótce \n1 lutego: g. 18:30 – 20:00 – nabór wkrótce
URL:https://znp.edu.pl/impreza/webinar-wszystko-co-musisz-wiedziec-o-nowym-ladzie/
ATTACH;FMTTYPE=image/png:https://znp.edu.pl/assets/uploads/2022/01/webinar_dla_nauczycieli-i-pracownikow-oswiaty.png
END:VEVENT
BEGIN:VEVENT
DTSTART;TZID=UTC:20220126T083000
DTEND;TZID=UTC:20220126T220000
DTSTAMP:20260424T193530
CREATED:20220124T114342Z
LAST-MODIFIED:20220124T114342Z
UID:10000539-1643185800-1643234400@znp.edu.pl
SUMMARY:Webinar: Wszystko\, co musisz wiedzieć o Nowym Ładzie 
DESCRIPTION:Zapraszamy nauczycieli i pracowników oświaty na bezpłatny webinar: \nWszystko\, co musisz wiedzieć o Nowym Ładzie  \nGdzie: TEAMS \nJak: Zgłoszenie i wybrany termin należy wysłać na adres: znpwebinar@znp.edu.pl \nSzkolenie prowadzi prawnik Krzysztof Stradomski. \nPodczas webinaru poruszona zostanie tematyka najistotniejszych zmian dla nauczycieli i pracowników wynikających z reformy systemu podatkowego. Szczególna uwaga zostanie położona na kwestie: \n\nulgi dla klasy średniej\,\nzmian w zasadach określania wysokości zaliczki na podatek dochodowy\,\nzatrudnienia w więcej niż jednej szkole\,\nograniczenia negatywnych skutków ww. reformy w kontekście wynagrodzenia za godziny ponadwymiarowe i dodatkowego wynagrodzenia rocznego.\n\nUczestnicy i uczestniczki będą mogli zadawać pytania!   \n  \n26 stycznia: g. 8:30 – 10:00 oraz g. 18:30 – 20:00 – zgłoszenia można wysyłać już teraz na adres: znpwebinar@znp.edu.pl \n  \n31 stycznia: g. 8:00 – 9:30 – nabór wkrótce \n1 lutego: g. 18:30 – 20:00 – nabór wkrótce
URL:https://znp.edu.pl/impreza/webinar-wszystko-co-musisz-wiedziec-o-nowym-ladzie-2/
CATEGORIES:Webinarium
ATTACH;FMTTYPE=image/png:https://znp.edu.pl/assets/uploads/2022/01/webinar_dla_nauczycieli-i-pracownikow-oswiaty.png
END:VEVENT
BEGIN:VEVENT
DTSTART;TZID=UTC:20220126T183000
DTEND;TZID=UTC:20220126T200000
DTSTAMP:20260424T193530
CREATED:20220124T114500Z
LAST-MODIFIED:20220124T114500Z
UID:10000540-1643221800-1643227200@znp.edu.pl
SUMMARY:Webinar: Wszystko\, co musisz wiedzieć o Nowym Ładzie
DESCRIPTION:Zapraszamy nauczycieli i pracowników oświaty na bezpłatny webinar: \nWszystko\, co musisz wiedzieć o Nowym Ładzie  \nGdzie: TEAMS \nJak: Zgłoszenie i wybrany termin należy wysłać na adres: znpwebinar@znp.edu.pl \nSzkolenie prowadzi prawnik Krzysztof Stradomski. \nPodczas webinaru poruszona zostanie tematyka najistotniejszych zmian dla nauczycieli i pracowników wynikających z reformy systemu podatkowego. Szczególna uwaga zostanie położona na kwestie: \n\nulgi dla klasy średniej\,\nzmian w zasadach określania wysokości zaliczki na podatek dochodowy\,\nzatrudnienia w więcej niż jednej szkole\,\nograniczenia negatywnych skutków ww. reformy w kontekście wynagrodzenia za godziny ponadwymiarowe i dodatkowego wynagrodzenia rocznego.\n\nUczestnicy i uczestniczki będą mogli zadawać pytania!   \n  \n26 stycznia: g. 18:30 – 20:00 – zgłoszenia można wysyłać już teraz na adres: znpwebinar@znp.edu.pl \n31 stycznia: g. 8:00 – 9:30 – nabór wkrótce \n1 lutego: g. 18:30 – 20:00 – nabór wkrótce
URL:https://znp.edu.pl/impreza/webinar-wszystko-co-musisz-wiedziec-o-nowym-ladzie-3/
CATEGORIES:Webinarium
ATTACH;FMTTYPE=image/png:https://znp.edu.pl/assets/uploads/2022/01/webinar_dla_nauczycieli-i-pracownikow-oswiaty.png
END:VEVENT
BEGIN:VEVENT
DTSTART;TZID=UTC:20220131T080000
DTEND;TZID=UTC:20220131T093000
DTSTAMP:20260424T193530
CREATED:20220124T114651Z
LAST-MODIFIED:20220127T130203Z
UID:10000541-1643616000-1643621400@znp.edu.pl
SUMMARY:Webinar: Wszystko\, co musisz wiedzieć o Nowym Ładzie
DESCRIPTION:Zapraszamy nauczycieli i pracowników oświaty na bezpłatny webinar: \nWszystko\, co musisz wiedzieć o Nowym Ładzie  \nGdzie: TEAMS \nJak: Zgłoszenie i wybrany termin należy wysłać na adres: znpwebinar@znp.edu.pl \nSzkolenie prowadzi prawnik Krzysztof Stradomski. \nPodczas webinaru poruszona zostanie tematyka najistotniejszych zmian dla nauczycieli i pracowników wynikających z reformy systemu podatkowego. Szczególna uwaga zostanie położona na kwestie: \n\nulgi dla klasy średniej\,\nzmian w zasadach określania wysokości zaliczki na podatek dochodowy\,\nzatrudnienia w więcej niż jednej szkole\,\nograniczenia negatywnych skutków ww. reformy w kontekście wynagrodzenia za godziny ponadwymiarowe i dodatkowego wynagrodzenia rocznego.\n\nUczestnicy i uczestniczki będą mogli zadawać pytania!   \n  \n31 stycznia: g. 8:00 – 9:30 – zgłoszenie należy wysłać na adres: znpwebinar@znp.edu.pl \n1 lutego: g. 18:30 – 20:00 – zgłoszenie należy wysłać na adres: znpwebinar@znp.edu.pl
URL:https://znp.edu.pl/impreza/webinar-wszystko-co-musisz-wiedziec-o-nowym-ladzie-4/
CATEGORIES:Webinarium
ATTACH;FMTTYPE=image/png:https://znp.edu.pl/assets/uploads/2022/01/webinar_dla_nauczycieli-i-pracownikow-oswiaty2.png
END:VEVENT
END:VCALENDAR