BEGIN:VCALENDAR
VERSION:2.0
PRODID:-//ZNP - ECPv6.11.2.1//NONSGML v1.0//EN
CALSCALE:GREGORIAN
METHOD:PUBLISH
X-ORIGINAL-URL:https://znp.edu.pl
X-WR-CALDESC:Events for ZNP
REFRESH-INTERVAL;VALUE=DURATION:PT1H
X-Robots-Tag:noindex
X-PUBLISHED-TTL:PT1H
BEGIN:VTIMEZONE
TZID:UTC
BEGIN:STANDARD
TZOFFSETFROM:+0000
TZOFFSETTO:+0000
TZNAME:UTC
DTSTART:20220101T000000
END:STANDARD
END:VTIMEZONE
BEGIN:VEVENT
DTSTART;TZID=UTC:20220201T183000
DTEND;TZID=UTC:20220201T200000
DTSTAMP:20260424T162628
CREATED:20220124T114747Z
LAST-MODIFIED:20220127T130255Z
UID:10000542-1643740200-1643745600@znp.edu.pl
SUMMARY:Webinar: Wszystko\, co musisz wiedzieć o Nowym Ładzie
DESCRIPTION:Zapraszamy nauczycieli i pracowników oświaty na bezpłatny webinar: \nWszystko\, co musisz wiedzieć o Nowym Ładzie  \nGdzie: TEAMS \nJak: Zgłoszenie i wybrany termin należy wysłać na adres: znpwebinar@znp.edu.pl \nSzkolenie prowadzi prawnik Krzysztof Stradomski. \nPodczas webinaru poruszona zostanie tematyka najistotniejszych zmian dla nauczycieli i pracowników wynikających z reformy systemu podatkowego. Szczególna uwaga zostanie położona na kwestie: \n\nulgi dla klasy średniej\,\nzmian w zasadach określania wysokości zaliczki na podatek dochodowy\,\nzatrudnienia w więcej niż jednej szkole\,\nograniczenia negatywnych skutków ww. reformy w kontekście wynagrodzenia za godziny ponadwymiarowe i dodatkowego wynagrodzenia rocznego.\n\nUczestnicy i uczestniczki będą mogli zadawać pytania!   \n  \n1 lutego: g. 18:30 – 20:00 – zgłoszenie należy wysłać na adres: znpwebinar@znp.edu.pl
URL:https://znp.edu.pl/impreza/webinar-wszystko-co-musisz-wiedziec-o-nowym-ladzie-5/
CATEGORIES:Webinarium
ATTACH;FMTTYPE=image/png:https://znp.edu.pl/assets/uploads/2022/01/webinar_dla_nauczycieli-i-pracownikow-oswiaty2.png
END:VEVENT
BEGIN:VEVENT
DTSTART;TZID=UTC:20220222T143000
DTEND;TZID=UTC:20220222T153000
DTSTAMP:20260424T162628
CREATED:20220218T105057Z
LAST-MODIFIED:20220218T105057Z
UID:10000544-1645540200-1645543800@znp.edu.pl
SUMMARY:Pikieta ZNP: Nadzwyczajna Rada Pedagogiczna nt. lex Czarnek
DESCRIPTION:Zapraszamy na pikietę Związku Nauczycielstwa Polskiego we wtorek\, 22 lutego br. w godz. 14.30 – 15.30 przed Pałacem Prezydenckim w Warszawie poświęconą ustawie Prawo oświatowe (lex Czarnek)\, która została skierowana do podpisu Prezydenta RP. \nTo ostatni moment\, by próbować powstrzymać wejście w życie nowych przepisów. Podczas Rady Pedagogicznej przedstawimy argumenty\, dlaczego warto zawetować ustawę lex Czarnek. \nNa Nadzwyczajną Radę Pedagogiczną przed Pałacem Prezydenckim zapraszamy pana prezydenta Andrzeja Dudę i pierwszą damę Agatę Kornhauser-Dudę. \nWierzymy\, że Prezydent Andrzej Duda zawetuje ustawę nowelizującą prawo oświatowe i tym samym przychyli się do głosu wielu środowisk\, w tym Związku Nauczycielstwa Polskiego czy akcji Wolna Szkoła\, negatywnie opiniujących zawarte w niej niekorzystne dla szkoły i jej uczniów rozwiązania. \nZapraszamy nauczycieli\, pracowników oświaty\, rodziców\, dziadków i babcie oraz młodych ludzi\, którzy chcą demokratycznej szkoły opartej na zaufaniu a nie strachu.
URL:https://znp.edu.pl/impreza/pikieta-znp-nadzwyczajna-rada-pedagogiczna-nt-lex-czarnek/
ATTACH;FMTTYPE=image/jpeg:https://znp.edu.pl/assets/uploads/2022/02/pikieta_lex_czarnek_fb_cover_wydarzenia.jpg
END:VEVENT
END:VCALENDAR