BEGIN:VCALENDAR
VERSION:2.0
PRODID:-//ZNP - ECPv6.11.2.1//NONSGML v1.0//EN
CALSCALE:GREGORIAN
METHOD:PUBLISH
X-WR-CALNAME:ZNP
X-ORIGINAL-URL:https://znp.edu.pl
X-WR-CALDESC:Events for ZNP
REFRESH-INTERVAL;VALUE=DURATION:PT1H
X-Robots-Tag:noindex
X-PUBLISHED-TTL:PT1H
BEGIN:VTIMEZONE
TZID:UTC
BEGIN:STANDARD
TZOFFSETFROM:+0000
TZOFFSETTO:+0000
TZNAME:UTC
DTSTART:20220101T000000
END:STANDARD
END:VTIMEZONE
BEGIN:VEVENT
DTSTART;TZID=UTC:20220301T050000
DTEND;TZID=UTC:20220301T183000
DTSTAMP:20260424T142747
CREATED:20220301T103445Z
LAST-MODIFIED:20220301T104628Z
UID:10000546-1646110800-1646159400@znp.edu.pl
SUMMARY:Jak rozmawiać z dziećmi o wojnie? Webinary dla nauczycieli
DESCRIPTION:Zapraszamy na darmowe webinary dla nauczycieli i rodziców.  \nWtorek 1.03 i środa 2.03 o godz. 17.00. Poprowadzi je Lucyna Kicińska\, ekspertka zajmująca się wspieraniem dorosłych i dzieci w skrajnie trudnych sytuacjach. \nZapraszamy nauczycielki\, nauczycieli\, wychowawczynie\, wychowawców i wszystkich osób\, które pracują z dziećmi i młodzieżą na webinar podczas którego porozmawiamy o tym\, jak rozmawiać z dziećmi o wojnie w Ukrainie.\n\nO czym porozmawiamy?\n\nKiedy i jak podejmować w szkole temat bieżącej sytuacji w Ukrainie?\nEmocje dziecka w obliczu konfliktu zbrojnego.\nDziałania psychologiczno-pedagogiczne skierowane do klas i konkretnych uczniów.\nWsparcie uczniów pochodzenia ukraińskiego.\nBudowanie poczucia sprawstwa i przywracanie poczucia bezpieczeństwa uczniów. Solidarni przeciw wojnie – jak realizować inicjatywy w społeczności szkolnej?\n\nWebinar live odbędzie się na:\n\nFacebooku Fundacji Orange:\n\n (20+) Jak rozmawiać z uczniami i uczennicami o wojnie? Jak wspierać i przywracać poczucie bezpieczeństwa? | Facebook\n\noraz na Clickmeeting\n\n https://fundacjaorange.clickmeeting.com/fundacjaorange.\n\nBędzie dostępny chat a po wydarzeniu również jego nagranie.\n\n\nWEBINAR DLA NAUCZYCIELI I NAUCZYCIELEK  1 marca\, wtorek g.17.00 \nKiedy i jak podejmować w szkole temat bieżącej sytuacji w Ukrainie? Emocje dziecka w obliczu konfliktu zbrojnego. Działania psychologiczno-pedagogiczne skierowane do klas i konkretnych uczniów. Wsparcie uczniów pochodzenia ukraińskiego. Budowanie poczucia sprawstwa i przywracanie poczucia bezpieczeństwa uczniów. Solidarni przeciw wojnie – jak realizować inicjatywy w społeczności szkolnej? \n  \nna Facebooku: https://fb.me/e/3edRc299f \nna Clickmeeting https://fundacjaorange.clickmeeting.com/fundacjaorange \n  \nWEBINAR DLA RODZICÓW I OPIEKUNÓW 2 marca\, środa g.17.00 \nEmocje dziecka i rodzica w obliczu konfliktu zbrojnego.  Co mówić\, a czego nie mówić na temat bieżącej sytuacji w Ukrainie. Jak wspierać dziecko w odzyskaniu poczucia bezpieczeństwa. Rodzinna higiena informacyjna. Gdzie szukać wsparcia? \nNa webinar zaprasza Fundacja Orange i partnerzy: Głos Nauczycielski i Librus 
URL:https://znp.edu.pl/impreza/jak-rozmawiac-z-dziecmi-o-wojnie-webinary-dla-nauczycieli-i-rodzicow/
CATEGORIES:Webinarium
ATTACH;FMTTYPE=image/jpeg:https://znp.edu.pl/assets/uploads/2022/03/274527196_5099581013405627_5787757205191835276_n.jpg
END:VEVENT
BEGIN:VEVENT
DTSTART;TZID=UTC:20220301T090000
DTEND;TZID=UTC:20220301T233000
DTSTAMP:20260424T142747
CREATED:20220228T122747Z
LAST-MODIFIED:20220228T122747Z
UID:10000545-1646125200-1646177400@znp.edu.pl
SUMMARY:Narada prezesów okręgów ZNP
DESCRIPTION:
URL:https://znp.edu.pl/impreza/narada-prezesow-okregow-znp-2/
END:VEVENT
BEGIN:VEVENT
DTSTART;TZID=UTC:20220302T170000
DTEND;TZID=UTC:20220302T183000
DTSTAMP:20260424T142747
CREATED:20220301T103631Z
LAST-MODIFIED:20220301T104857Z
UID:10000547-1646240400-1646245800@znp.edu.pl
SUMMARY:Jak rozmawiać z dziećmi o wojnie? Webinary dla rodziców
DESCRIPTION:Zapraszamy na darmowe webinary dla rodziców. \nPoprowadzi je Lucyna Kicińska\, ekspertka zajmująca się wspieraniem dorosłych i dzieci w skrajnie trudnych sytuacjach. \nZapraszamy nauczycielki\, nauczycieli\, wychowawczynie\, wychowawców i wszystkich osób\, które pracują z dziećmi i młodzieżą na webinar podczas którego porozmawiamy o tym\, jak rozmawiać z dziećmi o wojnie w Ukrainie.\n\nO czym porozmawiamy?\n\nKiedy i jak podejmować w szkole temat bieżącej sytuacji w Ukrainie?\nEmocje dziecka w obliczu konfliktu zbrojnego.\nDziałania psychologiczno-pedagogiczne skierowane do klas i konkretnych uczniów.\nWsparcie uczniów pochodzenia ukraińskiego.\nBudowanie poczucia sprawstwa i przywracanie poczucia bezpieczeństwa uczniów.\nSolidarni przeciw wojnie – jak realizować inicjatywy w społeczności szkolnej?\n\n\nWebinar live odbędzie się na:\n\nFacebooku Fundacji Orange: \n\n(20+) Jak rozmawiać z uczniami i uczennicami o wojnie? Jak wspierać i przywracać poczucie bezpieczeństwa? | Facebook\n\n\noraz na Clickmeeting \n\nhttps://fundacjaorange.clickmeeting.com/fundacjaorange.\n\nBędzie dostępny chat\, a po wydarzeniu również jego nagranie.\n\n\nWEBINAR DLA RODZICÓW I OPIEKUNÓW 2 marca\, środa g.17.00 \nEmocje dziecka i rodzica w obliczu konfliktu zbrojnego.  Co mówić\, a czego nie mówić na temat bieżącej sytuacji w Ukrainie. Jak wspierać dziecko w odzyskaniu poczucia bezpieczeństwa. Rodzinna higiena informacyjna. Gdzie szukać wsparcia? \n\nNa webinar zaprasza Fundacja Orange i partnerzy: Głos Nauczycielski i Librus
URL:https://znp.edu.pl/impreza/jak-rozmawiac-z-dziecmi-o-wojnie-webinary-dla-nauczycieli-i-rodzicow-2/
CATEGORIES:Webinarium
ATTACH;FMTTYPE=image/jpeg:https://znp.edu.pl/assets/uploads/2022/03/274756006_5099568750073520_5248211818288972803_n.jpg
END:VEVENT
BEGIN:VEVENT
DTSTART;TZID=UTC:20220314T110000
DTEND;TZID=UTC:20220314T170000
DTSTAMP:20260424T142747
CREATED:20220314T100808Z
LAST-MODIFIED:20220314T100808Z
UID:10000788-1647255600-1647277200@znp.edu.pl
SUMMARY:Prezydium ZG ZNP
DESCRIPTION:
URL:https://znp.edu.pl/impreza/prezydium-zg-znp-3/
LOCATION:ul. Smulikowskiego 6/8\, 00-389 Warszawa
END:VEVENT
BEGIN:VEVENT
DTSTART;TZID=UTC:20220316T113000
DTEND;TZID=UTC:20220316T120000
DTSTAMP:20260424T142747
CREATED:20220315T144705Z
LAST-MODIFIED:20220315T144705Z
UID:10000789-1647430200-1647432000@znp.edu.pl
SUMMARY:Konferencja prasowa prezesa ZNP
DESCRIPTION:Zapraszamy na konferencję prasową prezesa ZNP Sławomira Broniarza \n\nw środę\, 16 marca 2022 r. o godz. 11.30\nw siedzibie ZNP przy ul. Smulikowskiego 6/8\, I piętro.\n\nTEMAT: Czego pilnie potrzebuje polska szkoła w obecnej sytuacji?
URL:https://znp.edu.pl/impreza/konferencja-prasowa-prezesa-znp/
ATTACH;FMTTYPE=image/jpeg:https://znp.edu.pl/assets/uploads/2021/10/244466451_897764094474904_6541130658826632179_n.jpg
END:VEVENT
BEGIN:VEVENT
DTSTART;TZID=UTC:20220317T080000
DTEND;TZID=UTC:20220317T170000
DTSTAMP:20260424T142747
CREATED:20220317T104911Z
LAST-MODIFIED:20220317T105001Z
UID:10000791-1647504000-1647536400@znp.edu.pl
SUMMARY:Spotkanie ze szwedzkimi nauczycielami
DESCRIPTION:Wizyta studyjna przedstawicieli szwedzkiego związku nauczycieli w Zarządzie Głównym ZNP w Warszawie poświęcona dialogowi społecznemu w Polsce i obecnej sytuacji w oświacie związanej z przyjęciem i kształceniem dzieci z Ukrainy w polskich szkołach\, przedszkolach i placówkach oświatowych.
URL:https://znp.edu.pl/impreza/spotkanie-ze-szwedzkimi-nauczycielami/
LOCATION:ul. Smulikowskiego 6/8\, 00-389 Warszawa
END:VEVENT
BEGIN:VEVENT
DTSTART;TZID=UTC:20220318T072000
DTEND;TZID=UTC:20220318T080000
DTSTAMP:20260424T142747
CREATED:20220317T155744Z
LAST-MODIFIED:20220317T170550Z
UID:10000792-1647588000-1647590400@znp.edu.pl
SUMMARY:ZNP w TOK FM
DESCRIPTION:W piątek\, 18 marca 2022 r. prezes ZNP Sławomir Broniarz będzie gościem radia TOK FM około godz. 7.20. Polecamy!
URL:https://znp.edu.pl/impreza/znp-w-tok-fm/
ATTACH;FMTTYPE=image/jpeg:https://znp.edu.pl/assets/uploads/2022/03/Jestes-dla-mnie-najwazniejsza.jpg
END:VEVENT
BEGIN:VEVENT
DTSTART;TZID=UTC:20220320T080000
DTEND;TZID=UTC:20220321T170000
DTSTAMP:20260424T142747
CREATED:20220318T094147Z
LAST-MODIFIED:20220318T094945Z
UID:10000793-1647763200-1647882000@znp.edu.pl
SUMMARY:Wizyta sekretarza generalnego EI w ZNP
DESCRIPTION:Wizyta studyjna sekretarza generalnego Education International (EI) – Davida Edwards’a w Zarządzie Głównym ZNP w Warszawie związana z wojną w Ukrainie i sytuacją ukraińskich dzieci. \nZ Davidem Edwards’em spotka się prezes ZNP Sławomir Broniarz.
URL:https://znp.edu.pl/impreza/wizyta-sekretarza-generalnego-ei-w-znp/
ATTACH;FMTTYPE=image/jpeg:https://znp.edu.pl/assets/uploads/2022/03/UmVpcV6ieRw2WsEIvB1uzWzs1xU73eysXiEOUEVP.jpg
END:VEVENT
BEGIN:VEVENT
DTSTART;TZID=UTC:20220323T120000
DTEND;TZID=UTC:20220323T140000
DTSTAMP:20260424T142747
CREATED:20220323T112748Z
LAST-MODIFIED:20220323T113448Z
UID:10000795-1648036800-1648044000@znp.edu.pl
SUMMARY:Sejm: Pierwsze czytanie projektu nowelizacji Karty (podwyżki 4\,4%) z udziałem przedstawiciela ZNP
DESCRIPTION:Pierwsze czytanie poselskiego projektu nowelizacji Karty Nauczyciela (podwyżki 4\,4%) z udziałem wiceprezesa ZG ZNP Krzysztofa Baszczyńskiego \nLIVE na www.sejm.gov.pl \nPosiedzenie sejmowej Komisji Edukacji Nauki i Młodzieży można oglądać na stronie Sejmu. \n 
URL:https://znp.edu.pl/impreza/udzial-przedstawiciela-znp-w-posiedzeniu-sejmowej-komisji/
ATTACH;FMTTYPE=image/jpeg:https://znp.edu.pl/assets/uploads/2022/03/17-marca-2022-r.-przedstawicielka-ZNP-Edyta-Ksiazek-czlonek-Zarzadu-Glownego-ZNP-wezmie-udzial-w-posiedzeniu-sejmowej-podkomisji-na-temat-przedmiotu-–-Historia-i-Terazniejszosc.-3.jpg
END:VEVENT
BEGIN:VEVENT
DTSTART;TZID=UTC:20220324T090000
DTEND;TZID=UTC:20220324T113000
DTSTAMP:20260424T142747
CREATED:20220323T113235Z
LAST-MODIFIED:20220323T113520Z
UID:10000796-1648112400-1648121400@znp.edu.pl
SUMMARY:Sejm: Pierwsze czytanie rządowego projektu ustawy o systemie oświaty z udziałem przedstawiciela ZNP
DESCRIPTION:Komisja Edukacji\, Nauki i Młodzieży\n\nPierwsze czytanie rządowego projektu ustawy o zmianie ustawy o systemie oświaty oraz niektórych innych ustaw (druk nr 2096) – uzasadnia Minister Edukacji i Nauki. \nLIVE na www.sejm.gov.pl \nPosiedzenie sejmowej Komisji Edukacji Nauki i Młodzieży można oglądać na stronie Sejmu. \nW posiedzeniu weźmie udział przedstawicielka ZNP. \n 
URL:https://znp.edu.pl/impreza/15302/
ATTACH;FMTTYPE=image/jpeg:https://znp.edu.pl/assets/uploads/2018/10/Sejm-foto.jpg
END:VEVENT
BEGIN:VEVENT
DTSTART;TZID=UTC:20220328T190000
DTEND;TZID=UTC:20220328T200000
DTSTAMP:20260424T142747
CREATED:20220317T104307Z
LAST-MODIFIED:20220317T104658Z
UID:10000790-1648494000-1648497600@znp.edu.pl
SUMMARY:Webinarium ZNP: Zakładowy fundusz świadczeń socjalnych
DESCRIPTION:Zapraszamy na bezpłatne webinarium ZNP! \nTermin: 28 marca (poniedziałek)\, godzina 19:00 – 20:00\, TEAMS. \nTemat: Zasady korzystania z zakładowego funduszu świadczeń socjalnych w szkole i placówce oświatowej \nPodczas webinaru dowiesz się: \n\nkto może korzystać z funduszu\,\njakie dokumenty są wymagane\,\no jakie świadczenia możesz się starać\,\njaka jest rola związku zawodowego.\n\nBędzie możliwość zadawania pytań prowadzącemu! \nZapisy: znpwebinar@znp.edu.pl
URL:https://znp.edu.pl/impreza/webinar-znp-zakladowy-fundusz-swiadczen-socjalnych/
CATEGORIES:Webinarium
ATTACH;FMTTYPE=image/png:https://znp.edu.pl/assets/uploads/2022/03/webinar_dla_nauczycieli-i-pracownikow-oswiaty_swiadczenia-socjalne.png
END:VEVENT
BEGIN:VEVENT
DTSTART;TZID=UTC:20220329T070000
DTEND;TZID=UTC:20220329T073000
DTSTAMP:20260424T142747
CREATED:20220328T124910Z
LAST-MODIFIED:20220328T124950Z
UID:10000797-1648537200-1648539000@znp.edu.pl
SUMMARY:ZNP w mediach
DESCRIPTION:Prezes ZNP będzie gościem RADIA ZET około godz. 7.02\, polecamy!
URL:https://znp.edu.pl/impreza/znp-w-mediach/
ATTACH;FMTTYPE=image/jpeg:https://znp.edu.pl/assets/uploads/2022/03/ZNP-w-MEDIACH-Wtorek-29.03-godz.-702-RADIO-ZET.jpg
END:VEVENT
BEGIN:VEVENT
DTSTART;TZID=UTC:20220329T110000
DTEND;TZID=UTC:20220329T143000
DTSTAMP:20260424T142747
CREATED:20220322T150249Z
LAST-MODIFIED:20220322T150249Z
UID:10000794-1648551600-1648564200@znp.edu.pl
SUMMARY:Zarząd Główny ZNP
DESCRIPTION:
URL:https://znp.edu.pl/impreza/zarzad-glowny-znp/
ATTACH;FMTTYPE=image/jpeg:https://znp.edu.pl/assets/uploads/2021/05/f40d1738-1cb1-412f-ab5d-e0c7b861ce98.jpg
END:VEVENT
BEGIN:VEVENT
DTSTART;TZID=UTC:20220329T110000
DTEND;TZID=UTC:20220329T150000
DTSTAMP:20260424T142747
CREATED:20220328T130447Z
LAST-MODIFIED:20220328T130447Z
UID:10000548-1648551600-1648566000@znp.edu.pl
SUMMARY:Rada Dialogu Społecznego z udziałem ZNP
DESCRIPTION:Posiedzenie Rady Dialogu Społecznego z udziałem prezesa ZNP na temat edukacji i pracowników oświaty.
URL:https://znp.edu.pl/impreza/rada-dialogu-spolecznego-z-udzialem-znp/
END:VEVENT
BEGIN:VEVENT
DTSTART;TZID=UTC:20220330T100000
DTEND;TZID=UTC:20220330T103000
DTSTAMP:20260424T142747
CREATED:20220329T115339Z
LAST-MODIFIED:20220329T120556Z
UID:10000549-1648634400-1648636200@znp.edu.pl
SUMMARY:Konferencja prasowa ZNP i FZZ
DESCRIPTION:Zapraszamy na konferencję prasową ZNP i FZZ w środę\, 30 marca 2022 roku o godz.10:00 w siedzibie ZNP na warszawskim Powiślu\, w której wezmą udział: \n– Sławomir Broniarz\, prezes ZNP \n– Sławomir Wittkowicz\, przewodniczący WZZ Forum – Oświata. \nTRANSMISJA LIVE NA FACEBOOKU: @znpedupl \nKonferencja odbędzie się przed posiedzeniem Rady Dialogu Społecznego na temat edukacji. \nW środę\, 30 marca Rada Dialogu Społecznego m.in. z udziałem ministra edukacji zajmie się aktualnymi problemami w oświacie. \nPosiedzenie Rady Dialogu Społecznego rozpocznie się o godz. 11.00 w Centrum Partnerstwa Społecznego Dialog przy ul. Bolesława Limanowskiego 23 w Warszawie.
URL:https://znp.edu.pl/impreza/konferencja-prasowa-znp-i-fzz/
ATTACH;FMTTYPE=image/jpeg:https://znp.edu.pl/assets/uploads/2022/03/ZNP-w-MEDIACH-Wtorek-29.03-godz.-702-RADIO-ZET-3.jpg
END:VEVENT
END:VCALENDAR