BEGIN:VCALENDAR
VERSION:2.0
PRODID:-//ZNP - ECPv6.11.2.1//NONSGML v1.0//EN
CALSCALE:GREGORIAN
METHOD:PUBLISH
X-ORIGINAL-URL:https://znp.edu.pl
X-WR-CALDESC:Events for ZNP
REFRESH-INTERVAL;VALUE=DURATION:PT1H
X-Robots-Tag:noindex
X-PUBLISHED-TTL:PT1H
BEGIN:VTIMEZONE
TZID:UTC
BEGIN:STANDARD
TZOFFSETFROM:+0000
TZOFFSETTO:+0000
TZNAME:UTC
DTSTART:20220101T000000
END:STANDARD
END:VTIMEZONE
BEGIN:VEVENT
DTSTART;TZID=UTC:20220408T080000
DTEND;TZID=UTC:20220515T170000
DTSTAMP:20260424T092336
CREATED:20220407T121551Z
LAST-MODIFIED:20220407T121551Z
UID:10000553-1649404800-1652634000@znp.edu.pl
SUMMARY:Bezpłatny kurs nauczania j. polskiego jako obcego
DESCRIPTION:8 kwietnia rozpoczyna się – organizowany przez Związek Nauczycielstwa Polskiego razem ze specjalistami z Uniwersytetu Kardynała Stefana Wyszyńskiego –  kurs przygotowujący do nauczania języka polskiego jako obcego. \n\nKurs przeznaczony jest dla czynnych zawodowo nauczycieli szkół podstawowych i średnich;\nWykładowcami są doświadczeni nauczyciele akademiccy\, specjaliści z Zakładu Szkoła Języka i Kultury Polskiej dla Cudzoziemców Uniwersytetu Kardynała Stefana Wyszyńskiego w Warszawie\nNa kurs składają się 3 weekendowe sesje realizowane w formule on-line. Program zajęć => link\nUczestniczki i uczestnicy kursu\, którzy wezmą udział we wszystkich sesjach i wykonają przewidziane w programie kursu zadania\, otrzymają certyfikaty potwierdzające ukończenie kursu doskonalącego odpowiadające 7 punktom ECTS\, wydane przez Uniwersytet Kardynała Stefana Wyszyńskiego\nKurs jest bezpłatny\nTerminy sesji: 8 – 10.04 / 22 – 24.04 / 13 – 14.05.\n\nNie prowadzimy już naboru na kurs.
URL:https://znp.edu.pl/impreza/bezplatny-kurs-nauczania-j-polskiego-jako-obcego/
ATTACH;FMTTYPE=image/jpeg:https://znp.edu.pl/assets/uploads/2022/04/ADLA220321_026-scaled.jpg
END:VEVENT
BEGIN:VEVENT
DTSTART;TZID=UTC:20220503T080000
DTEND;TZID=UTC:20220503T170000
DTSTAMP:20260424T092336
CREATED:20220426T133254Z
LAST-MODIFIED:20220426T133326Z
UID:10000798-1651564800-1651597200@znp.edu.pl
SUMMARY:Ukraińskie ABC. Nowy podcast dla uczniów i nauczycieli
DESCRIPTION:Rozpoczynamy nadawanie podcastów o historii Ukrainy\, przygotowanych przez ZNP z redakcją portalu Nowa Europa Wschodnia. \nPrzez najbliższe 5 tygodni będzie można posłuchać Ukraińskiego ABC! W każdym tygodniu (we wtorek i czwartek) opublikujemy dwa nowe odcinki. \nCykl ma stanowić pomocnik dla nauczycielek i nauczycieli ze szkół\, do których dołączyli ukraińscy uczennice i uczniowie. Założyliśmy\, że znajomość historii ich kraju ułatwi wzajemne poznanie i zrozumienie.
URL:https://znp.edu.pl/impreza/ukrainskie-abc-nowy-podcast-dla-uczniow-i-nauczycieli-2/
ATTACH;FMTTYPE=image/jpeg:https://znp.edu.pl/assets/uploads/2022/04/NEW_logo_Ukraina_ZNP-scaled.jpg
END:VEVENT
BEGIN:VEVENT
DTSTART;TZID=UTC:20220515T080000
DTEND;TZID=UTC:20220515T170000
DTSTAMP:20260424T092336
CREATED:20220331T105125Z
LAST-MODIFIED:20220331T105125Z
UID:10000550-1652601600-1652634000@znp.edu.pl
SUMMARY:Konkurs dla maturzystów: 15.05.2022 ostatni dzień zgłaszania prac
DESCRIPTION:Jeśli jesteś tegorocznym maturzystą weź udział w ogłoszonym z inicjatywy Concilium Civitas konkursie na esej / artykuł / reportaż na temat: \nWojna\, po Wojnie: nasz inny świat  \norganizowanym przez Fundację Collegium Civitas i Związek Nauczycielstwa Polskiego! \nTermin nadsyłania prac: 15 maja 2022 r. \n\n Jeśli chcesz za darmo studiować w jednej z najlepszych uczelni niepublicznych w Polsce – w Akademii Leona Koźmińskiego\, Collegium Civitas\, Uniwersytecie SWPS\nJeśli chcesz sie spotkać i dyskutować z profesorami najlepszych uczelni świata: Harvardu\, Oxfordu\, Stanfordu\, Yale\nJeśli chcesz być zaproszony do Młodego Concilium – ekskluzywnego grona twoich rówieśników interesujących się sprawami publicznymi\n\nWEŹ UDZIAŁ W KONKURSIE! \nPLAKAT TUTAJ \nSzczegóły: \nwww.conciliumcivitas.pl \nwww.facebook.com/conciliumcivitas
URL:https://znp.edu.pl/impreza/konkurs-dla-maturzystow-15-05-2022-ostatni-dzien-zglaszania-prac/
ATTACH;FMTTYPE=image/jpeg:https://znp.edu.pl/assets/uploads/2022/03/Konkurs-dla-maturzystow-2022.jpeg
END:VEVENT
BEGIN:VEVENT
DTSTART;TZID=UTC:20220524T153000
DTEND;TZID=UTC:20220524T170000
DTSTAMP:20260424T092336
CREATED:20220523T094513Z
LAST-MODIFIED:20220523T094513Z
UID:10000800-1653406200-1653411600@znp.edu.pl
SUMMARY:Posiedzenie sejmowej komisji edukacji nt. wynagrodzeń w oświacie
DESCRIPTION:We wtorek\, 24 maja o godz. 15.30 odbędzie się posiedzenie sejmowej komisji edukacji zwołane na wniosek grupy posłów na temat wynagrodzeń w oświacie. \nTemat posiedzenia komisji brzmi: „Przedstawienie przez Ministra Edukacji i Nauki Przemysława Czarnka informacji na temat wynagrodzeń nauczycieli i pracowników oświaty.” \nW pracach komisji będzie uczestniczył wiceprezes ZG ZNP Krzysztof Baszczyński. \nPosiedzenie można oglądać online na stronie Sejmu: \niTV Sejm – transmisje – Sejm Rzeczypospolitej Polskiej
URL:https://znp.edu.pl/impreza/posiedzenie-sejmowej-komisji-edukacji-nt-wynagrodzen-w-oswiacie/
END:VEVENT
END:VCALENDAR