BEGIN:VCALENDAR
VERSION:2.0
PRODID:-//ZNP - ECPv6.11.2.1//NONSGML v1.0//EN
CALSCALE:GREGORIAN
METHOD:PUBLISH
X-WR-CALNAME:ZNP
X-ORIGINAL-URL:https://znp.edu.pl
X-WR-CALDESC:Events for ZNP
REFRESH-INTERVAL;VALUE=DURATION:PT1H
X-Robots-Tag:noindex
X-PUBLISHED-TTL:PT1H
BEGIN:VTIMEZONE
TZID:UTC
BEGIN:STANDARD
TZOFFSETFROM:+0000
TZOFFSETTO:+0000
TZNAME:UTC
DTSTART:20220101T000000
END:STANDARD
END:VTIMEZONE
BEGIN:VEVENT
DTSTART;TZID=UTC:20220602T110000
DTEND;TZID=UTC:20220602T133000
DTSTAMP:20260424T072629
CREATED:20220601T090839Z
LAST-MODIFIED:20220601T090839Z
UID:10000801-1654167600-1654176600@znp.edu.pl
SUMMARY:Senat: Konferencja pt. „Porozumienie na rzecz historii wolności”
DESCRIPTION:W  czwartek 2 czerwca br. o godz. 11.00 w sali posiedzeń Senatu rozpocznie się konferencja organizowana przez Marszałka Senatu RP prof. Tomasza Grodzkiego  pt. „Porozumienie na rzecz historii wolności”. Konferencję otworzy Marszałek Senatu RP. Weźmie w niej udział Edyta Książek (Zarząd Główny ZNP)\, która opowie o obywatelskiej roli nauczyciela historii. \nProgram konferencji
URL:https://znp.edu.pl/impreza/senat-konferencja-pt-porozumienie-na-rzecz-historii-wolnosci/
LOCATION:Senat
CATEGORIES:Imprezy inne
ATTACH;FMTTYPE=image/jpeg:https://znp.edu.pl/assets/uploads/2021/01/Senat-foto-Kancelaria-Senatu.jpg
END:VEVENT
BEGIN:VEVENT
DTSTART;TZID=UTC:20220606T110000
DTEND;TZID=UTC:20220606T150000
DTSTAMP:20260424T072629
CREATED:20220601T131941Z
LAST-MODIFIED:20220601T131941Z
UID:10000802-1654513200-1654527600@znp.edu.pl
SUMMARY:Sejm: Zespół ds. Nauczycieli\, Nauczycielek i Osób Pracujących w Oświacie
DESCRIPTION:Parlamentarny Zespół ds. Nauczycieli\, Nauczycielek i Osób Pracujących w Oświacie (sala nr 111\, bud. U) \n\n(Nie)bezpieczna przyszłość edukacji publicznej w Polsce?\nDebata z udziałem przedstawicieli ZNP.
URL:https://znp.edu.pl/impreza/sejm-zespol-ds-nauczycieli-nauczycielek-i-osob-pracujacych-w-oswiacie/
CATEGORIES:Imprezy inne
ATTACH;FMTTYPE=image/jpeg:https://znp.edu.pl/assets/uploads/2018/10/Sejm-foto.jpg
END:VEVENT
BEGIN:VEVENT
DTSTART;TZID=UTC:20220613T110000
DTEND;TZID=UTC:20220613T170000
DTSTAMP:20260424T072629
CREATED:20220608T085701Z
LAST-MODIFIED:20220608T085701Z
UID:10000803-1655118000-1655139600@znp.edu.pl
SUMMARY:Prezydium ZG ZNP
DESCRIPTION:
URL:https://znp.edu.pl/impreza/prezydium-zg-znp-4/
END:VEVENT
BEGIN:VEVENT
DTSTART;TZID=UTC:20220621T090000
DTEND;TZID=UTC:20220621T213000
DTSTAMP:20260424T072629
CREATED:20220615T112229Z
LAST-MODIFIED:20220615T112351Z
UID:10000805-1655802000-1655847000@znp.edu.pl
SUMMARY:Konferencja prasowa ZNP i FZZ
DESCRIPTION:Zapraszamy na konferencję prasową ZNP i FZZ we wtorek\, 21 czerwca o godz. 9.00 w siedzibie ZNP na warszawskim Powiślu\, w której wezmą udział: \n– Sławomir Broniarz\, prezes ZNP \n– Sławomir Wittkowicz\, przewodniczący WZZ „Forum-Oświata”. \nTRANSMISJA LIVE NA FACEBOOKU: @znpedupl
URL:https://znp.edu.pl/impreza/konferencja-prasowa-znp-i-fzz-2/
ATTACH;FMTTYPE=image/jpeg:https://znp.edu.pl/assets/uploads/2021/10/244619897_912808982968128_6150768913325278042_n.jpg
END:VEVENT
BEGIN:VEVENT
DTSTART;TZID=UTC:20220624T080000
DTEND;TZID=UTC:20220624T170000
DTSTAMP:20260424T072629
CREATED:20220608T085906Z
LAST-MODIFIED:20220621T101709Z
UID:10000804-1656057600-1656090000@znp.edu.pl
SUMMARY:Zakończenie roku szkolnego
DESCRIPTION:
URL:https://znp.edu.pl/impreza/zakonczenie-roku-szkolnego/
ATTACH;FMTTYPE=image/jpeg:https://znp.edu.pl/assets/uploads/2022/06/znp_post_zakonczenie-roku-szkolnego.jpg
END:VEVENT
BEGIN:VEVENT
DTSTART;TZID=UTC:20220628T110000
DTEND;TZID=UTC:20220628T170000
DTSTAMP:20260424T072629
CREATED:20220615T112650Z
LAST-MODIFIED:20220615T112650Z
UID:10000806-1656414000-1656435600@znp.edu.pl
SUMMARY:Posiedzenie ZG ZNP
DESCRIPTION:
URL:https://znp.edu.pl/impreza/posiedzenie-zg-znp/
END:VEVENT
END:VCALENDAR