BEGIN:VCALENDAR
VERSION:2.0
PRODID:-//ZNP - ECPv6.11.2.1//NONSGML v1.0//EN
CALSCALE:GREGORIAN
METHOD:PUBLISH
X-WR-CALNAME:ZNP
X-ORIGINAL-URL:https://znp.edu.pl
X-WR-CALDESC:Events for ZNP
REFRESH-INTERVAL;VALUE=DURATION:PT1H
X-Robots-Tag:noindex
X-PUBLISHED-TTL:PT1H
BEGIN:VTIMEZONE
TZID:UTC
BEGIN:STANDARD
TZOFFSETFROM:+0000
TZOFFSETTO:+0000
TZNAME:UTC
DTSTART:20220101T000000
END:STANDARD
END:VTIMEZONE
BEGIN:VEVENT
DTSTART;TZID=UTC:20220704T110000
DTEND;TZID=UTC:20220704T113000
DTSTAMP:20260424T054936
CREATED:20220703T080559Z
LAST-MODIFIED:20220703T080559Z
UID:10000807-1656932400-1656934200@znp.edu.pl
SUMMARY:Konferencja prasowa ZNP
DESCRIPTION:Konferencja prasowa ZNP  \nZapraszamy na konferencję prasową ZNP w poniedziałek\, 4 lipca o godz. 11.00 w siedzibie ZNP na warszawskim Powiślu (ul. Smulikowskiego 6/8\, I pięto) z udziałem Sławomira Broniarza\, prezesa ZNP. \nTransmisja LIVE na Facebooku. \n 
URL:https://znp.edu.pl/impreza/konferencja-prasowa-znp-3/
CATEGORIES:Imprezy inne
END:VEVENT
BEGIN:VEVENT
DTSTART;TZID=UTC:20220719T110000
DTEND;TZID=UTC:20220719T140000
DTSTAMP:20260424T054936
CREATED:20220718T121046Z
LAST-MODIFIED:20220718T121046Z
UID:10000558-1658228400-1658239200@znp.edu.pl
SUMMARY:Rozmowy z MEiN nt. płac nauczycieli od września
DESCRIPTION:We wtorek\, 19 lipca 2022 r. odbędą się w Ministerstwie Edukacji i Nauki rozmowy na temat podwyżek płac nauczycieli od września br.\, ponieważ minister edukacji zaproponował nowe stawki wynagrodzenia zasadniczego nauczycieli (tzw. rozporządzenie płacowe). \nZgodnie z propozycją ministra Przemysława Czarnka\, wynagrodzenie zasadnicze nauczyciela początkującego z tytułem zawodowym magistra i przygotowaniem pedagogicznym ma wynieść we wrześniu br. 3424 zł brutto\, co oznacza dla stażysty podwyżkę w wysokości 345 zł brutto\, a dla kontraktowego – 257 zł brutto. \nWynagrodzenie zasadnicze pozostałych 80 proc. nauczycieli\, czyli mianowanych i dyplomowanych\, nie zmieni się (czyli nadal będzie wynosiło odpowiednio – 3597 i 4224 zł brutto). \nPodczas rozmów ZNP reprezentować będzie zespół negocjacyjny w składzie: Krzysztof Baszczyński wiceprezes ZG ZNP oraz członkowie Zarządu Głównego ZNP Elżbieta Markowska\, Urszula Woźniak i Adam Młynarski.
URL:https://znp.edu.pl/impreza/rozmowy-z-mein-nt-plac-nauczycieli-od-wrzesnia/
END:VEVENT
BEGIN:VEVENT
DTSTART;TZID=UTC:20220720T091500
DTEND;TZID=UTC:20220720T170000
DTSTAMP:20260424T054936
CREATED:20220720T085249Z
LAST-MODIFIED:20220720T085343Z
UID:10000559-1658308500-1658336400@znp.edu.pl
SUMMARY:Posiedzenie senackiej Komisji Nauki\, Edukacji i Sportu
DESCRIPTION:Senacka komisja\, której tematem jest “Rozpatrzenie ustawy o zmianie ustawy – Karta Nauczyciela oraz niektórych innych ustaw (druk senacki nr 746\, druki sejmowe nr 2351\, 2357 i 2357-A). Uwagi\, opinie\, stanowiska\, uwagi obywatelskie zamieszczone w procesie legislacyjnym“ rozpocznie się o godz. 9.15. \nPodczas posiedzenia senackiej Komisji Nauki\, Edukacji i Sportu przedstawiciel ZNP złoży poprawki do znowelizowanej przez Sejm 23 czerwca 2022 r. ustawy – Karta Nauczyciela.
URL:https://znp.edu.pl/impreza/posiedzenie-senackiej-komisji-nauki-edukacji-i-sportu/
CATEGORIES:Imprezy inne
END:VEVENT
END:VCALENDAR