BEGIN:VCALENDAR
VERSION:2.0
PRODID:-//ZNP - ECPv6.11.2.1//NONSGML v1.0//EN
CALSCALE:GREGORIAN
METHOD:PUBLISH
X-WR-CALNAME:ZNP
X-ORIGINAL-URL:https://znp.edu.pl
X-WR-CALDESC:Events for ZNP
REFRESH-INTERVAL;VALUE=DURATION:PT1H
X-Robots-Tag:noindex
X-PUBLISHED-TTL:PT1H
BEGIN:VTIMEZONE
TZID:UTC
BEGIN:STANDARD
TZOFFSETFROM:+0000
TZOFFSETTO:+0000
TZNAME:UTC
DTSTART:20220101T000000
END:STANDARD
END:VTIMEZONE
BEGIN:VEVENT
DTSTART;TZID=UTC:20220913T180000
DTEND;TZID=UTC:20220913T200000
DTSTAMP:20260424T023038
CREATED:20220912T110047Z
LAST-MODIFIED:20220912T110047Z
UID:10000564-1663092000-1663099200@znp.edu.pl
SUMMARY:Konsultacje on-line: Zmiany w Karcie w tym nowy awans
DESCRIPTION:13 września br. zapraszamy na spotkanie: Pytania do eksperta ZNP nt. zmian w Karcie Nauczyciela od 1 września  br. \nW godzinach 18:00 – do 20:00 na Teams będziesz miała/miał możliwość zadania pytania i uzyskania odpowiedzi w sprawach związanych z nowelizacją Karty Nauczyciela. \nAby zapisać się na spotkanie i zadać pytanie\, wyślij zgłoszenie: znpwebinar@znp.edu.pl i wypełnij formularz rejestracyjny. W odpowiedzi uzyskasz link do spotkania w aplikacji Microsoft Teams.
URL:https://znp.edu.pl/impreza/konsultacje-on-line-zmiany-w-karcie-w-tym-nowy-awans/
CATEGORIES:Webinarium
ATTACH;FMTTYPE=image/jpeg:https://znp.edu.pl/assets/uploads/2022/09/Awans-13.09.2022.jpg
END:VEVENT
BEGIN:VEVENT
DTSTART;TZID=UTC:20220919T110000
DTEND;TZID=UTC:20220919T170000
DTSTAMP:20260424T023038
CREATED:20220916T133053Z
LAST-MODIFIED:20220916T133053Z
UID:10000566-1663585200-1663606800@znp.edu.pl
SUMMARY:Posiedzenie Zarządu Głównego ZNP
DESCRIPTION:
URL:https://znp.edu.pl/impreza/posiedzenie-zarzadu-glownego-znp/
END:VEVENT
BEGIN:VEVENT
DTSTART;TZID=UTC:20220919T140000
DTEND;TZID=UTC:20220919T143000
DTSTAMP:20260424T023038
CREATED:20220916T132937Z
LAST-MODIFIED:20220916T132937Z
UID:10000565-1663596000-1663597800@znp.edu.pl
SUMMARY:Konferencja prasowa ZNP
DESCRIPTION:Zapraszamy na konferencję prasową ZNP w poniedziałek\, 19 września 2022 roku o godz. 14.00 w siedzibie ZNP na warszawskim Powiślu (I piętro). \nKonferencja odbędzie się po posiedzeniu Zarządu Głównego  ZNP. \n  \nTRANSMISJA LIVE NA FACEBOOKU: @znpedupl
URL:https://znp.edu.pl/impreza/konferencja-prasowa-znp-4/
ATTACH;FMTTYPE=image/jpeg:https://znp.edu.pl/assets/uploads/2021/10/244466451_897764094474904_6541130658826632179_n.jpg
END:VEVENT
BEGIN:VEVENT
DTSTART;TZID=UTC:20220926T080000
DTEND;TZID=UTC:20220930T170000
DTSTAMP:20260424T023038
CREATED:20220926T105808Z
LAST-MODIFIED:20220926T110406Z
UID:10000808-1664179200-1664557200@znp.edu.pl
SUMMARY:Nauczycielu\, Nauczycielko\, nie sponsoruj swojego miejsca pracy!
DESCRIPTION:Pogotowie Protestacyjne \nPracodawca powinien zapewnić wszystkie niezbędne materiały i sprzęt potrzebny do pracy w szkole\, przedszkolu i placówce! Tak jest w innych branżach!   \n  \nRodzicu! Czy wiesz\, że nauczyciel sponsoruje swój zakład pracy?   \nZ własnej kieszeni finansuje zakup wielu materiałów edukacyjnych i piśmienniczych\, często pracuje na własnym sprzęcie\, dzwoni do rodziców z prywatnego telefonu?!  \n#Protest #PogotowieProtestacyjne #Edukacja #GodnePłace #WysokiPrestiż #ZNP 
URL:https://znp.edu.pl/impreza/nauczycielu-nauczycielko-nie-sponsoruj-swojego-miejsca-pracy/
CATEGORIES:Imprezy inne
ATTACH;FMTTYPE=image/png:https://znp.edu.pl/assets/uploads/2022/09/znp_pogotowie_protestacyjne_nauczyciele.png
END:VEVENT
BEGIN:VEVENT
DTSTART;TZID=UTC:20220928T130000
DTEND;TZID=UTC:20220928T140000
DTSTAMP:20260424T023038
CREATED:20220926T100539Z
LAST-MODIFIED:20220926T100539Z
UID:10000567-1664370000-1664373600@znp.edu.pl
SUMMARY:Spotkanie z Marszałek Sejmu
DESCRIPTION:Spotkanie kierownictwa ZNP z Marszałek Sejmu Elżbietą Witek na temat obywatelskiej inicjatywy ZNP „Godne płace i wysoki prestiż nauczycieli”\, która zakłada powiązanie wynagrodzeń nauczycieli z przeciętnym wynagrodzeniem w gospodarce. \n9 lutego 2022 r. w Sejmie odbyło się pierwsze czytanie obywatelskiej inicjatywy ustawodawczej „Godne płace i wysoki prestiż nauczycieli”. \nNastępnie Sejm skierował projekt obywatelski do sejmowych komisji: Edukacji\, Nauki i Młodzieży oraz Samorządu Terytorialnego i Polityki Regionalnej.
URL:https://znp.edu.pl/impreza/spotkanie-z-marszalek-sejmu/
ATTACH;FMTTYPE=image/jpeg:https://znp.edu.pl/assets/uploads/2021/08/znp_plakat_A4_inicjatywa_obywatelska_domowe_drukarki-scaled.jpg
END:VEVENT
BEGIN:VEVENT
DTSTART;TZID=UTC:20220929T202000
DTEND;TZID=UTC:20220929T212000
DTSTAMP:20260424T023038
CREATED:20220928T120858Z
LAST-MODIFIED:20220928T120936Z
UID:10000809-1664482800-1664486400@znp.edu.pl
SUMMARY:Film o tajnym nauczaniu i Tajnej Organizacji Nauczycielskiej
DESCRIPTION:29 września 2022 r. o godzinie 20.20 i w piątek 30 września o godz. 10.35 – zapraszamy wszystkich nauczycieli związkowców do oglądania historii o tajnym nauczaniu i Tajnej Organizacji Nauczycielskiej (TON to kryptonim Podziemny ZNP) w TVP historia. \nPolecamy film „Indeks i Karabin”. \nReż. Hanna Etemadi. \nKonsultanci historyczni: dr Paweł Kosiński IPN\, dr Piotr Wierzbicki ZNP i dr Dariusz Sala ZNP AGH.
URL:https://znp.edu.pl/impreza/film-o-tajnym-nauczaniu-i-tajnej-organizacji-nauczycielskiej/
ATTACH;FMTTYPE=image/jpeg:https://znp.edu.pl/assets/uploads/2022/09/308511633_653095742801344_6721696814648781134_n.jpg
END:VEVENT
END:VCALENDAR