BEGIN:VCALENDAR
VERSION:2.0
PRODID:-//ZNP - ECPv6.11.2.1//NONSGML v1.0//EN
CALSCALE:GREGORIAN
METHOD:PUBLISH
X-ORIGINAL-URL:https://znp.edu.pl
X-WR-CALDESC:Events for ZNP
REFRESH-INTERVAL;VALUE=DURATION:PT1H
X-Robots-Tag:noindex
X-PUBLISHED-TTL:PT1H
BEGIN:VTIMEZONE
TZID:UTC
BEGIN:STANDARD
TZOFFSETFROM:+0000
TZOFFSETTO:+0000
TZNAME:UTC
DTSTART:20230101T000000
END:STANDARD
END:VTIMEZONE
BEGIN:VEVENT
DTSTART;TZID=UTC:20230105T110000
DTEND;TZID=UTC:20230105T233000
DTSTAMP:20260423T195117
CREATED:20230104T111734Z
LAST-MODIFIED:20230104T111735Z
UID:10000578-1672916400-1672961400@znp.edu.pl
SUMMARY:Konferencja prasowa ZNP
DESCRIPTION:
URL:https://znp.edu.pl/impreza/konferencja-prasowa-znp-6/
END:VEVENT
BEGIN:VEVENT
DTSTART;TZID=UTC:20230116T080000
DTEND;TZID=UTC:20230116T170000
DTSTAMP:20260423T195117
CREATED:20230104T111612Z
LAST-MODIFIED:20230104T111612Z
UID:10000827-1673856000-1673888400@znp.edu.pl
SUMMARY:Prezydium ZG ZNP
DESCRIPTION:
URL:https://znp.edu.pl/impreza/prezydium-zg-znp-7/
END:VEVENT
BEGIN:VEVENT
DTSTART;TZID=UTC:20230125T080000
DTEND;TZID=UTC:20230128T170000
DTSTAMP:20260423T195117
CREATED:20230117T135529Z
LAST-MODIFIED:20230117T140241Z
UID:10000579-1674633600-1674925200@znp.edu.pl
SUMMARY:78. rocznica wyzwolenia Auschwitz
DESCRIPTION:SEMINARIUM IZRAELSKO-NIEMIECKO-POLSKIE „NAUCZANIE O HOLOKAUŚCIE I AUSCHWITZ. LOS KOBIET I DZIEWCZĄT”. Kraków\, 25.-27.01.2023 r. \n \n27 stycznia 2023 r. obchodzić będziemy 78. rocznicę wyzwolenia niemieckiego nazistowskiego obozu koncentracyjnego i zagłady Auschwitz. Przewodnim motywem 78. rocznicy będzie proces planowania\, tworzenia i rozbudowy systemu odczłowieczenia i ludobójstwa w Auschwitz\, który szczególnie mocno określiły słowa ocalałego Mariana Turskiego “Auschwitz nie spadło z nieba”. Szczegóły dotyczące obchodów oraz informacje organizacyjne znaleźć można na stronie 78.auschwitz.org. \nW 2005 r. Organizacja Narodów Zjednoczonych uchwaliła dzień 27 stycznia Międzynarodowym Dniem Pamięci o Ofiarach Holokaustu. \nOd 2008 roku ZNP razem m.in. z izraelskimi\, niemieckimi i polskimi związkami zawodowymi nauczycieli organizuje w Krakowie seminarium o zagładzie w ramach Międzynarodowego Dnia Pamięci o Ofiarach Holokaustu. \n 
URL:https://znp.edu.pl/impreza/78-rocznica-wyzwolenia-auschwitz/
ATTACH;FMTTYPE=image/jpeg:https://znp.edu.pl/assets/uploads/2018/02/BRAMA_AUSCHWITZ.jpg
END:VEVENT
BEGIN:VEVENT
DTSTART;TZID=UTC:20230126T170000
DTEND;TZID=UTC:20230126T183000
DTSTAMP:20260423T195117
CREATED:20230117T143725Z
LAST-MODIFIED:20230117T143725Z
UID:10000581-1674752400-1674757800@znp.edu.pl
SUMMARY:Seminarium NAUCZANIE O HOLOKAUŚCIE I AUSCHWITZ
DESCRIPTION:SEMINARIUM IZRAELSKO-NIEMIECKO-POLSKIE “NAUCZANIE O HOLOKAUŚCIE I AUSCHWITZ. LOS KOBIET I DZIEWCZĄT” w Krakowie w ramach Międzynarodowego Dnia Pamięci o Ofiarach Holokaustu.
URL:https://znp.edu.pl/impreza/seminarium-nauczanie-o-holokauscie-i-auschwitz/
ATTACH;FMTTYPE=image/jpeg:https://znp.edu.pl/assets/uploads/2023/01/326115315_551300373602971_1259000942546810306_n.jpg
END:VEVENT
BEGIN:VEVENT
DTSTART;TZID=UTC:20230127T080000
DTEND;TZID=UTC:20230127T170000
DTSTAMP:20260423T195117
CREATED:20230117T142133Z
LAST-MODIFIED:20230117T142133Z
UID:10000580-1674806400-1674838800@znp.edu.pl
SUMMARY:Szczyt Edukacyjny
DESCRIPTION:Szczyt edukacyjny w Centrum Nauki Kopernik w Warszawie.
URL:https://znp.edu.pl/impreza/szczyt-edukacyjny/
END:VEVENT
END:VCALENDAR