BEGIN:VCALENDAR
VERSION:2.0
PRODID:-//ZNP - ECPv6.11.2.1//NONSGML v1.0//EN
CALSCALE:GREGORIAN
METHOD:PUBLISH
X-WR-CALNAME:ZNP
X-ORIGINAL-URL:https://znp.edu.pl
X-WR-CALDESC:Events for ZNP
REFRESH-INTERVAL;VALUE=DURATION:PT1H
X-Robots-Tag:noindex
X-PUBLISHED-TTL:PT1H
BEGIN:VTIMEZONE
TZID:UTC
BEGIN:STANDARD
TZOFFSETFROM:+0000
TZOFFSETTO:+0000
TZNAME:UTC
DTSTART:20230101T000000
END:STANDARD
END:VTIMEZONE
BEGIN:VEVENT
DTSTART;TZID=UTC:20230201T080000
DTEND;TZID=UTC:20230228T170000
DTSTAMP:20260423T181036
CREATED:20230207T112144Z
LAST-MODIFIED:20230207T112434Z
UID:10000584-1675238400-1677603600@znp.edu.pl
SUMMARY:Ferie w Mandorii z ZNP
DESCRIPTION:Trwa akcja „Ferie w Mandorii z #ZNP” do 28 lutego br. (włącznie z weekendami) dla wszystkich członków ZNP!\n\n\n\nKażdy członek ZNP – niezależnie od terminu ferii – może skorzystać z bezpłatnego wejścia do Mandoria – Tematyczny Park Rozrywki wraz z  osobami towarzyszącymi.\n\n\nJedynym warunkiem uczestnictwa jest posiadanie legitymacji ZNP (lub zaświadczenia o członkostwie wydanego przez odpowiedni Oddział) oraz potwierdzenia rejestracji (w formie papierowej lub elektronicznej).\n\n\n\n Formularz dostępny jest na stronie: https://mandoria.com/ferie-z-mandoria-i-znp/\n\n\n\nW formularzu należy dokonać rezerwacji na dany dzień.\n\n\n\nLimit dzienny wynosi 1000 osób (członkowie ZNP z osobami towarzyszącymi).\n\n\nŻyczymy udanej zabawy!\n\n\n\nAkcję zorganizował Marek Ćwiek prezes ZNP Okręg Łódzki!
URL:https://znp.edu.pl/impreza/ferie-w-mandorii-z-znp/
ATTACH;FMTTYPE=image/jpeg:https://znp.edu.pl/assets/uploads/2023/02/328491099_568387682005331_3472531734802435439_n.jpg
END:VEVENT
BEGIN:VEVENT
DTSTART;TZID=UTC:20230201T110000
DTEND;TZID=UTC:20230201T170000
DTSTAMP:20260423T181036
CREATED:20230126T105602Z
LAST-MODIFIED:20230126T105643Z
UID:10000582-1675249200-1675270800@znp.edu.pl
SUMMARY:Rozmowy z ministrem edukacji
DESCRIPTION:1 lutego 2023 r. w Ministerstwie Edukacji i Nauki odbędzie się spotkanie grupy roboczej powołanej w ramach Zespołu do spraw statusu zawodowego pracowników oświaty\, w którym udział wezmą przedstawiciele oświatowych związków zawodowych. \nPrzedmiotem spotkania będą podnoszone przez Związek Nauczycielstwa Polskiego kwestie dotyczące: \n\nuzgodnienia projektu rozporządzenia zmieniającego rozporządzenie w sprawie wysokości minimalnych stawek wynagrodzenia zasadniczego nauczycieli\, ogólnych warunków przyznawania dodatków do wynagrodzenia zasadniczego oraz wynagrodzenia za pracę w dniu wolnym od pracy (ZNP przedstawi propozycje korzystniejszych rozwiązań płacowych niż proponowane w tym projekcie)\,\nzmiany rozporządzenia w sprawie oceny pracy nauczyciela (projekt nowelizacji zgodny jest z postulatem ZNP – likwiduje wartości punktowe przy dokonywaniu oceny pracy!)\,\nzmiany przepisów w sprawie emerytury „stażowej” dla nauczycieli.\n\n13 stycznia 2023 r. Sejm przyjął propozycję ZNP\, która umożliwia powrót do pracy w szkole większej grupie nauczycieli pobierających świadczenia kompensacyjne. O zniesienie zakazu pracy w szkole w czasie pobierania kompensówki Związek zabiegał od dawna. 30 listopada 2022 roku podczas ostatniego spotkania w MEiN przedstawiciele ZNP złożyli na ręce ministra edukacji taką propozycję.
URL:https://znp.edu.pl/impreza/rozmowy-z-ministrem-edukacji-2/
END:VEVENT
BEGIN:VEVENT
DTSTART;TZID=UTC:20230206T110000
DTEND;TZID=UTC:20230206T113000
DTSTAMP:20260423T181036
CREATED:20230205T205500Z
LAST-MODIFIED:20230205T205713Z
UID:10000583-1675681200-1675683000@znp.edu.pl
SUMMARY:Briefing prasowy ZNP i AFT: Konwój humanitarny z generatorami prądu dla ukraińskich szkół
DESCRIPTION:Konwój humanitarny z generatorami prądu dla ukraińskich szkół i przedszkoli \nMiejsce: Wawer pod Warszawą\, ul. Zerzeńska 36 (magazyn) \nUczestnicy: \nSławomir Broniarz – prezes ZNP \nShari Obrenski – wiceprzewodnicząca AFT American Federation of Teachers \nDorota Obidniak – ZNP \nNauczyciele z USA zrzeszeni w American Federation of Teachers zebrali pieniądze na zakup generatorów prądu. Teraz wyruszą z generatorami z Warszawy do Lwowa. \n– Zebraliśmy fundusze na zakup generatorów prądu\, aby zapewnić dzieciom i nauczycielom we Lwowie sprzęt potrzebny do życia i nauki – mówi Shari Obrenski\, wiceprzewodnicząca AFT z Cleveland. – Wypełniamy swoje zobowiązanie wobec ukraińskich dzieci\, zmagających się z brakiem elektryczności i ciepła w czasie trwającej zimy. \nTo zobowiązanie podjęli amerykańscy nauczyciele z AFT podczas swojej wizyty we Lwowie w listopadzie 2022 roku. \n– To część naszego obowiązku jako pedagogów\, aby wspierać dzieci w tym trudnym czasie i zapewnić im trochę ciepła i nadziei pośród ciemności – mówi Obrenski. Podkreśla\, że generatory dla placówek oświatowych są niezbędne\, ponieważ ataki na ukraińską infrastrukturę energetyczną spowodowały\, że wiele szkół i przedszkoli zostało pozbawionych prądu. W przedszkolach generatory będą wykorzystywane m.in. do podtrzymania pracy kuchni\, aby dzieci dostawały regularnie ciepłe posiłki. \nZa stronę logistyczną\, czyli wybór\, zakup i transport generatorów prądu odpowiadał Związek Nauczycielstwa Polskiego. Jego przedstawiciele pojadą teraz z generatorami do Lwowa.
URL:https://znp.edu.pl/impreza/briefing-prasowy-znp-i-aft-konwoj-humanitarny-z-generatorami-pradu-dla-ukrainskich-szkol/
ATTACH;FMTTYPE=image/jpeg:https://znp.edu.pl/assets/uploads/2023/02/konf-6.02.2023.jpg
END:VEVENT
BEGIN:VEVENT
DTSTART;TZID=UTC:20230228T110000
DTEND;TZID=UTC:20230228T113000
DTSTAMP:20260423T181036
CREATED:20230227T112437Z
LAST-MODIFIED:20230227T112437Z
UID:10000585-1677582000-1677583800@znp.edu.pl
SUMMARY:Konferencja prasowa ZNP
DESCRIPTION:Zapraszamy na konferencję prasową ZNP we wtorek\, 28 lutego 2023 r. w warszawskiej siedzibie ZNP przy ul. Smulikowskiego 6/8\, I piętro.  \n\n\nTemat: Podwyżki dla nauczycieli poniżej inflacji. Propozycja ZNP dot. zwiększenia wynagrodzeń w tym roku \n\n\nUczestnicy: Sławomir Broniarz\, prezes ZNP i Krzysztof Baszczyński wiceprezes ZG ZNP \n\n\nTermin: 28.02.2023\, godz. 11.00
URL:https://znp.edu.pl/impreza/konferencja-prasowa-znp-7/
ATTACH;FMTTYPE=image/jpeg:https://znp.edu.pl/assets/uploads/2023/02/Kopia-Dodaj-podtytul-4.jpg
END:VEVENT
END:VCALENDAR