BEGIN:VCALENDAR
VERSION:2.0
PRODID:-//ZNP - ECPv6.11.2.1//NONSGML v1.0//EN
CALSCALE:GREGORIAN
METHOD:PUBLISH
X-ORIGINAL-URL:https://znp.edu.pl
X-WR-CALDESC:Events for ZNP
REFRESH-INTERVAL;VALUE=DURATION:PT1H
X-Robots-Tag:noindex
X-PUBLISHED-TTL:PT1H
BEGIN:VTIMEZONE
TZID:UTC
BEGIN:STANDARD
TZOFFSETFROM:+0000
TZOFFSETTO:+0000
TZNAME:UTC
DTSTART:20230101T000000
END:STANDARD
END:VTIMEZONE
BEGIN:VEVENT
DTSTART;TZID=UTC:20230314T080000
DTEND;TZID=UTC:20230501T170000
DTSTAMP:20260423T131446
CREATED:20230314T104632Z
LAST-MODIFIED:20230314T104632Z
UID:10000829-1678780800-1682960400@znp.edu.pl
SUMMARY:Konkurs dla Maturzystów na esej
DESCRIPTION:Wystartowała kolejna edycja konkursu dla maturzystów organizowanego przez Concilium Civitas przy współpracy Związku Nauczycielstwa Polskiego. \nMaturzysto\, Maturzystko! \n Jeśli chcesz za darmo studiować w Akademia Leona Koźmińskiego\, Collegium Civitas\, Uniwersytet SWPS \n Jeśli chcesz się spotkać i dyskutować z profesorami najlepszych uczelni świata: Harvardu\, Oxfordu\, Stanfordu\, Yale \n Jeśli chcesz być zaproszony do Młodego Concilium – ekskluzywnego grona Twoich rówieśników interesujących się sprawami publicznymi \n Jeśli jesteś tegorocznym maturzystą \nWeź udział w ogłoszonym z inicjatywy Concilium Civitas konkursie na esej /artykuł/ reportaż na temat: \n Zima\, wiosna\, lato\, jesień: moja Polska po wyborach 2023  \nOrganizowanym przez Fundację Collegium Civitas i Związek Nauczycielstwa Polskiego. \nTermin nadsyłania prac 1.03–1.05 2023 \nhttp://conciliumcivitas.pl/konkurs-dla-maturzystow-2023/…
URL:https://znp.edu.pl/impreza/konkurs-dla-maturzystow-na-esej/
CATEGORIES:Imprezy kulturalne
ATTACH;FMTTYPE=image/jpeg:https://znp.edu.pl/assets/uploads/2023/03/Esej-2023.jpg
END:VEVENT
BEGIN:VEVENT
DTSTART;TZID=UTC:20230404T080000
DTEND;TZID=UTC:20230630T170000
DTSTAMP:20260423T131446
CREATED:20230404T125244Z
LAST-MODIFIED:20230404T125845Z
UID:10000837-1680595200-1688144400@znp.edu.pl
SUMMARY:Konkurs ZNP „Ognisko na medal”
DESCRIPTION:Związek Nauczycielstwa Polskiego ogłasza konkurs „Ognisko na medal”! \nCelem konkursu jest wyłonienie sześciu ognisk ZNP\, które zwiększyły swoją liczebność i wykażą dobre praktyki\, innowacyjne pomysły w zakresie pozyskiwania i organizowania członków/kiń ZNP w okresie od 1 września 2022 r. do dnia ogłoszenia konkursu. \nKonkurs ma zasięg ogólnopolski. \nW konkursie może wziąć udział każde Ognisko ZNP. \nTermin dostarczenia zgłoszenia – do 30 czerwca 2023 r. \nCzekają atrakcyjne nagrody rzeczowe i pieniężne: laptopy i fundusze na integrację\, a także całoroczna prenumerata Głosu Nauczycielskiego. \nZapraszamy! \nDOKUMENTY
URL:https://znp.edu.pl/impreza/konkurs-ognisko-znp-na-medal/
ATTACH;FMTTYPE=image/jpeg:https://znp.edu.pl/assets/uploads/2023/03/znp_post_konkurs.jpg
END:VEVENT
BEGIN:VEVENT
DTSTART;TZID=UTC:20230405T193000
DTEND;TZID=UTC:20230405T210000
DTSTAMP:20260423T131446
CREATED:20230403T091559Z
LAST-MODIFIED:20230403T091559Z
UID:10000835-1680723000-1680728400@znp.edu.pl
SUMMARY:Webinarium ZNP: Zmiany w Kodeksie pracy!
DESCRIPTION:Zapraszamy na Webinarium ZNP poświęcone najnowszym zmianom w Kodeksie pracy! \nTemat: Zmiany w Kodeksie pracy w 2023 r. \n\nKontrola trzeźwości\nPraca zdalna\nWdrożenie dyrektyw dot. łączenia życia prywatnego z pracą\n\nKiedy: \n\n\n5 kwietnia 2023 r. \ngodz. 19:30 – 20:30 \n\n\nGdzie: TEAMS \nJak: Zgłoszenia przyjmujemy mailowo – znpwebinar@znp.edu.pl \n #ZNP oferuje bezpłatne szkolenia\, kursy i webinaria!
URL:https://znp.edu.pl/impreza/webinarium-znp-zmiany-w-kodeksie-pracy/
CATEGORIES:Webinarium
ATTACH;FMTTYPE=image/png:https://znp.edu.pl/assets/uploads/2023/03/webinar_dla_nauczycieli_zmiany-w-kodeksie-pracy-2023.png
END:VEVENT
BEGIN:VEVENT
DTSTART;TZID=UTC:20230406T110000
DTEND;TZID=UTC:20230406T143000
DTSTAMP:20260423T131446
CREATED:20230403T094220Z
LAST-MODIFIED:20230403T094220Z
UID:10000836-1680778800-1680791400@znp.edu.pl
SUMMARY:Zespół ds. statusu zawodowego pracowników oświaty
DESCRIPTION:6 kwietnia br. odbędzie się w MEiN spotkanie grupy roboczej powołanej w ramach Zespołu ds. statusu zawodowego pracowników oświaty. Spotkanie rozpocznie się o godz. 11.00 w gmachu Ministerstwa Edukacji i Nauki przy al. Szucha 25 w Warszawie. \nZgodnie z zapowiedzią MEiN\, spotkanie będzie poświęcone obowiązkom nauczycieli wynikającym z prowadzenia dokumentacji w zakresie pomocy psychologiczno-pedagogicznej i edukacji włączającej.
URL:https://znp.edu.pl/impreza/zespol-ds-statusu-zawodowego-pracownikow-oswiaty/
ATTACH;FMTTYPE=image/jpeg:https://znp.edu.pl/assets/uploads/2023/03/IMG_5418-scaled.jpg
END:VEVENT
BEGIN:VEVENT
DTSTART;TZID=UTC:20230421T080000
DTEND;TZID=UTC:20230423T233000
DTSTAMP:20260423T131446
CREATED:20230421T120128Z
LAST-MODIFIED:20230421T151631Z
UID:10000588-1682064000-1682292600@znp.edu.pl
SUMMARY:22 kwietnia Dzień Ziemi
DESCRIPTION:Jako nauczyciele mamy do odegrania kluczową rolę\, jeśli chodzi o działania na rzecz klimatu.\nTo\, czego uczymy\, ma znaczenie!\n  \nNauczanie dla Planety
URL:https://znp.edu.pl/impreza/dzien-ziemi/
ATTACH;FMTTYPE=image/jpeg:https://znp.edu.pl/assets/uploads/2023/04/Dzien-Ziemi.jpg
END:VEVENT
BEGIN:VEVENT
DTSTART;TZID=UTC:20230424T100000
DTEND;TZID=UTC:20230424T133000
DTSTAMP:20260423T131446
CREATED:20230321T145345Z
LAST-MODIFIED:20230421T094843Z
UID:10000831-1682330400-1682343000@znp.edu.pl
SUMMARY:Kraków: Debata edukacyjna i konferencja prasowa
DESCRIPTION:Zaproszenie na konferencję prasową ZNP w Krakowie \nZapraszamy na konferencję prasową Związku Nauczycielstwa Polskiego w Krakowie\, która odbędzie się w przerwie debaty edukacyjnej: „Czy edukacja rzeczywiście jest najważniejsza?” \nKiedy: 24 kwietnia 2023 r.\, godz. 12.00 \nGdzie: Kraków – Sala Obrad Urzędu Miasta (plac Wszystkich Świętych 3-4) \nUczestnicy: Sławomir Broniarz prezes ZNP i Arkadiusz Boroń\, prezes Okręgu Małopolskiego ZNP \nTemat: Problemy edukacyjne w kontekście nowego roku szkolnego i bieżących wydarzeń \n  \nZaproszenie na debatę edukacyjną w Krakowie \nZapraszamy na debatę edukacyjną „Czy edukacja rzeczywiście jest najważniejsza?” organizowaną przez Związek Nauczycielstwa Polskiego Okręg Małopolski oraz Urząd Miasta Krakowa. \nKiedy: 24 kwietnia 2023 r.\, godz. 10.00 \n10:00 – 12:00 debata z udziałem panelistów \n12:00 – 12:30 konferencja prasowa oraz przerwa kawowa (catering) \n12:30 – 13:30 dyskusja z udziałem publiczności \nGdzie: Kraków – Sala Obrad Urzędu Miasta (plac Wszystkich Świętych 3-4) \nUczestnicy/uczestniczki dyskusji: \n\nSławomir Broniarz – Prezes Związku Nauczycielstwa Polskiego\nAgnieszka Dziemianowicz – Bąk – Poseł na Sejm RP\nWładysław Kosiniak – Kamysz – Poseł na Sejm RP\nMaciej Gdula – Poseł na Sejm RP\nAnna Korfel – Jasińska  – Zastępca Prezydenta Miasta Krakowa ds. Edukacji\, Sportu i Turystyki\nKrzysztof Kania – Wiceprezydent Miasta Oświęcim\nIlona Kronenberger – Dyrektor Wydziału Edukacji i Wychowania w Nowym Sączu\nJan Sipior – Burmistrz Szczucina\nAgata Tatara – Przewodnicząca Komisji Edukacji Rady Miasta Krakowa\n\n\n\n\nPrevious Article
URL:https://znp.edu.pl/impreza/krakow-debata-edukacyjna/
CATEGORIES:Imprezy inne
ATTACH;FMTTYPE=image/jpeg:https://znp.edu.pl/assets/uploads/2023/03/znp_post_debata-edukacyjna.jpg
END:VEVENT
BEGIN:VEVENT
DTSTART;TZID=UTC:20230426T110000
DTEND;TZID=UTC:20230426T140000
DTSTAMP:20260423T131447
CREATED:20230425T092210Z
LAST-MODIFIED:20230425T092331Z
UID:10000590-1682506800-1682517600@znp.edu.pl
SUMMARY:Spotkanie w MEiN dot. emerytury stażowej dla nauczycieli
DESCRIPTION:Spotkanie odbędzie się 26 kwietnia br. o godz. 11.00\, w gmachu Ministerstwa Edukacji i Nauki przy al. Szucha 25.  \nOrganizuje je MEiN w ramach „spotkania grupy roboczej powołanej w ramach Zespołu ds. statusu zawodowego pracowników oświaty. Zgodnie z zapowiedzią\, spotkanie będzie dotyczyło emerytury stażowej dla nauczycieli”. \n18 kwietnia br. Związek Nauczycielstwa Polskiego wystąpił do ministra edukacji z pisemnym wnioskiem o wcześniejsze przesłanie materiałów dotyczących emerytur stażowych dla nauczycieli. Resort materiałów nie przesłał. \n28 marca br. Zarząd Główny Związku Nauczycielstwa Polskiego przyjął stanowisko ws. wcześniejszej emerytury dla nauczycieli. \nStanowisko Zarządu Głównego Związku Nauczycielstwa Polskiego z 28 marca 2023 r. ws. wcześniejszej emerytury dla nauczycieli \nZwiązek Nauczycielstwa Polskiego wzywa Ministra Edukacji i Nauki do natychmiastowego rozpoczęcia rozmów w sprawie przywrócenia nauczycielom prawa do przejścia na emeryturę bez względu na wiek\, na podstawie art. 88 ustawy – Karta Nauczyciela. \nMożliwość przejścia na wcześniejszą emeryturę powinna przysługiwać wszystkim nauczycielom bez względu na datę zawarcia stosunku pracy\, a wysokość wcześniejszego świadczenia emerytalnego powinna być obliczana w oparciu o „stare” zasady. \nZwiązek Nauczycielstwa Polskiego oczekuje na projekt zmian ustawowych\, które przywrócą  nauczycielom prawo do emerytury bez względu wiek (art. 88 Karty Nauczyciela). Deklaracje w tej sprawie składane są od 2016 r.\, ostatnio złożył ją minister edukacji Przemysław Czarnek\, w kontekście zapowiedzi zwolnienia 100 tys. nauczycieli. \nJednocześnie minister edukacji wykorzystał temat wcześniejszej emerytury dla nauczycieli do kolejnej manipulacji faktami\, dlatego ZNP przedstawia przebieg wydarzeń w tej sprawie: \n\nrok 1998 – Sejm przyjmuje nową ustawę o emeryturach i rentach z Funduszu Ubezpieczeń Społecznych\, która pozbawia nauczycieli od 1 stycznia 2007 r. prawa do emerytury bez względu na wiek;\nrok 2003 – ZNP występuje do Ministra Gospodarki\, Pracy i Polityki Społecznej w sprawie warunków korzystania przez nauczycieli z prawa do wcześniejszej emerytury po 31 grudnia 2006 r.;\nrok 2005 – Sejm przedłuża możliwość przejścia na emeryturę dla nauczycieli bez względu na wiek do 31 grudnia 2007 r.;\nrok 2007 – Sejm przedłuża możliwość korzystania przez nauczycieli z prawa do wcześniejszej emerytury do 31 grudnia 2008 r.\, odrzucając jednocześnie wniosek ZNP o wydłużenie tego okresu do 2011 roku.\n\nW 2009 roku ZNP wystąpił z wnioskiem do Trybunału Konstytucyjnego w sprawie zachowania przez nauczycieli prawa do wcześniejszego przejścia na emeryturę na podstawie art. 88 Karty Nauczyciela. Niestety\, na etapie postępowania kwalifikacyjnego\, wniosek został odrzucony. \nPolecamy materiały \nHistorię wcześniejszych emerytur opisał niedawno Głos Nauczycielski w numerze nr 51-52 z 21-28 grudnia 2022 r.. Polecamy artykuł autorstwa Piotra Skury – wydanie tego numeru dostępne jest w wersji elektronicznej. \nhttps://znp.edu.pl/zwiazek-wystapil-do-mein-o-materialy-dot-emerytur-dla-nauczycieli/
URL:https://znp.edu.pl/impreza/spotkanie-w-mein-dot-emerytury-stazowej-dla-nauczycieli/
ATTACH;FMTTYPE=image/jpeg:https://znp.edu.pl/assets/uploads/2023/03/IMG_5418-scaled.jpg
END:VEVENT
BEGIN:VEVENT
DTSTART;TZID=UTC:20230427T080000
DTEND;TZID=UTC:20230429T170000
DTSTAMP:20260423T131447
CREATED:20230425T085102Z
LAST-MODIFIED:20230425T085102Z
UID:10000589-1682582400-1682787600@znp.edu.pl
SUMMARY:XXXVIII Nauczycielskie Dni Pamięci i Pokoju
DESCRIPTION:Organizator: Związek Nauczycielstwa Polskiego Oddział w Bielsku-Białej oraz Okręg Śląski
URL:https://znp.edu.pl/impreza/xxxviii-nauczycielskie-dni-pamieci-i-pokoju/
ATTACH;FMTTYPE=image/jpeg:https://znp.edu.pl/assets/uploads/2018/02/BRAMA_AUSCHWITZ.jpg
END:VEVENT
END:VCALENDAR