BEGIN:VCALENDAR
VERSION:2.0
PRODID:-//ZNP - ECPv6.11.2.1//NONSGML v1.0//EN
CALSCALE:GREGORIAN
METHOD:PUBLISH
X-ORIGINAL-URL:https://znp.edu.pl
X-WR-CALDESC:Events for ZNP
REFRESH-INTERVAL;VALUE=DURATION:PT1H
X-Robots-Tag:noindex
X-PUBLISHED-TTL:PT1H
BEGIN:VTIMEZONE
TZID:UTC
BEGIN:STANDARD
TZOFFSETFROM:+0000
TZOFFSETTO:+0000
TZNAME:UTC
DTSTART:20230101T000000
END:STANDARD
END:VTIMEZONE
BEGIN:VEVENT
DTSTART;TZID=UTC:20230404T080000
DTEND;TZID=UTC:20230630T170000
DTSTAMP:20260423T094447
CREATED:20230404T125244Z
LAST-MODIFIED:20230404T125845Z
UID:10000837-1680595200-1688144400@znp.edu.pl
SUMMARY:Konkurs ZNP „Ognisko na medal”
DESCRIPTION:Związek Nauczycielstwa Polskiego ogłasza konkurs „Ognisko na medal”! \nCelem konkursu jest wyłonienie sześciu ognisk ZNP\, które zwiększyły swoją liczebność i wykażą dobre praktyki\, innowacyjne pomysły w zakresie pozyskiwania i organizowania członków/kiń ZNP w okresie od 1 września 2022 r. do dnia ogłoszenia konkursu. \nKonkurs ma zasięg ogólnopolski. \nW konkursie może wziąć udział każde Ognisko ZNP. \nTermin dostarczenia zgłoszenia – do 30 czerwca 2023 r. \nCzekają atrakcyjne nagrody rzeczowe i pieniężne: laptopy i fundusze na integrację\, a także całoroczna prenumerata Głosu Nauczycielskiego. \nZapraszamy! \nDOKUMENTY
URL:https://znp.edu.pl/impreza/konkurs-ognisko-znp-na-medal/
ATTACH;FMTTYPE=image/jpeg:https://znp.edu.pl/assets/uploads/2023/03/znp_post_konkurs.jpg
END:VEVENT
BEGIN:VEVENT
DTSTART;TZID=UTC:20230530T080000
DTEND;TZID=UTC:20230908T170000
DTSTAMP:20260423T094447
CREATED:20230530T090929Z
LAST-MODIFIED:20230530T090929Z
UID:10000838-1685433600-1694192400@znp.edu.pl
SUMMARY:Konkursy Nauczyciel Roku 2023 i Nauczyciel Jutr@
DESCRIPTION:Tygodnik Głos Nauczycielski ogłosił kolejną edycję konkursu! \n– Nauczyciele i nauczycielki z pasją\, z niezwykłą osobowością\, wyjątkowi i cenieni w swoim środowisku! Chcemy Was poznać i nagrodzić! Już po raz 21. rusza Konkurs Nauczyciel Roku! Ogłaszamy także Konkurs Nauczyciel Jutr@ organizowany po raz trzeci przez Głos Nauczycielski i Fundację Orange – czytamy na stronie Głosu. \n– Niezwykłość Konkursów Nauczyciel Roku oraz Nauczyciel Jur@ polega na tym\, że udaje się włączyć w naszą inicjatywę wiele wybitnych osobistości\, w tym także ze świata kultury i polityki. Szczycimy się\, że nasze Konkursy jednoczą wokół edukacji ludzi o różnych poglądach\, dowodząc że o szkole i nauczycielach można rozmawiać ponad podziałami – pisze Głos. \nObydwa Konkursy rozstrzyga Jury pod przewodnictwem prof. Stefana M. Kwiatkowskiego. W Konkursie Nauczyciel Roku zgodnie z regulaminem wybiera trzynastkę finalistów. Spośród nich jedna osoba otrzymuje tytuł Nauczyciela Roku dwie osoby Wyróżnienia\, a pozostała dziesiątka zostaje Nominowana do tytułu Nauczyciel Roku. Celem konkursu jest promowanie świetnych nauczycieli\, którzy są autorytetami w swoich środowiskach\, pasjonatów\, ludzi zaangażowanych w podnoszenie jakości edukacji – znakomitych dydaktyków\, ale i wychowawców. \nW tym roku już po raz trzeci zostanie rozstrzygnięty Konkurs Nauczyciel Jutr@\, organizowany przez Głos wspólnie z Fundacją Orange. Jury wybierze piątkę finalistów\, którzy wyróżniają się otwartą postawą na prowadzenie zajęć opierających się na dialogu\, angażujących metodach\, dążą do podnoszenia swoich kompetencji medialnych\, informacyjnych i cyfrowych oraz korzystają z nowych technologii lub e-zasobów edukacyjnych\, aby prowadzić ciekawsze i inspirujące zajęcia. Spośród nich zostanie wybrany Nauczyciela Jutr@. \nGala Finałowa odbędzie się 10 października 2023 r. \nKonkursy w pigułce\, czyli jak zostać Nauczycielem Roku i/lub Nauczycielem Jutr@\n>> Uczestnikiem Konkursów Nauczyciel Roku 2023 i Nauczyciel Jutr@ może być każdy\, kto jest czynnym nauczycielem\, bez względu na rodzaj placówki\, w której pracuje (z wyjątkiem szkół wyższych)\, stopień awansu zawodowego\, specjalność i staż pracy. \n>> Kandydatów na Nauczyciela Roku 2023 i Nauczyciela Jutr@ mogą zgłaszać m.in. dyrekcje placówek\, koledzy z grona pedagogicznego\, uczniowie\, rodzice\, organy prowadzące\, kuratoria oświaty. A także organizacje i instytucje współpracujące z nauczycielem. Można też samemu zgłosić swoją kandydaturę. \n>> Wymogiem formalnym jest wypełnienie formularza i napisanie uzasadnienia wniosku oraz przedstawienie osiągnięć nauczyciela\, zarówno tych\, które można zmierzyć i policzyć\, jak i tych\, których nie da się przełożyć na liczby i procenty. >> Na zgłoszenia do Konkursu Nauczyciel Roku 2023 redakcja czeka do 8 września 2023 r. (liczy się data stempla pocztowego). Formularz wraz z załącznikami trzeba wysłać na adres: Głos Nauczycielski\, ul. J. Smulikowskiego 6/8\, 00-389 Warszawa z dopiskiem „Nauczyciel Roku 2023”. W przypadku Konkursu Nauczyciel Jutr@ zgłoszenie online trzeba wypełnić i wysłać do 10 września 2023 r. do północy. \n>> Udział w jednym Konkursie nie wyklucza możliwości udziału w drugim. Można zatem startować w jednym z nich lub w obydwu! \n>> Regulamin Konkursu Nauczyciel Roku 2023 wraz z formularzem zgłoszeniowym na: glos.pl/nauczycielroku (kontakt: nauczycielroku@glos.pl) \n>> Regulamin Konkursu Nauczyciel Jutr@ wraz z linkiem do formularza zgłoszeniowego na: glos.pl/nauczycieljutra (kontakt: nauczycieljutra@glos.pl) \nŹródło: www.glos.pl
URL:https://znp.edu.pl/impreza/konkursy-nauczyciel-roku-2023-i-nauczyciel-jutr/
ATTACH;FMTTYPE=image/png:https://znp.edu.pl/assets/uploads/2023/05/2023_NR_logo_RGB-750x823-1.png
END:VEVENT
BEGIN:VEVENT
DTSTART;TZID=UTC:20230601T080000
DTEND;TZID=UTC:20230601T233000
DTSTAMP:20260423T094447
CREATED:20230601T112918Z
LAST-MODIFIED:20230601T112918Z
UID:10000840-1685606400-1685662200@znp.edu.pl
SUMMARY:Dzień Dziecka
DESCRIPTION:
URL:https://znp.edu.pl/impreza/dzien-dziecka/
ATTACH;FMTTYPE=image/png:https://znp.edu.pl/assets/uploads/2022/06/znp_sm_post_dzien-dziecka-1.png
END:VEVENT
BEGIN:VEVENT
DTSTART;TZID=UTC:20230603T080000
DTEND;TZID=UTC:20230604T170000
DTSTAMP:20260423T094447
CREATED:20230504T103029Z
LAST-MODIFIED:20230504T103029Z
UID:10000592-1685779200-1685898000@znp.edu.pl
SUMMARY:Giżycka Spartakiada Wodna ZNP
DESCRIPTION:Zarząd Oddziału ZNP w Giżycku zaprasza w czerwcu na Giżycką Spartakiadę Wodną. W spartakiadzie mogą brać udział drużyny składające się z pracowników oświaty. Zespół może stanowić reprezentację szkoły\, miasta\, gminy\, powiatu lub województwa. \nTermin: sobota/niedziela\, 3-4 czerwca 2023 r. \nMiejsce: Jezioro Ryńskie\, Szkolne Schronisko Młodzieżowe\, 11-520 Ryn\, ul. Mazurska 19.
URL:https://znp.edu.pl/impreza/gizycka-spartakiada-wodna-znp-2/
CATEGORIES:Imprezy sportowe i turystyczne
ATTACH;FMTTYPE=image/jpeg:https://znp.edu.pl/assets/uploads/2023/05/Imprezy-sportowe.jpg
END:VEVENT
BEGIN:VEVENT
DTSTART;TZID=UTC:20230613T100000
DTEND;TZID=UTC:20230613T150000
DTSTAMP:20260423T094447
CREATED:20230606T114118Z
LAST-MODIFIED:20230606T114152Z
UID:10000841-1686650400-1686668400@znp.edu.pl
SUMMARY:Konferencja: Dialog społeczny w sferze publicznej
DESCRIPTION:Zapraszamy do udziału w konferencji „Dialog społeczny w sferze publicznej”\, która odbędzie się 13 czerwca 2023 r. w Warszawie w siedzibie Zarządu Głównego Związku Nauczycielstwa Polskiego przy ul. Smulikowskiego 6/8 w Warszawie. \nREJESTRACJA TUTAJ \nPanel I (godz. 10:00 – 12:00) \nDialog społeczny w sektorze publicznym – perspektywa naukowa \nModeracja i wprowadzenie – dr Błażej Mądrzycki\, Uniwersytet Śląski/OPZZ i ZNP \n\nPraktyka zawierania układów zbiorowych pracy dla pracowników służby publicznej w Niemczech – dr hab. Monika Gładoch\, prof. ucz.\, Uniwersytet Kardynała Stefana Wyszyńskiego\nRokowania układowe jako instrument reformy prawa urzędniczego w Polsce – dr hab. Paweł Nowik\, prof. ucz.\, Katolicki Uniwersytet Lubelski\nDialog społeczny w służbie cywilnej – dr Jakub Szmit\, Uniwersytet Gdański\nPrawne ramy dialogu społecznego w służbie publicznej – dr hab. Łukasz Pisarczyk\, prof. ucz.\, Uniwersytet Zielonogórski\n\n12:00 – 13:00 przerwa obiadowa \nPanel II (godz. 13:00 – 15:00) \nDialog społeczny w sektorze publicznym – perspektywa praktyczna \n  \nOrganizatorzy: \nOgólnopolskie Porozumienie Związków Zawodowych \nZwiązek Nauczycielstwa Polskiego \nInstytut Nauk Prawnych Uniwersytetu Zielonogórskiego \n  \n– Dialog społeczny i negocjacje zbiorowe są charakterystycznymi cechami wysoko rozwiniętego społeczeństwa demokratycznego. Dobrze rozwinięte relacje zbiorowe sprzyjają zwiększeniu wydajności pracy\, zapewniają sprawiedliwość społeczną\, wysoką jakość środowiska i demokrację w miejscu pracy – mówi dr Błażej Mądrzycki\, wiceprzewodniczący OPZZ\, ZNP\, Uniwersytet Śląski.
URL:https://znp.edu.pl/impreza/konferencja-dialog-spoleczny-w-sferze-publicznej/
CATEGORIES:Imprezy inne
ATTACH;FMTTYPE=image/jpeg:https://znp.edu.pl/assets/uploads/2023/06/thumbnail_13.06.2023-r.-Dialog-spoleczny-w-sferze-publicznej.jpg
END:VEVENT
BEGIN:VEVENT
DTSTART;TZID=UTC:20230620T120000
DTEND;TZID=UTC:20230620T160000
DTSTAMP:20260423T094447
CREATED:20230601T112751Z
LAST-MODIFIED:20230601T112751Z
UID:10000839-1687262400-1687276800@znp.edu.pl
SUMMARY:Katowice: Debata „Edukacja jest najważniejsza”
DESCRIPTION:Debata edukacyjna \n„Edukacja jest najważniejsza” \nKiedy: 20 czerwca 2023 r.\, godz. 12:00 \nGdzie: Katowice (Sala Sejmu Śląskiego\, ul. Ligonia 46 ) \nOrganizatorzy: ZNP Okręg Śląski i Partnerzy
URL:https://znp.edu.pl/impreza/katowice-debata-edukacja-jest-najwazniejsza/
CATEGORIES:Imprezy inne
ATTACH;FMTTYPE=image/jpeg:https://znp.edu.pl/assets/uploads/2023/06/znp_post_debata-edukacyjna_katowice.jpg
END:VEVENT
END:VCALENDAR