BEGIN:VCALENDAR
VERSION:2.0
PRODID:-//ZNP - ECPv6.11.2.1//NONSGML v1.0//EN
CALSCALE:GREGORIAN
METHOD:PUBLISH
X-ORIGINAL-URL:https://znp.edu.pl
X-WR-CALDESC:Events for ZNP
REFRESH-INTERVAL;VALUE=DURATION:PT1H
X-Robots-Tag:noindex
X-PUBLISHED-TTL:PT1H
BEGIN:VTIMEZONE
TZID:UTC
BEGIN:STANDARD
TZOFFSETFROM:+0000
TZOFFSETTO:+0000
TZNAME:UTC
DTSTART:20230101T000000
END:STANDARD
END:VTIMEZONE
BEGIN:VEVENT
DTSTART;TZID=UTC:20230530T080000
DTEND;TZID=UTC:20230908T170000
DTSTAMP:20260423T045614
CREATED:20230530T090929Z
LAST-MODIFIED:20230530T090929Z
UID:10000838-1685433600-1694192400@znp.edu.pl
SUMMARY:Konkursy Nauczyciel Roku 2023 i Nauczyciel Jutr@
DESCRIPTION:Tygodnik Głos Nauczycielski ogłosił kolejną edycję konkursu! \n– Nauczyciele i nauczycielki z pasją\, z niezwykłą osobowością\, wyjątkowi i cenieni w swoim środowisku! Chcemy Was poznać i nagrodzić! Już po raz 21. rusza Konkurs Nauczyciel Roku! Ogłaszamy także Konkurs Nauczyciel Jutr@ organizowany po raz trzeci przez Głos Nauczycielski i Fundację Orange – czytamy na stronie Głosu. \n– Niezwykłość Konkursów Nauczyciel Roku oraz Nauczyciel Jur@ polega na tym\, że udaje się włączyć w naszą inicjatywę wiele wybitnych osobistości\, w tym także ze świata kultury i polityki. Szczycimy się\, że nasze Konkursy jednoczą wokół edukacji ludzi o różnych poglądach\, dowodząc że o szkole i nauczycielach można rozmawiać ponad podziałami – pisze Głos. \nObydwa Konkursy rozstrzyga Jury pod przewodnictwem prof. Stefana M. Kwiatkowskiego. W Konkursie Nauczyciel Roku zgodnie z regulaminem wybiera trzynastkę finalistów. Spośród nich jedna osoba otrzymuje tytuł Nauczyciela Roku dwie osoby Wyróżnienia\, a pozostała dziesiątka zostaje Nominowana do tytułu Nauczyciel Roku. Celem konkursu jest promowanie świetnych nauczycieli\, którzy są autorytetami w swoich środowiskach\, pasjonatów\, ludzi zaangażowanych w podnoszenie jakości edukacji – znakomitych dydaktyków\, ale i wychowawców. \nW tym roku już po raz trzeci zostanie rozstrzygnięty Konkurs Nauczyciel Jutr@\, organizowany przez Głos wspólnie z Fundacją Orange. Jury wybierze piątkę finalistów\, którzy wyróżniają się otwartą postawą na prowadzenie zajęć opierających się na dialogu\, angażujących metodach\, dążą do podnoszenia swoich kompetencji medialnych\, informacyjnych i cyfrowych oraz korzystają z nowych technologii lub e-zasobów edukacyjnych\, aby prowadzić ciekawsze i inspirujące zajęcia. Spośród nich zostanie wybrany Nauczyciela Jutr@. \nGala Finałowa odbędzie się 10 października 2023 r. \nKonkursy w pigułce\, czyli jak zostać Nauczycielem Roku i/lub Nauczycielem Jutr@\n>> Uczestnikiem Konkursów Nauczyciel Roku 2023 i Nauczyciel Jutr@ może być każdy\, kto jest czynnym nauczycielem\, bez względu na rodzaj placówki\, w której pracuje (z wyjątkiem szkół wyższych)\, stopień awansu zawodowego\, specjalność i staż pracy. \n>> Kandydatów na Nauczyciela Roku 2023 i Nauczyciela Jutr@ mogą zgłaszać m.in. dyrekcje placówek\, koledzy z grona pedagogicznego\, uczniowie\, rodzice\, organy prowadzące\, kuratoria oświaty. A także organizacje i instytucje współpracujące z nauczycielem. Można też samemu zgłosić swoją kandydaturę. \n>> Wymogiem formalnym jest wypełnienie formularza i napisanie uzasadnienia wniosku oraz przedstawienie osiągnięć nauczyciela\, zarówno tych\, które można zmierzyć i policzyć\, jak i tych\, których nie da się przełożyć na liczby i procenty. >> Na zgłoszenia do Konkursu Nauczyciel Roku 2023 redakcja czeka do 8 września 2023 r. (liczy się data stempla pocztowego). Formularz wraz z załącznikami trzeba wysłać na adres: Głos Nauczycielski\, ul. J. Smulikowskiego 6/8\, 00-389 Warszawa z dopiskiem „Nauczyciel Roku 2023”. W przypadku Konkursu Nauczyciel Jutr@ zgłoszenie online trzeba wypełnić i wysłać do 10 września 2023 r. do północy. \n>> Udział w jednym Konkursie nie wyklucza możliwości udziału w drugim. Można zatem startować w jednym z nich lub w obydwu! \n>> Regulamin Konkursu Nauczyciel Roku 2023 wraz z formularzem zgłoszeniowym na: glos.pl/nauczycielroku (kontakt: nauczycielroku@glos.pl) \n>> Regulamin Konkursu Nauczyciel Jutr@ wraz z linkiem do formularza zgłoszeniowego na: glos.pl/nauczycieljutra (kontakt: nauczycieljutra@glos.pl) \nŹródło: www.glos.pl
URL:https://znp.edu.pl/impreza/konkursy-nauczyciel-roku-2023-i-nauczyciel-jutr/
ATTACH;FMTTYPE=image/png:https://znp.edu.pl/assets/uploads/2023/05/2023_NR_logo_RGB-750x823-1.png
END:VEVENT
BEGIN:VEVENT
DTSTART;TZID=UTC:20230901T080000
DTEND;TZID=UTC:20230926T170000
DTSTAMP:20260423T045614
CREATED:20230904T134519Z
LAST-MODIFIED:20230904T134542Z
UID:10000844-1693555200-1695747600@znp.edu.pl
SUMMARY:Nasz patronat: Raport Pileckiego
DESCRIPTION:Nasz patronat. Raport Pileckiego – premiera 1 września!\nBył harcerzem\, uczestnikiem Bitwy Warszawskiej\, obrońcą Polski w 1939 r.\, członkiem ruchu oporu\, walczył u Andersa. Zasłynął jako ochotnik do Auschwitz – wszedł do obozu\, skąd potem brawurowo zbiegł\, by dać świadectwo … \nTytuł „Raport Pileckiego” nawiązuje do dokumentu\, który bohater napisał po tym\, jak spędził 947 dni w KL Auschwitz\, nazistowskim „piekle na ziemi”. Pilecki zgłosił się na ochotnika\, by wejść do obozu koncentracyjnego\, skąd następnie brawurowo zbiegł. Dał świadectwo\, przekazując światu prawdę o zbrodniczej działalności Niemców. \n„Po wojnie aresztowany\, torturowany i skazany na śmierć przez komunistów za działalność wrogą Polsce Ludowej nigdy nie wyrzekł się swoich ideałów” – to fragment opisu losów bohatera filmu. \nI dalej: „Podczas ostatniego widzenia z żoną powiedział: >>Ja już żyć nie mogę\, mnie wykończono\, Oświęcim to była igraszka<<. Skazano go na karę śmierci. Prezydent Bolesław Bierut nie zgodził się na ułaskawienie. Wyrok na rotmistrzu Pileckim wykonano 25 maja 1948 roku w Warszawie”. \nPostać głównego bohatera twórcy filmu charakteryzują tak: \n„Patriota wierny swoim wartościom i przysiędze złożonej Wolnej Polsce pozostał rozdarty między powinnościami wobec ojczyzny i rodziny. Odważny żołnierz\, a zarazem czuły ojciec i mąż stanął w obliczu tragicznych dylematów moralnych. Jego postać pozostanie na zawsze w naszej kulturze symbolem miłości\, bohaterstwa i niezłomnej walki o prawdę”. \nJak przypomniano\, w 1990 r. rotmistrz Pilecki został zrehabilitowany\, w 2006 r. prezydent Lech Kaczyński odznaczył go pośmiertnie Orderem Orła Białego\, a w 2013 r. został awansowany do stopnia pułkownika. Brytyjski historyk prof. Michael Foot zaliczył Witolda Pileckiego do grona sześciu najodważniejszych ludzi ruchu oporu podczas II wojny światowej. \nW rolę Witolda Pileckiego wcielił się – jak podkreślono w opisie filmu – fizycznie niezwykle do niego podobny Przemysław Wyszyński. To absolwent Wydziału Aktorskiego Akademii Teatralnej im. Aleksandra Zelwerowicza w Warszawie\, znany m.in. z ról w filmach „Na układy nie ma rady”\, „Diablo. Wyścig o wszystko” oraz serialach: „Na wspólnej”\, „Plebania” i „Papiery na szczęście”. \n„Miałem ogromny zaszczyt wcielić się w postać rotmistrza Witolda Pileckiego\, a było to wyjątkowe wyzwanie. Moim zadaniem było opowiedzenie historii autentycznego człowieka\, który kiedyś istniał\, miał swoje marzenia i pragnienia\, odczuwał pełne spektrum emocji\, radość\, miłość i strach\, człowieka\, który został postawiony w sytuacji bez wyjścia\, a mimo to udało mu nie utracić swojego człowieczeństwa. Witold miał piękne\, kochające serce\, którego potrafił słuchać. To bardzo inspirująca postać” – powiedział Przemysław Wyszyński. \nW rolach głównych wystąpili ponadto: Paulina Chapko jako Maria Pilecka („Dziewczyny ze Lwowa”)\, Mariusz Jakus jako Eugeniusz Chimczak („Korona Królów. Jagiellonowie”)\, Karol Wróblewski jako Józef Różański („Brokat”) i Paweł Paprocki jako Józef Cyrankiewicz („Negocjator”). Muzykę do filmu skomponował Michał Lorenc („Orlęta. Grodno’39”). \nCo jeszcze można powiedzieć o filmie przed oficjalną premierą? „W filmie dokładnie zrekonstruowano realia czasów\, w których rozgrywa się akcja filmu\, by przenieść widzów w głąb wydarzeń historycznych\, odkrywając zarówno nieznane fakty\, jak i ważne aspekty życia bohatera” – podaje producent. Mottem obrazu są słowa rotmistrza Pileckiego: „Starałem się tak żyć\, abym w godzinie śmierci mógł się raczej cieszyć\, niż lękać”. \n25 maja\, w rocznicę stracenia rotmistrza Pileckiego\, obchodzimy Międzynarodowy Dzień Bohaterów Walki z Totalitaryzmem ustanowiony w 2019 r. przez Parlament Europejski. „Przyjmując rezolucję\, europosłowie podkreślili\, że agresja\, jakiej doświadczyła Polska w 1939 roku\, miała podwójne oblicze – zarówno ze strony hitlerowskich Niemiec\, jak i stalinowskiej Rosji” – przypomniano w opisie filmu. \n*** \n„Raport Pileckiego”\, reżyseria: Krzysztof Łukaszewicz\, scenariusz pierwotny: Leszek Wosiewicz\, scenariusz – adaptacja: Krzysztof Łukaszewicz; muzyka: Michał Lorenc\, produkcja: WFDiF; koprodukcja: Telewizja Polska – Agencja Kreacji Filmu i Serialu; dystrybucja: TVP Dystrybucja Kinowa \n>> Materiały edukacyjne (scenariusze zajęć\, wideoprelekcja\, plakat) dostępne są pod linkiem: \nhttps://dystrybucjakinowa.tvp.pl/71615707/raport-pileckiego-edukacja \nPatronat medialny nad filmem objął też Głos Nauczycielski \nFot. Krzysztof Wiktor \nŹródło: Materiały prasowe\, www.glos.pl
URL:https://znp.edu.pl/impreza/nasz-patronat-raport-pileckiego/
END:VEVENT
BEGIN:VEVENT
DTSTART;TZID=UTC:20230901T120000
DTEND;TZID=UTC:20230901T140000
DTSTAMP:20260423T045614
CREATED:20230710T140328Z
LAST-MODIFIED:20230821T115150Z
UID:10000842-1693569600-1693576800@znp.edu.pl
SUMMARY:Pikieta ZNP 1 września
DESCRIPTION:Związek Nauczycielstwa Polskiego organizuje pikietę protestacyjną w piątek\, 1 września 2023 roku tuż przed rozpoczęciem nowego roku szkolnego.  \n1 września idziemy na pikietę\, ponieważ: \n\nmamy rekordowo wysoką inflację i rekordowo niskie pensje – 3690 zł brutto dla początkującego nauczyciela\npaństwo nie ceni nauczycieli. Dosłownie. Dzisiaj pensja początkującego jest tylko o 90 zł wyższa niż płaca minimalna\nkształcimy kadry\, które przyczyniają się do rozwoju kraju\, tymczasem uczelniom grozi zapaść kadrowa\, bo niskie wynagrodzenia (5 zł powyżej minimalnej krajowej) nie przyciągają młodych zdolnych ludzi do pracy w zawodzie naukowca\npogarszają się warunki nauki i pracy w oświacie\, na polskich uczelniach i w placówkach badawczych\nbrakuje nauczycieli a będzie gorzej\, bo starzeje się obecna kadra\nmamy dość złych reform i ich skutków\nzależy nam na naszych uczniach i uczennicach oraz studentach i studentkach i wiemy\, że edukacja jest najważniejsza\, bo dzięki niej zmienia się świat\nchcemy edukacji na miarę XXI\, a nie XIX wieku z odchudzoną podstawą programową\, 20-osobowymi klasami i wsparciem specjalistów;\nchcemy edukacji dobrze i racjonalnie finansowanej\, w tym realnej poprawy sytuacji materialnej nauczycieli i pracowników\, edukacji z profesjonalną i dowartościowaną kadrą\nchcemy edukacji ukierunkowanej na kluczowe kompetencje\, a nie szczegółowe wiadomości\, edukacji opartej na autonomii i samodzielności szkół\, a nie centralnie sterowanej\, edukacji równych szans\n „rządy\, które pozwalają na pauperyzację nauczycielek i nauczycieli oraz obniżanie ich społecznego i zawodowego prestiżu\, w bezpośredni sposób narażają na niebezpieczeństwo przyszłość swoich narodów”(„25 lekcji o edukacji i demokracji”).\n\n\nPikieta ZNP rozpocznie się w samo południe 1 września przed siedzibą Ministerstwa Edukacji i Nauki w Warszawie przy al. Szucha 25.
URL:https://znp.edu.pl/impreza/pikieta-znp-1-wrzesnia/
ATTACH;FMTTYPE=image/jpeg:https://znp.edu.pl/assets/uploads/2023/07/1-wrzesnia-idziemy-na-pikiete_fb_post.jpg
END:VEVENT
END:VCALENDAR