BEGIN:VCALENDAR
VERSION:2.0
PRODID:-//ZNP - ECPv6.11.2.1//NONSGML v1.0//EN
CALSCALE:GREGORIAN
METHOD:PUBLISH
X-ORIGINAL-URL:https://znp.edu.pl
X-WR-CALDESC:Events for ZNP
REFRESH-INTERVAL;VALUE=DURATION:PT1H
X-Robots-Tag:noindex
X-PUBLISHED-TTL:PT1H
BEGIN:VTIMEZONE
TZID:UTC
BEGIN:STANDARD
TZOFFSETFROM:+0000
TZOFFSETTO:+0000
TZNAME:UTC
DTSTART:20240101T000000
END:STANDARD
END:VTIMEZONE
BEGIN:VEVENT
DTSTART;TZID=UTC:20240126T080000
DTEND;TZID=UTC:20240218T170000
DTSTAMP:20260422T164810
CREATED:20240129T094814Z
LAST-MODIFIED:20240129T094814Z
UID:10000855-1706256000-1708275600@znp.edu.pl
SUMMARY:NASZ PATRONAT: Kos
DESCRIPTION:Wiosna 1794 r.\, w Polsce wrze. Do kraju wraca gen. Tadeusz „Kos” Kościuszko\, który planuje wzniecenie powstania przeciwko Rosjanom\, mobilizując do tego szlachtę i chłopów. Towarzyszy mu wierny przyjaciel\, były niewolnik… Tak rozpoczyna się akcja „Kosa”\, filmu w reżyserii Pawła Maślony. Obraz już 26 stycznia wszedł na ekrany kin!\npremiera 26 stycznia\n\n\n\nKATEGORIA WIEKOWA: 15+\n\n\nSCENARIUSZE ZAJĘĆ: historia\, j. polski\, godzina wychowawcza\, etyka (linki do materiałów)\n\n\nWALORY EDUKACYJNE:\n• Przedstawienie ważnej postaci historycznej (Kościuszki) w świeży\, interesujący sposób.\n\n\n• Immersyjny i wielobarwny portret Polski z czasów zaborów; pozbawiony martyrologii\, odważnie mówiący o grzechach\, rozliczeniowy\n\n\n• Popularyzacja rodzimej historii dzięki atrakcyjnej formie\, zbliżonej do estetyki popularnych reżyserów (Tarantino\, Ritchie)\n\n\n• Inne\, krytyczne spojrzenie na tradycje sarmackie i romantyczne\n\n\n• Opowieść o chłopskich korzeniach naszego narodu. Bardzo wyrazista i trafna analogia między polskimi chłopami pańszczyźnianymi a afroamerykańskimi niewolnikami.\n\n\n• Przykład autorskiego kina gatunkowego; artystyczne podejście do kina kostiumowego i historycznego\n\n\n• Stawianie pytania o prawdziwy patriotyzm. Aktualne refleksje na temat polskich wad narodowych\n\n\n• Wprowadzenie młodego widza w takie nurty i gatunki jak: postmodernizm\, trawestacja\, ironia\, czarny humor\, przejaskrawienie\, łączenie komizmu z tragizmem\, celowe ahistoryzmy\n\n\n• Przykład niekonwencjonalnego kina biograficznego\n\n\n• Przykład literacko-filmowego motywu zemsty\n\n\n\n EDUKATORZY O FILMIE: link do filmu\n\n\n WIDEOPRELEKCJA: link \n\n\n INTERAKTYWNA KARTA PRACY: link do karty\n\n\nGATUNEK: akcja\n\n\nREŻYSERIA: Paweł Maślona\n\n\nOBSADA: Bartosz Bielenia\, Jacek Braciak\, Robert Więckiewicz\, Agnieszka Grochowska\, Piotr Pacek\, Jason Mitchell\n\n\nPRODUKCJA: polska
URL:https://znp.edu.pl/impreza/nasz-patronat-kos/
ATTACH;FMTTYPE=image/jpeg:https://znp.edu.pl/assets/uploads/2024/01/kos_glos_nauczycielski_254x314-scaled.jpg
END:VEVENT
BEGIN:VEVENT
DTSTART;TZID=UTC:20240129T080000
DTEND;TZID=UTC:20240218T170000
DTSTAMP:20260422T164810
CREATED:20240129T093733Z
LAST-MODIFIED:20240129T094257Z
UID:10000854-1706515200-1708275600@znp.edu.pl
SUMMARY:NASZ PATRONAT: Cudowny Chłopak - Biały Ptak
DESCRIPTION:Ekranizacja światowego bestsellera „CUDOWNY CHŁOPAK” porwała 1\,5-milionową widownię w każdym wieku\, dostarczając nie tylko znakomitej rozrywki\, ale także wielkich wzruszeń i okazji do przemyśleń. Jej kontynuacja to kolejna niezwykła opowieść o potrzebie akceptacji\, odwadze\, miłości i walce o przetrwanie.\n\n\n\n\n\n\nNajnowszy film twórcy nagrodzonych OSCARAMI hitów „MARZYCIEL” i „CZEKAJĄC NA WYROK”\, a także przebojowych „WORLD WAR Z”\, „QUANTUM OF SOLACE” i „KRZYSIU\, GDZIE JESTEŚ?”! Nagrodzona OSCAREM HELEN MIRREN oraz znakomita GILLIAN ANDERSON w opowieści o tym\, że każdy zasługuje na drugą szansę.\nreżyseria: Marc Forster\ngatunek: familijny\nobsada: Helen Mirren\, Gillian Anderson\, Bryce Gheisar\, Olivia Ross\, Orlando Schwerdt\npremiera: 2 lutego 2024 (Polska)\n\n\n\nMinęło kilka lat od wydarzeń znanych z „Cudownego chłopaka”. Julien usunięty ze szkoły za niekoleżeńskie traktowanie małego Auggiego\, próbuje odnaleźć się w liceum. Rozgoryczony\, wściekły na cały świat\, nie potrafi nawiązać kontaktu z rówieśnikami. Na życzliwość reaguje niechęcią. Nie umiejąc sobie poradzić z poczuciem winy izoluje się od szkolnej społeczności. Jego nieco ekscentryczna babcia wie jednak\, że każdy zasługuje na drugą szansę. Postanawia podzielić się z Julienem poruszającą historią swojej młodości.\n\n\nJej niezwykłe losy są dowodem na to\, że ten kto ma w sercu odwagę\, życzliwość i otwartość na drugiego człowieka potrafi dokonać rzeczy\, o które sam by siebie nie podejrzewał. Czy ta niezwykła historia miłości i walki o przetrwanie odmieni Juliena? \n\n\n\n\n\nLink do materiałów edukacyjnych TUTAJ\n\n\nOpinie nauczycieli\, rodziców i uczniów o filmie
URL:https://znp.edu.pl/impreza/nasz-patronat-cudowny-chlopak-bialy-ptak/
ATTACH;FMTTYPE=image/jpeg:https://znp.edu.pl/assets/uploads/2024/01/Cudowny-Chlopak-bialy-ptak_plakat-finalny_data_QR-Code_kk-1.jpg
END:VEVENT
BEGIN:VEVENT
DTSTART;TZID=UTC:20240201T080000
DTEND;TZID=UTC:20240201T170000
DTSTAMP:20260422T164810
CREATED:20240129T095033Z
LAST-MODIFIED:20240129T095202Z
UID:10000856-1706774400-1706806800@znp.edu.pl
SUMMARY:MEN - ZNP: Projekt rozporządzenia płacowego - spotkanie uzgodnieniowe
DESCRIPTION:Spotkanie uzgodnieniowe projektu rozporządzenia Ministra Edukacji Narodowej zmieniającego rozporządzenie ws. wysokości minimalnych stawek wynagrodzenia zasadniczego nauczycieli\, ogólnych warunków przyznawania dodatków do wynagrodzenia zasadniczego oraz wynagradzania za pracę w dniu wolnym od pracy odbędzie się 1 lutego br. w gmachu Ministerstwa Edukacji Narodowej w Warszawie. \n19 stycznia br. Związek Nauczycielstwa Polskiego otrzymał do zaopiniowania projekt rozporządzenia płacowego. Ministerstwo edukacji zaproponowało następujące stawki minimalnego wynagrodzenia zasadniczego nauczycieli z pierwszej grupy zaszeregowania płacowego (tj. posiadających tytuł zawodowy magistra z przygotowaniem pedagogicznym): \n\nnieposiadający stopnia awansu zawodowego (nauczyciel początkujący) – 4 908 zł\nnauczyciel mianowany – 5 057 zł\nnauczyciel dyplomowany – 5 915 zł\n\nMinisterstwo edukacji zaproponowało zmiany\, w wyniku których minimalne stawki wynagrodzenia zasadniczego nauczycieli z pierwszej grupy zaszeregowania płacowego wzrosną dla nauczycieli: \n\nnieposiadających stopnia awansu zawodowego (nauczycieli początkujących) – o 1 218 zł;\nmianowanych – o 1 167 zł;\ndyplomowanych – o 1 365 zł.\n\nProjekt rozporządzenia został skierowany do zaopiniowania przez reprezentatywne organizacje związkowe.
URL:https://znp.edu.pl/impreza/men-znp-spotkanie-uzgodnieniowe-projektu-rozporzadzenia-placowego/
ATTACH;FMTTYPE=image/jpeg:https://znp.edu.pl/assets/uploads/2024/01/Minimalne-wynagrodzenia-1.2024.jpg
END:VEVENT
BEGIN:VEVENT
DTSTART;TZID=UTC:20240201T080000
DTEND;TZID=UTC:20240415T170000
DTSTAMP:20260422T164811
CREATED:20240202T105522Z
LAST-MODIFIED:20240202T110319Z
UID:10000608-1706774400-1713200400@znp.edu.pl
SUMMARY:Konkurs dla maturzystów „Jaka polska demokracja przyszłości”
DESCRIPTION:Wystartowała tegoroczna edycja konkursu dla maturzystów organizowanego przez Concilium Civitas i #ZNP!\n\n\n\n Maturzysto\, Maturzystko!\nJeśli chcesz za darmo studiować w jednej z uczelni niepublicznych w Polsce – (Akademia Leona Koźmińskiego – Kozminski University\, Collegium Civitas\, Uniwersytet SWPS)\n\n\n\n Jeśli chcesz się spotkać i dyskutować z profesorami najlepszych uczelni świata: Harvardu\, Oxfordu\, Stanfordu\, Yale\n\n\n\n Jeśli chcesz być zaproszony do Młodego Concilium – ekskluzywnego grona Twoich rówieśników interesujących się sprawami publicznymi\n\n\n\nJeśli jesteś tegorocznym maturzystą weź udział w konkursie na esej /artykuł/ reportaż na temat:\n\n\n\n\n\n Jaka polska demokracja przyszłości  \n\norganizowanym przez Fundację Collegium Civitas i Związek Nauczycielstwa Polskiego\n\n\n\n Termin nadsyłania prac 19.01-15.04.2024\n\n\n\nmlodeconcilium@civitas.edu.pl\n\nWięcej informacji o konkursie TUTAJ
URL:https://znp.edu.pl/impreza/konkurs-dla-maturzystow-mlode-concilium/
ATTACH;FMTTYPE=image/jpeg:https://znp.edu.pl/assets/uploads/2024/02/420062655_772533904918064_3213318011973106246_n.jpg
END:VEVENT
BEGIN:VEVENT
DTSTART;TZID=UTC:20240202T070000
DTEND;TZID=UTC:20240202T170000
DTSTAMP:20260422T164811
CREATED:20240201T151940Z
LAST-MODIFIED:20240201T151954Z
UID:10000857-1706857200-1706893200@znp.edu.pl
SUMMARY:ZNP w TOK FM
DESCRIPTION:
URL:https://znp.edu.pl/impreza/znp-w-tok-fm-2/
ATTACH;FMTTYPE=image/jpeg:https://znp.edu.pl/assets/uploads/2024/02/17-marca-2022-r.-przedstawicielka-ZNP-Edyta-Ksiazek-czlonek-Zarzadu-Glownego-ZNP-wezmie-udzial-w-posiedzeniu-sejmowej-podkomisji-na-temat-przedmiotu-–-Historia-i-Terazniejszosc.-27.jpg
END:VEVENT
BEGIN:VEVENT
DTSTART;TZID=UTC:20240208T100000
DTEND;TZID=UTC:20240208T123000
DTSTAMP:20260422T164811
CREATED:20240207T084826Z
LAST-MODIFIED:20240207T085038Z
UID:10000609-1707386400-1707395400@znp.edu.pl
SUMMARY:Druga tura negocjacji płacowych
DESCRIPTION:8 lutego o godz. 10:00 odbędzie się na wniosek ZNP druga tura negocjacji płacowych z MEN na temat propozycji ZNP zwiększenia udziału płacy zasadniczej w ogólnym wynagrodzeniu nauczycieli początkujących i mianowanych (po przedstawieniu przez MEN danych dotyczących wysokości poszczególnych składników wynagrodzenia). \n1 lutego 2024 r. odbyło się spotkanie uzgodnieniowe projektu rozporządzenia płacowego MEN z udziałem kierownictwa resortu edukacji oraz przedstawicieli oświatowych związków zawodowych. \nZNP reprezentowali: prezes ZNP Sławomir Broniarz\, wiceprezes ZG ZNP Urszula Woźniak oraz członkowie Zarządu Głównego ZNP Krzysztof Baszczyński\, Elżbieta Markowska\, Adam Młynarski i Edyta Książek. Natomiast ze strony MEN w spotkaniu uczestniczyli minister edukacji Barbara Nowacka oraz wiceministrowie Paulina Piechna-Więckiewicz i Henryk Kiepura. \nPodczas negocjacji przedstawiciele ZNP zaproponowali zmiany związane ze \n\nwzrostem wynagrodzenia zasadniczego\n\n\noraz zmniejszeniem spłaszczenia wynagrodzeń na poszczególnych stopniach awansu zawodowego\n\npoprzez: \n– zwiększenie udziału płacy zasadniczej w ogólnym wynagrodzeniu nauczycieli szczególnie w kontekście nauczycieli początkujących i mianowanych (propozycja płacowa MEN oznacza\, że różnica pomiędzy wynagrodzeniem zasadniczym nauczyciela początkującego a mianowanego wynosi jedynie 149 zł)\, \n– powiązanie wynagrodzeń nauczycieli z przeciętnym wynagrodzeniem w gospodarce. \nPrzedstawiciele ZNP doceniają skalę wzrostu wynagrodzenia nauczycieli\, ponieważ takich podwyżek nie było w ostatnich latach.
URL:https://znp.edu.pl/impreza/druga-tura-negocjacji-placowych/
END:VEVENT
BEGIN:VEVENT
DTSTART;TZID=UTC:20240213T180000
DTEND;TZID=UTC:20240213T203000
DTSTAMP:20260422T164811
CREATED:20240115T134847Z
LAST-MODIFIED:20240117T122603Z
UID:10000852-1707847200-1707856200@znp.edu.pl
SUMMARY:Bezpłatne webinarium ZNP „Komunikacja i współpraca nauczycieli z rodzicami - szkolne ABC"
DESCRIPTION:TYLKO DLA CZŁONKIŃ I CZŁONKÓW ZNP! \nBezpłatne webinarium ZNP – „Komunikacja i współpraca nauczycieli z rodzicami – szkolne ABC” \n13.02.2024\, godz. 18.00 – 20.30 \nAgenda: \nPowitanie: Sławomir Broniarz\, prezes ZNP \nWebinarium: Zamień „dwie strony barykady” na „dwie różne perspektywy”\, „Roszczeniowy rodzic”\, Moje dziecko tak się nie zachowuje! Jak budować współpracę i dobre relacje z rodzicami? Po co zebrania w erze dziennika elektronicznego? Określaj granice – jesteś specjalistą! Sytuacje kryzysowe – ty decydujesz\, jak reagujesz! Co możesz zrobić? Jakie umiejętności warto rozwijać? \nSesja pytań i odpowiedzi \nGdzie: TEAMS link do rejestracji: \nMicrosoft Virtual Events Powered by Teams \nSzkolenie prowadzi ekspertka Anna Jurewicz
URL:https://znp.edu.pl/impreza/bezplatne-webinarium-znp-komunikacja-i-wspolpraca-nauczycieli-z-rodzicami-szkolne-abc/
ATTACH;FMTTYPE=image/png:https://znp.edu.pl/assets/uploads/2024/01/webinar_Komunikacja-i-wspolpraca-nauczycieli-z-rodzicami-1.png
END:VEVENT
BEGIN:VEVENT
DTSTART;TZID=UTC:20240214T080000
DTEND;TZID=UTC:20240214T233000
DTSTAMP:20260422T164811
CREATED:20240214T095939Z
LAST-MODIFIED:20240214T095939Z
UID:10000610-1707897600-1707953400@znp.edu.pl
SUMMARY:14.02
DESCRIPTION:
URL:https://znp.edu.pl/impreza/14-02/
ATTACH;FMTTYPE=image/png:https://znp.edu.pl/assets/uploads/2021/10/znp_sm_post_przynaleznosc_7.png
END:VEVENT
END:VCALENDAR