BEGIN:VCALENDAR
VERSION:2.0
PRODID:-//ZNP - ECPv6.11.2.1//NONSGML v1.0//EN
CALSCALE:GREGORIAN
METHOD:PUBLISH
X-WR-CALNAME:ZNP
X-ORIGINAL-URL:https://znp.edu.pl
X-WR-CALDESC:Events for ZNP
REFRESH-INTERVAL;VALUE=DURATION:PT1H
X-Robots-Tag:noindex
X-PUBLISHED-TTL:PT1H
BEGIN:VTIMEZONE
TZID:UTC
BEGIN:STANDARD
TZOFFSETFROM:+0000
TZOFFSETTO:+0000
TZNAME:UTC
DTSTART:20240101T000000
END:STANDARD
END:VTIMEZONE
BEGIN:VEVENT
DTSTART;TZID=UTC:20240201T080000
DTEND;TZID=UTC:20240415T170000
DTSTAMP:20260422T133151
CREATED:20240202T105522Z
LAST-MODIFIED:20240202T110319Z
UID:10000608-1706774400-1713200400@znp.edu.pl
SUMMARY:Konkurs dla maturzystów „Jaka polska demokracja przyszłości”
DESCRIPTION:Wystartowała tegoroczna edycja konkursu dla maturzystów organizowanego przez Concilium Civitas i #ZNP!\n\n\n\n Maturzysto\, Maturzystko!\nJeśli chcesz za darmo studiować w jednej z uczelni niepublicznych w Polsce – (Akademia Leona Koźmińskiego – Kozminski University\, Collegium Civitas\, Uniwersytet SWPS)\n\n\n\n Jeśli chcesz się spotkać i dyskutować z profesorami najlepszych uczelni świata: Harvardu\, Oxfordu\, Stanfordu\, Yale\n\n\n\n Jeśli chcesz być zaproszony do Młodego Concilium – ekskluzywnego grona Twoich rówieśników interesujących się sprawami publicznymi\n\n\n\nJeśli jesteś tegorocznym maturzystą weź udział w konkursie na esej /artykuł/ reportaż na temat:\n\n\n\n\n\n Jaka polska demokracja przyszłości  \n\norganizowanym przez Fundację Collegium Civitas i Związek Nauczycielstwa Polskiego\n\n\n\n Termin nadsyłania prac 19.01-15.04.2024\n\n\n\nmlodeconcilium@civitas.edu.pl\n\nWięcej informacji o konkursie TUTAJ
URL:https://znp.edu.pl/impreza/konkurs-dla-maturzystow-mlode-concilium/
ATTACH;FMTTYPE=image/jpeg:https://znp.edu.pl/assets/uploads/2024/02/420062655_772533904918064_3213318011973106246_n.jpg
END:VEVENT
BEGIN:VEVENT
DTSTART;TZID=UTC:20240311T090000
DTEND;TZID=UTC:20240311T170000
DTSTAMP:20260422T133151
CREATED:20240305T100735Z
LAST-MODIFIED:20240305T100735Z
UID:10000612-1710147600-1710176400@znp.edu.pl
SUMMARY:Prezydium ZG ZNP
DESCRIPTION:
URL:https://znp.edu.pl/impreza/prezydium-zg-znp-11/
END:VEVENT
BEGIN:VEVENT
DTSTART;TZID=UTC:20240321T080000
DTEND;TZID=UTC:20240602T170000
DTSTAMP:20260422T133151
CREATED:20240321T121500Z
LAST-MODIFIED:20240321T121500Z
UID:10000614-1711008000-1717347600@znp.edu.pl
SUMMARY:Oddziałowe konferencje delegatów
DESCRIPTION:
URL:https://znp.edu.pl/impreza/oddzialowe-konferencje-delegatow/
END:VEVENT
BEGIN:VEVENT
DTSTART;TZID=UTC:20240326T100000
DTEND;TZID=UTC:20240326T170000
DTSTAMP:20260422T133151
CREATED:20240321T121302Z
LAST-MODIFIED:20240321T121302Z
UID:10000613-1711447200-1711472400@znp.edu.pl
SUMMARY:Zarząd Główny ZNP
DESCRIPTION:
URL:https://znp.edu.pl/impreza/zarzad-glowny-znp-3/
END:VEVENT
BEGIN:VEVENT
DTSTART;TZID=UTC:20240331T080000
DTEND;TZID=UTC:20240425T170000
DTSTAMP:20260422T133151
CREATED:20240305T100126Z
LAST-MODIFIED:20240305T100235Z
UID:10000611-1711872000-1714064400@znp.edu.pl
SUMMARY:Nasz patronat: FILM DLA KOSMITÓW
DESCRIPTION:„Film dla kosmitów”\n\n\nGATUNEK: familijny\, przygodowy \nPREMIERA: 5 kwietnia 2024 \nREŻYSERIA: Piotr Stasik \nOBSADA: Ezra Kos\, Wiktoria Kącka\, Jakub Lipnicki\, Jan Peszek\, Andrzej Chyra\, Magdalena Popławska\, Halina Rasikówna \nPRODUKCJA: polska \nKATEGORIA WIEKOWA: 7+ \nEDUKACJA SZKOLNA: link \nCzternastoletni Jeremi jest Youtuberem. Jego ojciec jest pracownikiem agencji kosmicznej i obiecał pokazać mu start prawdziwej rakiety\, ale w ostatniej chwili plany się zmieniły\, wyjazd został odwołany. Zamiast tego Jeremi zostaje wysłany do swojego dziadka\, który mieszka na wsi. Żeby odciągnąć chłopca od internetu\, ojciec przygotowuje dla niego specjalne zadanie. Pewnego poranka Jeremi dostaje tajemniczą przesyłkę\, w której znajduje się robot przekazujący mu zadania do wykonania – musi przygotować filmowy list do kosmitów\, który pomoże uratować Świat. Początkowo niezadowolony Jeremi stopniowo zaczyna nawiązywać przyjaźnie z lokalnymi dziećmi\, które pomogą mu zrealizować film. \nSCENARIUSZE ZAJĘĆ: j. polski\, godzina wychowawcza \nZAGADNIENIA EDUKACYJNE: \n– uzależnienie od telefonu i internetu \n– social media – niebezpieczeństwo izolacji \n– budowanie relacji rówieśniczych \n– nauka współpracy i komunikacji \n– autotematyzm (film o filmie) \n– wartość eksperymentowania \n– obraz dzieciństwa jako „genialnej epoki” \n– potęga marzenia i wyobraźni \n– kontakt z przyrodą \n– wartość pasji \n– droga do celu jest ważna \n– bycie „kosmitą” (oryginalne\, „dziwaczne” zainteresowania czy pasje dzieci mogą powodować ich alienację – film zwraca uwagę na to\, że warto być wiernym swoim pasjom) \n– piękno ulotności\, urok drobiazgu \n\n 
URL:https://znp.edu.pl/impreza/nasz-patronat-film-dla-kosmitow/
ATTACH;FMTTYPE=image/png:https://znp.edu.pl/assets/uploads/2024/03/image005.png
END:VEVENT
END:VCALENDAR