BEGIN:VCALENDAR
VERSION:2.0
PRODID:-//ZNP - ECPv6.11.2.1//NONSGML v1.0//EN
CALSCALE:GREGORIAN
METHOD:PUBLISH
X-ORIGINAL-URL:https://znp.edu.pl
X-WR-CALDESC:Events for ZNP
REFRESH-INTERVAL;VALUE=DURATION:PT1H
X-Robots-Tag:noindex
X-PUBLISHED-TTL:PT1H
BEGIN:VTIMEZONE
TZID:UTC
BEGIN:STANDARD
TZOFFSETFROM:+0000
TZOFFSETTO:+0000
TZNAME:UTC
DTSTART:20240101T000000
END:STANDARD
END:VTIMEZONE
BEGIN:VEVENT
DTSTART;TZID=UTC:20240321T080000
DTEND;TZID=UTC:20240602T170000
DTSTAMP:20260422T083548
CREATED:20240321T121500Z
LAST-MODIFIED:20240321T121500Z
UID:10000614-1711008000-1717347600@znp.edu.pl
SUMMARY:Oddziałowe konferencje delegatów
DESCRIPTION:
URL:https://znp.edu.pl/impreza/oddzialowe-konferencje-delegatow/
END:VEVENT
BEGIN:VEVENT
DTSTART;TZID=UTC:20240520T080000
DTEND;TZID=UTC:20240909T170000
DTSTAMP:20260422T083548
CREATED:20240520T130658Z
LAST-MODIFIED:20240520T130916Z
UID:10000866-1716192000-1725901200@znp.edu.pl
SUMMARY:Zgłoszenia do konkursów: Nauczyciel Roku 2024 i Nauczyciel Jutr@
DESCRIPTION:Głos Nauczycielski ogłosił tegoroczne konkursy ! \nGłos: Nauczycielki i nauczyciele kreatywni i cenieni w swoim środowisku – takich szukamy i nagradzamy już od ponad dwóch dekad. Po krótkiej przerwie w Konkurs Nauczyciel Roku znowu włącza się Ministerstwo Edukacji Narodowej.\nBo niezwykłość tej trwającej od 2002 r. inicjatywy polega na tym\, że udaje się w nią zaangażować wiele wybitnych osobistości\, w tym także ze świata kultury i polityki. Szczycimy się\, że nasze konkursy jednoczą wokół edukacji ludzi o różnych poglądach\, dowodząc\, że o szkole i nauczycielach można rozmawiać ponad podziałami. \nPo raz czwarty na październikowej Gali poznamy także zwycięzcę organizowanego przez Głos Nauczycielski wspólnie z Fundacją Orange Konkursu Nauczyciel Jutr@. \nW gronie nagradzanych byli przedmiotowcy chyba wszystkich specjalności – począwszy od polonistów\, matematyków\, historyków czy fizyków\, po wuefistów\, nauczycieli przedmiotów artystycznych\, zawodowych i katechetów. Nagradzaliśmy nauczycieli edukacji wczesnoszkolnej\, przedszkoli i szkół specjalnych. W gronie finalistów nie zabrakło też bibliotekarzy\, psychologów i pedagogów. Byli nauczyciele z dużych miast i małych wsi. Ze szkół znanych w całej Polsce i małych\, kameralnych placówek. Różni ich wiele\, ale łączy pasja\, nietuzinkowa osobowość\, znakomity kontakt z uczniami\, ogromne zaangażowanie w pracę. \nObydwa konkursy rozstrzyga Jury pod przewodnictwem prof. Stefana M. Kwiatkowskiego. W Konkursie Nauczyciel Roku zgodnie z regulaminem wybiera trzynastkę finalistów. Spośród nich jedna osoba otrzymuje tytuł Nauczyciel Roku\, dwie osoby Wyróżnienia\, a pozostała dziesiątka zostaje Nominowana do tytułu Nauczyciel Roku. \nNaszym celem jest promowanie świetnych nauczycieli\, którzy są autorytetami w swoich środowiskach\, ludzi zaangażowanych w podnoszenie jakości edukacji – znakomitych dydaktyków\, ale i wychowawców. \nW Konkursie Nauczyciel Jutr@\, organizowanym wspólnie z Fundacją Orange\, Jury wytypuje piątkę finalistów\, którzy stawiają dobrostan i szacunek dla uczniów i uczennic na pierwszym miejscu\, są otwarci na prowadzenie angażujących zajęć opartych na dialogu\, pracują w zgodzie z najnowszą wiedzą pedagogiczną oraz psychologią rozwojową i dążą do podnoszenia swoich kompetencji medialnych\, informacyjnych i cyfrowych\, korzystając przy tym technologii lub e-zasobów edukacyjnych\, aby prowadzić ciekawsze i inspirujące lekcje dla młodych ludzi. Z tego grona zostanie wybrany Nauczyciel Jutr@. \nObydwa konkursy rozstrzygniemy 8 października br.\, tradycyjnie już na Zamku Królewskim w Warszawie. \n\nKonkursy w pigułce\, czyli jak zostać Nauczycielem Roku i/lub Nauczycielem Jutr@\n>> Uczestnikiem konkursów Nauczyciel Roku 2024 i Nauczyciel Jutr@ może być każdy\, kto jest czynnym nauczycielem\, bez względu na rodzaj placówki\, w której pracuje (z wyjątkiem szkół wyższych). \n>> Kandydatów na Nauczyciela Roku 2024 i Nauczyciela Jutr@ mogą zgłaszać m.in.: dyrekcje placówek\, koledzy z grona pedagogicznego\, uczniowie\, rodzice\, organy prowadzące\, kuratoria oświaty. A także organizacje i instytucje współpracujące z nauczycielem. Można też samemu zgłosić swoją kandydaturę. \n>> Wymogiem formalnym jest wypełnienie formularza i napisanie uzasadnienia wniosku oraz przedstawienie osiągnięć nauczyciela\, zarówno tych\, które można zmierzyć i policzyć\, jak i tych\, których nie da się przełożyć na liczby i procenty. \n>> Na zgłoszenia do Konkursu Nauczyciel Roku 2024 czekamy do 9 września 2024 r. (liczy się data stempla pocztowego). Formularz wraz z załącznikami trzeba wysłać na adres: Głos Nauczycielski\, ul. J. Smulikowskiego 6/8\, 00-389 Warszawa z dopiskiem „Nauczyciel Roku 2024”. W przypadku Konkursu Nauczyciel Jutr@ zgłoszenie online trzeba wypełnić i wysłać do 8 września 2024 r. do północy. \n>> Udział w jednym konkursie nie wyklucza możliwości udziału w drugim. Można zatem startować w jednym z nich lub w obydwu! \n>> Regulamin Konkursu Nauczyciel Roku 2024 wraz z formularzem zgłoszeniowym na: glos.pl/nauczycielroku (kontakt: nauczycielroku@glos.pl) \n> Regulamin Konkursu Nauczyciel Jutr@ wraz z linkiem do formularza zgłoszeniowego na: glos.pl/nauczycieljutra (kontakt: nauczycieljutra@glos.pl) \nŹródło: glos.pl
URL:https://znp.edu.pl/impreza/nauczyciel-roku-2024-i-nauczyciel-jutr/
ATTACH;FMTTYPE=image/png:https://znp.edu.pl/assets/uploads/2024/05/GN_360x340_Ania-3.png
END:VEVENT
BEGIN:VEVENT
DTSTART;TZID=UTC:20240531T080000
DTEND;TZID=UTC:20240617T170000
DTSTAMP:20260422T083548
CREATED:20240527T082306Z
LAST-MODIFIED:20240527T082327Z
UID:10000618-1717142400-1718643600@znp.edu.pl
SUMMARY:Nasz patronat: Film "Jedno życie"
DESCRIPTION:Film „Jedno Życie” już od 31 maja w polskich kinach! ??️? \nDwukrotny zdobywca Oscara ANTHONY HOPKINS jako sir Nicholas Winton\, który tuż przed wojną ocalił ponad 600 dzieci z rąk hitlerowców. \nJego historia ujrzała światło dzienne dopiero po 50 latach i wzruszyła miliony ludzi na całym świecie. \nPrawdziwa historia zwykłego człowieka\, który przeciwstawił się hitlerowskiej machinie zagłady. Znakomita obsada w poruszającej opowieści o odwadze\, poświęceniu i wdzięczności\, które mogą odmienić świat. ?? \nOpis filmu: \nJest rok 1938\, gdy młody Brytyjczyk Nicholas Winton podczas wizyty w Pradze odkrywa\, że tysiące rodzin zbiegłych przed hitlerowcami z Niemiec i Austrii\, żyją tu w dramatycznych warunkach\, często bez dachu nad głową i żywności. Niemiecka inwazja na Czechosłowację jest kwestią najbliższych tygodni\, a wtedy los uchodźców będzie już przesądzony. Nicholas postanawia zrobić wszystko\, co w jego mocy by ocalić jak najwięcej potrzebujących. Wraz z grupą współpracowników organizuje transporty dzieci\, które podążają z Pragi do Anglii w poszukiwaniu bezpiecznego schronienia. Jak wiele istnień uda się ocalić zanim granice zostaną zamknięte? \nPo 40 latach Nicholas wciąż wraca wspomnieniami do tamtych dni\, zadając sobie pytania o los ocalonych i obwiniając się za to\, że nie udało mu się ocalić wszystkich. Tymczasem niespodziewanie los dopisze poruszający epilog do tej historii. Dwukrotny zdobywca Oscara ANTHONY HOPKINS jako sir Nicholas Winton\, który tuż przed wojną ocalił ponad 600 dzieci z rąk hitlerowców. \nMATERIAŁY EDUKACYJNE dla szkół: \nJedno życie – Monolith Films – Monolith Films \nSCENARIUSZE lekcji: \njedno-zycie-materialy-edukacyjne-dla-szkol-final-1.pdf (monolith.pl) \nZWIASTUN tutaj:\nhttps://www.youtube.com/watch?v=kmt9clTxxC8
URL:https://znp.edu.pl/impreza/nasz-patronat-film-jedno-zycie/
ATTACH;FMTTYPE=image/jpeg:https://znp.edu.pl/assets/uploads/2024/05/Jedno-Zycie_800x800.jpg
END:VEVENT
BEGIN:VEVENT
DTSTART;TZID=UTC:20240610T100000
DTEND;TZID=UTC:20240610T170000
DTSTAMP:20260422T083548
CREATED:20240607T081220Z
LAST-MODIFIED:20240607T081308Z
UID:10000619-1718013600-1718038800@znp.edu.pl
SUMMARY:Konferencja prasowa ZNP
DESCRIPTION:Zapraszamy na konferencję prasową ZNP w najbliższy poniedziałek:\n\n\n10 czerwca 2024 r.\n\ngodz. 10:00\nsiedziba ZNP w Warszawie na Powiślu\, ul. Smulikowskiego 6/8\, I piętro\n\nUczestnicy: Sławomir Broniarz\, prezes ZNP i Urszula Woźniak\, wiceprezes ZG ZNP \n\nPodczas konferencji powiemy nie tylko o wycieczkach szkolnych\, ale także o innych sprawach wymagających szybkiego uregulowania!\n\n\nLIVE na naszym facebookowym profilu\n\n\n\n\n\n#znpwmediach\n\n\n+ KALENDARZ GOOGLE
URL:https://znp.edu.pl/impreza/konferencja-prasowa-znp-10/
ATTACH;FMTTYPE=image/jpeg:https://znp.edu.pl/assets/uploads/2024/06/konferencja-ZNP-10.06.2024.jpg
END:VEVENT
BEGIN:VEVENT
DTSTART;TZID=UTC:20240611T070000
DTEND;TZID=UTC:20240611T170000
DTSTAMP:20260422T083548
CREATED:20240321T121546Z
LAST-MODIFIED:20240614T082102Z
UID:10000615-1718089200-1718125200@znp.edu.pl
SUMMARY:ZNP w mediach
DESCRIPTION:Polecamy rozmowę z wiceprezes ZG #ZNP Urszulą Woźniak w @RadiowaTrojka \n 11.06\, godz. 7:10
URL:https://znp.edu.pl/impreza/okregowe-konferencje-delegatow/
ATTACH;FMTTYPE=image/jpeg:https://znp.edu.pl/assets/uploads/2024/03/radiowa-Trojka-2024.jpg
END:VEVENT
BEGIN:VEVENT
DTSTART;TZID=UTC:20240620T113000
DTEND;TZID=UTC:20240620T170000
DTSTAMP:20260422T083548
CREATED:20240617T101039Z
LAST-MODIFIED:20240617T101039Z
UID:10000622-1718883000-1718902800@znp.edu.pl
SUMMARY:Briefing prasowy ZNP
DESCRIPTION:Zapraszamy na briefing prasowy ZNP w czwartek\, 20 czerwca 2024 r. o godz. 11:30 przed wejściem do Ministerstwa Edukacji Narodowej w Warszawie (al. Szucha). \nBriefing odbędzie się przed pierwszym posiedzeniem Zespołu ds. pragmatyki zawodowej nauczycieli. \nW briefingu wezmą udział prezes ZNP Sławomir Broniarz wraz z zespołem negocjacyjnym w składzie wiceprezes ZG ZNP Urszula Woźniak oraz Krzysztof Baszczyński\, członek Zarządu Głównego ZNP. \nPierwsze posiedzenie Zespołu ds. pragmatyki zawodowej nauczycieli odbędzie się 20 czerwca  o godz. 12.00 w gmachu Ministerstwa Edukacji Narodowej. Zadaniem Zespołu jest przygotowanie propozycji rozwiązań w zakresie pragmatyki zawodowej nauczycieli\, w szczególności w zakresie: \n\nwynagradzania nauczycieli\,\nawansu zawodowego i oceny pracy nauczycieli\,\nodpowiedzialności dyscyplinarnej nauczycieli\,\nemerytur nauczycieli oraz nauczycielskich świadczeń kompensacyjnych\,\nkwalifikacji\, kształcenia i doskonalenia zawodowego nauczycieli.\n\nW skład Zespołu wchodzą: \n\nprzewodniczący Barbara Nowacka\, Minister Edukacji\,\nzastępcy przewodniczącego Henryk Kiepura\, Sekretarz Stanu w MEN i Paulina Piechna-Więckiewicz\, Podsekretarz Stanu w MEN\n\noraz członkowie: \n\npo trzech przedstawicieli wyznaczonych przez reprezentatywne organizacje związkowe\,\npo jednym przedstawicielu wyznaczonym przez ogólnopolskie organizacje samorządu terytorialnego\,\nprzedstawiciel wyznaczony przez ministra pracy\,\nprzedstawiciel wyznaczony przez ministra finansów publicznych\,\nprzedstawiciel wyznaczony przez Dyrektora Instytutu Badań Edukacyjnych.\n\nZespół do spraw pragmatyki zawodowej nauczycieli jest organem pomocniczym Ministra Edukacji.
URL:https://znp.edu.pl/impreza/briefing-prasowy-znp/
ATTACH;FMTTYPE=image/jpeg:https://znp.edu.pl/assets/uploads/2018/01/ikona-ZNP-media.jpg
END:VEVENT
BEGIN:VEVENT
DTSTART;TZID=UTC:20240620T120000
DTEND;TZID=UTC:20240620T170000
DTSTAMP:20260422T083548
CREATED:20240614T082008Z
LAST-MODIFIED:20240614T082008Z
UID:10000620-1718884800-1718902800@znp.edu.pl
SUMMARY:Posiedzenie Zespołu ds. pragmatyki zawodowej nauczycieli
DESCRIPTION:11 czerwca 2024 r.\, dzień po konferencji prasowej ZNP nawołującej MEN do rozpoczęcia prac Zespołu ds. pragmatyki zawodowej nauczycieli\, Minister Edukacji przesłała do ZNP zaproszenie na „posiedzenie Zespołu ds. pragmatyki zawodowej nauczycieli\, które odbędzie się 20 czerwca 2024 r. o godz. 12.00\, w gmachu Ministerstwa Edukacji Narodowej”. \nW pierwszym posiedzeniu Zespołu ds. pragmatyki zawodowej nauczycieli wezmą udział: \n\nSławomir Broniarz\, prezes ZNP\nUrszula Woźniak\, wiceprezes ZG ZNP\nKrzysztof Baszczyński\, członek Zarządu Głównego ZNP.\n\nZadaniem Zespołu jest przygotowanie propozycji rozwiązań w zakresie pragmatyki zawodowej nauczycieli\, w szczególności w zakresie: \n\nwynagradzania nauczycieli\,\nawansu zawodowego i oceny pracy nauczycieli\,\nodpowiedzialności dyscyplinarnej nauczycieli\,\nemerytur nauczycieli oraz nauczycielskich świadczeń kompensacyjnych\,\nkwalifikacji\, kształcenia i doskonalenia zawodowego nauczycieli.
URL:https://znp.edu.pl/impreza/posiedzenie-zespolu-ds-pragmatyki-zawodowej-nauczycieli/
ATTACH;FMTTYPE=image/jpeg:https://znp.edu.pl/assets/uploads/2024/06/grafika-20.06.2024.jpg
END:VEVENT
BEGIN:VEVENT
DTSTART;TZID=UTC:20240621T070000
DTEND;TZID=UTC:20240714T170000
DTSTAMP:20260422T083548
CREATED:20240614T085427Z
LAST-MODIFIED:20240715T070550Z
UID:10000621-1718953200-1720976400@znp.edu.pl
SUMMARY:Zakończenie zajęć dydaktycznych
DESCRIPTION:Zakończenie rocznych zajęć dydaktycznych: 21 czerwca 2024 r. \nFerie letnie: 22 czerwca – 31 sierpnia 2024 r.
URL:https://znp.edu.pl/impreza/zakonczenie-zajec-dydaktycznych/
ATTACH;FMTTYPE=image/jpeg:https://znp.edu.pl/assets/uploads/2024/06/znp_post_wakacje_2024_2.jpg
END:VEVENT
BEGIN:VEVENT
DTSTART;TZID=UTC:20240626T110000
DTEND;TZID=UTC:20240626T170000
DTSTAMP:20260422T083548
CREATED:20240621T113344Z
LAST-MODIFIED:20240621T113432Z
UID:10000623-1719399600-1719421200@znp.edu.pl
SUMMARY:Grupa robocza ds. wynagrodzeń
DESCRIPTION:26 czerwca 2024 r. o godz. 11:00 rozpocznie prace grupa robocza ds. wynagrodzeń nauczycieli\, która działa w ramach Zespołu ds. pragmatyki zawodowej nauczycieli. \nUczestnicy: \nUrszula Woźniak\, wiceprezes ZG ZNP \nArkadiusz Boroń\, prezes Okręgu Małopolskiego ZNP \nKrzysztof Lisowski\, prawnik \nZadaniem Zespołu jest przygotowanie propozycji rozwiązań w zakresie: \n\nwynagradzania nauczycieli\,\nawansu zawodowego i oceny pracy nauczycieli;\nodpowiedzialności dyscyplinarnej nauczycieli;\nemerytur nauczycieli oraz nauczycielskich świadczeń kompensacyjnych;\nkwalifikacji\, kształcenia i doskonalenia zawodowego nauczycieli\n\nZagadnienia zgłoszone przez przedstawicieli ZNP: \n\njak najszybsze podjęcie prac nad Inicjatywą Obywatelską ZNP dotyczącą powiązania wynagrodzeń nauczycieli z przeciętnym wynagrodzeniem w gospodarce\npodwyższenie wynagrodzeń nauczycieli w 2025 roku\nwarunki pracy nauczycieli\nrozliczanie godzin ponadwymiarowych\nrealizacja godzin ponadwymiarowych\nzapłata za czas wycieczek szkolnych\nnagroda jubileuszowa za 45 lat pracy\npodwyższenie minimalnej kwoty dodatku za wychowawstwo do 500 zł
URL:https://znp.edu.pl/impreza/grupa-robocza-ds-wynagrodzen/
ATTACH;FMTTYPE=image/jpeg:https://znp.edu.pl/assets/uploads/2021/04/600x280px_news_pole_ochronne.jpg
END:VEVENT
END:VCALENDAR