BEGIN:VCALENDAR
VERSION:2.0
PRODID:-//ZNP - ECPv6.11.2.1//NONSGML v1.0//EN
CALSCALE:GREGORIAN
METHOD:PUBLISH
X-ORIGINAL-URL:https://znp.edu.pl
X-WR-CALDESC:Events for ZNP
REFRESH-INTERVAL;VALUE=DURATION:PT1H
X-Robots-Tag:noindex
X-PUBLISHED-TTL:PT1H
BEGIN:VTIMEZONE
TZID:UTC
BEGIN:STANDARD
TZOFFSETFROM:+0000
TZOFFSETTO:+0000
TZNAME:UTC
DTSTART:20240101T000000
END:STANDARD
END:VTIMEZONE
BEGIN:VEVENT
DTSTART;TZID=UTC:20240520T080000
DTEND;TZID=UTC:20240909T170000
DTSTAMP:20260422T024212
CREATED:20240520T130658Z
LAST-MODIFIED:20240520T130916Z
UID:10000866-1716192000-1725901200@znp.edu.pl
SUMMARY:Zgłoszenia do konkursów: Nauczyciel Roku 2024 i Nauczyciel Jutr@
DESCRIPTION:Głos Nauczycielski ogłosił tegoroczne konkursy ! \nGłos: Nauczycielki i nauczyciele kreatywni i cenieni w swoim środowisku – takich szukamy i nagradzamy już od ponad dwóch dekad. Po krótkiej przerwie w Konkurs Nauczyciel Roku znowu włącza się Ministerstwo Edukacji Narodowej.\nBo niezwykłość tej trwającej od 2002 r. inicjatywy polega na tym\, że udaje się w nią zaangażować wiele wybitnych osobistości\, w tym także ze świata kultury i polityki. Szczycimy się\, że nasze konkursy jednoczą wokół edukacji ludzi o różnych poglądach\, dowodząc\, że o szkole i nauczycielach można rozmawiać ponad podziałami. \nPo raz czwarty na październikowej Gali poznamy także zwycięzcę organizowanego przez Głos Nauczycielski wspólnie z Fundacją Orange Konkursu Nauczyciel Jutr@. \nW gronie nagradzanych byli przedmiotowcy chyba wszystkich specjalności – począwszy od polonistów\, matematyków\, historyków czy fizyków\, po wuefistów\, nauczycieli przedmiotów artystycznych\, zawodowych i katechetów. Nagradzaliśmy nauczycieli edukacji wczesnoszkolnej\, przedszkoli i szkół specjalnych. W gronie finalistów nie zabrakło też bibliotekarzy\, psychologów i pedagogów. Byli nauczyciele z dużych miast i małych wsi. Ze szkół znanych w całej Polsce i małych\, kameralnych placówek. Różni ich wiele\, ale łączy pasja\, nietuzinkowa osobowość\, znakomity kontakt z uczniami\, ogromne zaangażowanie w pracę. \nObydwa konkursy rozstrzyga Jury pod przewodnictwem prof. Stefana M. Kwiatkowskiego. W Konkursie Nauczyciel Roku zgodnie z regulaminem wybiera trzynastkę finalistów. Spośród nich jedna osoba otrzymuje tytuł Nauczyciel Roku\, dwie osoby Wyróżnienia\, a pozostała dziesiątka zostaje Nominowana do tytułu Nauczyciel Roku. \nNaszym celem jest promowanie świetnych nauczycieli\, którzy są autorytetami w swoich środowiskach\, ludzi zaangażowanych w podnoszenie jakości edukacji – znakomitych dydaktyków\, ale i wychowawców. \nW Konkursie Nauczyciel Jutr@\, organizowanym wspólnie z Fundacją Orange\, Jury wytypuje piątkę finalistów\, którzy stawiają dobrostan i szacunek dla uczniów i uczennic na pierwszym miejscu\, są otwarci na prowadzenie angażujących zajęć opartych na dialogu\, pracują w zgodzie z najnowszą wiedzą pedagogiczną oraz psychologią rozwojową i dążą do podnoszenia swoich kompetencji medialnych\, informacyjnych i cyfrowych\, korzystając przy tym technologii lub e-zasobów edukacyjnych\, aby prowadzić ciekawsze i inspirujące lekcje dla młodych ludzi. Z tego grona zostanie wybrany Nauczyciel Jutr@. \nObydwa konkursy rozstrzygniemy 8 października br.\, tradycyjnie już na Zamku Królewskim w Warszawie. \n\nKonkursy w pigułce\, czyli jak zostać Nauczycielem Roku i/lub Nauczycielem Jutr@\n>> Uczestnikiem konkursów Nauczyciel Roku 2024 i Nauczyciel Jutr@ może być każdy\, kto jest czynnym nauczycielem\, bez względu na rodzaj placówki\, w której pracuje (z wyjątkiem szkół wyższych). \n>> Kandydatów na Nauczyciela Roku 2024 i Nauczyciela Jutr@ mogą zgłaszać m.in.: dyrekcje placówek\, koledzy z grona pedagogicznego\, uczniowie\, rodzice\, organy prowadzące\, kuratoria oświaty. A także organizacje i instytucje współpracujące z nauczycielem. Można też samemu zgłosić swoją kandydaturę. \n>> Wymogiem formalnym jest wypełnienie formularza i napisanie uzasadnienia wniosku oraz przedstawienie osiągnięć nauczyciela\, zarówno tych\, które można zmierzyć i policzyć\, jak i tych\, których nie da się przełożyć na liczby i procenty. \n>> Na zgłoszenia do Konkursu Nauczyciel Roku 2024 czekamy do 9 września 2024 r. (liczy się data stempla pocztowego). Formularz wraz z załącznikami trzeba wysłać na adres: Głos Nauczycielski\, ul. J. Smulikowskiego 6/8\, 00-389 Warszawa z dopiskiem „Nauczyciel Roku 2024”. W przypadku Konkursu Nauczyciel Jutr@ zgłoszenie online trzeba wypełnić i wysłać do 8 września 2024 r. do północy. \n>> Udział w jednym konkursie nie wyklucza możliwości udziału w drugim. Można zatem startować w jednym z nich lub w obydwu! \n>> Regulamin Konkursu Nauczyciel Roku 2024 wraz z formularzem zgłoszeniowym na: glos.pl/nauczycielroku (kontakt: nauczycielroku@glos.pl) \n> Regulamin Konkursu Nauczyciel Jutr@ wraz z linkiem do formularza zgłoszeniowego na: glos.pl/nauczycieljutra (kontakt: nauczycieljutra@glos.pl) \nŹródło: glos.pl
URL:https://znp.edu.pl/impreza/nauczyciel-roku-2024-i-nauczyciel-jutr/
ATTACH;FMTTYPE=image/png:https://znp.edu.pl/assets/uploads/2024/05/GN_360x340_Ania-3.png
END:VEVENT
BEGIN:VEVENT
DTSTART;TZID=UTC:20240820T110000
DTEND;TZID=UTC:20240820T170000
DTSTAMP:20260422T024212
CREATED:20240820T085908Z
LAST-MODIFIED:20240820T085908Z
UID:10000627-1724151600-1724173200@znp.edu.pl
SUMMARY:Spotkanie grupy roboczej ds. odpowiedzialności dyscyplinarnej nauczycieli
DESCRIPTION:20 sierpnia 2024 r. o godz. 11:00 odbędzie się w Ministerstwie Edukacji Narodowej pierwsze spotkanie grupy roboczej ds. odpowiedzialności dyscyplinarnej nauczycieli. Grupa działa w ramach Zespołu ds. pragmatyki zawodowej nauczycieli MEN\, który został powołany z inicjatywy ZNP.
URL:https://znp.edu.pl/impreza/spotkanie-grupy-roboczej-ds-odpowiedzialnosci-dyscyplinarnej-nauczycieli/
END:VEVENT
BEGIN:VEVENT
DTSTART;TZID=UTC:20240822T110000
DTEND;TZID=UTC:20240822T170000
DTSTAMP:20260422T024212
CREATED:20240820T085953Z
LAST-MODIFIED:20240820T085953Z
UID:10000868-1724324400-1724346000@znp.edu.pl
SUMMARY:Spotkanie grupy roboczej ds. wynagradzania nauczycieli
DESCRIPTION:22 sierpnia odbędzie się drugie spotkanie tematycznej grupy roboczej ds. wynagradzania nauczycieli.
URL:https://znp.edu.pl/impreza/spotkanie-grupy-roboczej-ds-wynagradzania-nauczycieli/
END:VEVENT
BEGIN:VEVENT
DTSTART;TZID=UTC:20240826T090000
DTEND;TZID=UTC:20240826T170000
DTSTAMP:20260422T024212
CREATED:20240820T090100Z
LAST-MODIFIED:20240820T090100Z
UID:10000869-1724662800-1724691600@znp.edu.pl
SUMMARY:Prezydium ZG ZNP
DESCRIPTION:
URL:https://znp.edu.pl/impreza/prezydium-zg-znp-12/
END:VEVENT
END:VCALENDAR