BEGIN:VCALENDAR
VERSION:2.0
PRODID:-//ZNP - ECPv6.11.2.1//NONSGML v1.0//EN
CALSCALE:GREGORIAN
METHOD:PUBLISH
X-ORIGINAL-URL:https://znp.edu.pl
X-WR-CALDESC:Events for ZNP
REFRESH-INTERVAL;VALUE=DURATION:PT1H
X-Robots-Tag:noindex
X-PUBLISHED-TTL:PT1H
BEGIN:VTIMEZONE
TZID:UTC
BEGIN:STANDARD
TZOFFSETFROM:+0000
TZOFFSETTO:+0000
TZNAME:UTC
DTSTART:20240101T000000
END:STANDARD
END:VTIMEZONE
BEGIN:VEVENT
DTSTART;TZID=UTC:20240520T080000
DTEND;TZID=UTC:20240909T170000
DTSTAMP:20260422T010256
CREATED:20240520T130658Z
LAST-MODIFIED:20240520T130916Z
UID:10000866-1716192000-1725901200@znp.edu.pl
SUMMARY:Zgłoszenia do konkursów: Nauczyciel Roku 2024 i Nauczyciel Jutr@
DESCRIPTION:Głos Nauczycielski ogłosił tegoroczne konkursy ! \nGłos: Nauczycielki i nauczyciele kreatywni i cenieni w swoim środowisku – takich szukamy i nagradzamy już od ponad dwóch dekad. Po krótkiej przerwie w Konkurs Nauczyciel Roku znowu włącza się Ministerstwo Edukacji Narodowej.\nBo niezwykłość tej trwającej od 2002 r. inicjatywy polega na tym\, że udaje się w nią zaangażować wiele wybitnych osobistości\, w tym także ze świata kultury i polityki. Szczycimy się\, że nasze konkursy jednoczą wokół edukacji ludzi o różnych poglądach\, dowodząc\, że o szkole i nauczycielach można rozmawiać ponad podziałami. \nPo raz czwarty na październikowej Gali poznamy także zwycięzcę organizowanego przez Głos Nauczycielski wspólnie z Fundacją Orange Konkursu Nauczyciel Jutr@. \nW gronie nagradzanych byli przedmiotowcy chyba wszystkich specjalności – począwszy od polonistów\, matematyków\, historyków czy fizyków\, po wuefistów\, nauczycieli przedmiotów artystycznych\, zawodowych i katechetów. Nagradzaliśmy nauczycieli edukacji wczesnoszkolnej\, przedszkoli i szkół specjalnych. W gronie finalistów nie zabrakło też bibliotekarzy\, psychologów i pedagogów. Byli nauczyciele z dużych miast i małych wsi. Ze szkół znanych w całej Polsce i małych\, kameralnych placówek. Różni ich wiele\, ale łączy pasja\, nietuzinkowa osobowość\, znakomity kontakt z uczniami\, ogromne zaangażowanie w pracę. \nObydwa konkursy rozstrzyga Jury pod przewodnictwem prof. Stefana M. Kwiatkowskiego. W Konkursie Nauczyciel Roku zgodnie z regulaminem wybiera trzynastkę finalistów. Spośród nich jedna osoba otrzymuje tytuł Nauczyciel Roku\, dwie osoby Wyróżnienia\, a pozostała dziesiątka zostaje Nominowana do tytułu Nauczyciel Roku. \nNaszym celem jest promowanie świetnych nauczycieli\, którzy są autorytetami w swoich środowiskach\, ludzi zaangażowanych w podnoszenie jakości edukacji – znakomitych dydaktyków\, ale i wychowawców. \nW Konkursie Nauczyciel Jutr@\, organizowanym wspólnie z Fundacją Orange\, Jury wytypuje piątkę finalistów\, którzy stawiają dobrostan i szacunek dla uczniów i uczennic na pierwszym miejscu\, są otwarci na prowadzenie angażujących zajęć opartych na dialogu\, pracują w zgodzie z najnowszą wiedzą pedagogiczną oraz psychologią rozwojową i dążą do podnoszenia swoich kompetencji medialnych\, informacyjnych i cyfrowych\, korzystając przy tym technologii lub e-zasobów edukacyjnych\, aby prowadzić ciekawsze i inspirujące lekcje dla młodych ludzi. Z tego grona zostanie wybrany Nauczyciel Jutr@. \nObydwa konkursy rozstrzygniemy 8 października br.\, tradycyjnie już na Zamku Królewskim w Warszawie. \n\nKonkursy w pigułce\, czyli jak zostać Nauczycielem Roku i/lub Nauczycielem Jutr@\n>> Uczestnikiem konkursów Nauczyciel Roku 2024 i Nauczyciel Jutr@ może być każdy\, kto jest czynnym nauczycielem\, bez względu na rodzaj placówki\, w której pracuje (z wyjątkiem szkół wyższych). \n>> Kandydatów na Nauczyciela Roku 2024 i Nauczyciela Jutr@ mogą zgłaszać m.in.: dyrekcje placówek\, koledzy z grona pedagogicznego\, uczniowie\, rodzice\, organy prowadzące\, kuratoria oświaty. A także organizacje i instytucje współpracujące z nauczycielem. Można też samemu zgłosić swoją kandydaturę. \n>> Wymogiem formalnym jest wypełnienie formularza i napisanie uzasadnienia wniosku oraz przedstawienie osiągnięć nauczyciela\, zarówno tych\, które można zmierzyć i policzyć\, jak i tych\, których nie da się przełożyć na liczby i procenty. \n>> Na zgłoszenia do Konkursu Nauczyciel Roku 2024 czekamy do 9 września 2024 r. (liczy się data stempla pocztowego). Formularz wraz z załącznikami trzeba wysłać na adres: Głos Nauczycielski\, ul. J. Smulikowskiego 6/8\, 00-389 Warszawa z dopiskiem „Nauczyciel Roku 2024”. W przypadku Konkursu Nauczyciel Jutr@ zgłoszenie online trzeba wypełnić i wysłać do 8 września 2024 r. do północy. \n>> Udział w jednym konkursie nie wyklucza możliwości udziału w drugim. Można zatem startować w jednym z nich lub w obydwu! \n>> Regulamin Konkursu Nauczyciel Roku 2024 wraz z formularzem zgłoszeniowym na: glos.pl/nauczycielroku (kontakt: nauczycielroku@glos.pl) \n> Regulamin Konkursu Nauczyciel Jutr@ wraz z linkiem do formularza zgłoszeniowego na: glos.pl/nauczycieljutra (kontakt: nauczycieljutra@glos.pl) \nŹródło: glos.pl
URL:https://znp.edu.pl/impreza/nauczyciel-roku-2024-i-nauczyciel-jutr/
ATTACH;FMTTYPE=image/png:https://znp.edu.pl/assets/uploads/2024/05/GN_360x340_Ania-3.png
END:VEVENT
BEGIN:VEVENT
DTSTART;TZID=UTC:20240901T080000
DTEND;TZID=UTC:20240902T223000
DTSTAMP:20260422T010256
CREATED:20240830T102638Z
LAST-MODIFIED:20240830T102638Z
UID:10000870-1725177600-1725316200@znp.edu.pl
SUMMARY:Nowy Rok Szkolny
DESCRIPTION:
URL:https://znp.edu.pl/impreza/nowy-rok-szkolny/
ATTACH;FMTTYPE=image/jpeg:https://znp.edu.pl/assets/uploads/2024/08/znp_post_dobrego-roku-szkolnego.jpg
END:VEVENT
BEGIN:VEVENT
DTSTART;TZID=UTC:20240911T120000
DTEND;TZID=UTC:20240911T170000
DTSTAMP:20260422T010256
CREATED:20240904T091112Z
LAST-MODIFIED:20240904T091112Z
UID:10000871-1726056000-1726074000@znp.edu.pl
SUMMARY:Drugie spotkanie grupy ds. kwalifikacji w MEN
DESCRIPTION:11 września 2024 r. \nDrugie spotkanie grupy roboczej ds. kwalifikacji\, kształcenia i doskonalenia zawodowego nauczycieli w MEN \nUczestnicy: \nAdam Młynarski\, członek ZG ZNP \nAlina Molska\, członek ZG ZNP \nMirosław Kozik\, Oddział ZNP w Pszczynie
URL:https://znp.edu.pl/impreza/drugie-spotkanie-grupy-ds-kwalifikacji-w-men/
END:VEVENT
BEGIN:VEVENT
DTSTART;TZID=UTC:20240913T080000
DTEND;TZID=UTC:20240930T170000
DTSTAMP:20260422T010256
CREATED:20240912T085533Z
LAST-MODIFIED:20240912T085533Z
UID:10000875-1726214400-1727715600@znp.edu.pl
SUMMARY:Nasze filmowe patronaty
DESCRIPTION:„Niepewność. Zakochany Mickiewicz”\nPremiera filmu opowiadającego o młodzieńczej miłości Adama Mickiewicza odbędzie się 13 września. \nTo pierwszy film o Adamie Mickiewiczu i jednocześnie najsłynniejsza historia miłosna polskiego romantyzmu. Młody nauczyciel i aspirujący poeta Adam Mickiewicz (Nikodem Rozbicki) spędza lato w malowniczej posiadłości w okolicach Nowogródka. Trenuje szermierkę\, spiskuje marząc o wolnej Polsce\, a wszystko to w towarzystwie przyjaciół – Tomasza Zana (Antoni Sałaj) i Michała Wereszczaka (Adrian Zaremba). Szczególną uwagę poświęca jednak Maryli Wereszczakównie (Aleksandra Piotrowska). Błyskotliwa i piękna dziewczyna robi na młodzieńcu niesamowite wrażenie. To z Marylą młody poeta przeżywa pierwszą miłość. Adam uświadamia sobie\, że jego największym atutem jest talent poetycki i nim uwodzi Marylę. Jest w szale twórczym\, notatnik poety zapełnia się kolejnymi wierszami. \nFilm jest przeznaczony dla osób w wieku 13+. Jego producentem jest Telewizja Polska. Dystrybutor filmu przygotował pełną oferty dla szkół i nauczycieli: \n– 4 scenariusze lekcji plus karty pracy \n– wideo prelekcję o filmie (online) oraz wideo prelekcję do obejrzenia przed seansem w kinie na prośbę nauczycieli\, \n– 45-minutową lekcję online\, która będzie 12 – 13 września \n– webinar dla nauczycieli 19 września (z certyfikatem uczestnictwa). \nWszystkie te materiały są dostępne na stronie:  dystrybucjakinowa.tvp.pl/ \n  \n„Leonardo. Odkrywca”\nPierwszy film animowany o Leonardzie da Vinci dla dzieci. Inspirująca i zabawna bajka o odkrywcy\, który jest w każdym z nas oraz o nieposkromionej ciekawości świata zadebiutuje w kinach 13 września. \nNiesamowicie dociekliwy i uparty wynalazca Leonardo da Vinci opuszcza Włochy i wyrusza do Francji z misją stworzenia idealnego miasta\, które szumi\, tętni życiem\, śpiewem i radością. Wspólnie z księżniczką Małgorzatą próbuje przekonać do swojego pomysłu króla Franciszka. Król ma jednak inną wizję – chciałby dostać od mistrza wielki posąg\, aby pokazać światu swoją potęgę. \nTo opowieść o niepohamowanej ciekawości świata\, ilustrowana wesołymi piosenkami\, zaśpiewanymi przez polskich aktorów musicalowych\, na czele z Tomaszem Kotem w roli Leonarda. \nWszystkie materiały o filmie są na stronie: leonardo-odkrywca.bestfilm.pl \n 
URL:https://znp.edu.pl/impreza/nasze-filmowe-patronaty/
END:VEVENT
BEGIN:VEVENT
DTSTART;TZID=UTC:20240913T110000
DTEND;TZID=UTC:20240913T230000
DTSTAMP:20260422T010256
CREATED:20240912T085124Z
LAST-MODIFIED:20240912T085124Z
UID:10000874-1726225200-1726268400@znp.edu.pl
SUMMARY:Sejmowa komisja edukacji ds. obywatelskiego projektu ZNP
DESCRIPTION:W końcu ruszają prace nad naszym obywatelskim projektem „Godne płace i wysoki prestiż nauczycieli”: sejmowa komisja zajmie się nim 13 września. \nW najbliższy piątek\, 13 września 2024 r. o godz. 11:00 zwołano pierwsze posiedzenie sejmowej komisji edukacji poświęcone obywatelskiej inicjatywie. Projekt trafił do tej komisji po pierwszym czytaniu w Sejmie\, które miało miejsce w styczniu br. \nJak czytamy na stronie Sejmu RP\, będzie to formalne rozpoczęcie prac nad projektem\, czyli powołanie podkomisji – “Rozpatrzenie wniosku o powołanie Podkomisji nadzwyczajnej do rozpatrzenia obywatelskiego projektu ustawy o zmianie ustawy Karta Nauczyciela (druk nr 28)”.
URL:https://znp.edu.pl/impreza/sejmowa-komisja-edukacji-ds-obywatelskiego-projektu-znp/
END:VEVENT
BEGIN:VEVENT
DTSTART;TZID=UTC:20240923T110000
DTEND;TZID=UTC:20240923T170000
DTSTAMP:20260422T010256
CREATED:20240910T093423Z
LAST-MODIFIED:20240910T093423Z
UID:10000873-1727089200-1727110800@znp.edu.pl
SUMMARY:Prezydium ZG ZNP
DESCRIPTION:
URL:https://znp.edu.pl/impreza/prezydium-zg-znp-13/
END:VEVENT
BEGIN:VEVENT
DTSTART;TZID=UTC:20240923T170000
DTEND;TZID=UTC:20241109T170000
DTSTAMP:20260422T010256
CREATED:20240924T083319Z
LAST-MODIFIED:20240924T083354Z
UID:10000876-1727110800-1731171600@znp.edu.pl
SUMMARY:Zbiórka ZNP dla powodzian
DESCRIPTION:Wpłat można dokonywać na rachunek bankowy Związku Nauczycielstwa Polskiego z dopiskiem „Dla powodzian”.\nNumer konta: 82 1240 6247 1111 0000 4976 6017\nDecyzje o przyznaniu zapomogi członkowi ZNP i jej wysokości będą wydawane przez prezesów właściwych okręgów ZNP (przez prezesa okręgu\, na terenie którego zrzeszony jest członek ZNP występujący o zapomogę). \n#ZNPpomaga
URL:https://znp.edu.pl/impreza/zbiorka-znp-dla-powodzian/
ATTACH;FMTTYPE=image/png:https://znp.edu.pl/assets/uploads/2024/09/znp_powodz.png
END:VEVENT
BEGIN:VEVENT
DTSTART;TZID=UTC:20240928T110000
DTEND;TZID=UTC:20240928T170000
DTSTAMP:20260422T010256
CREATED:20240905T120109Z
LAST-MODIFIED:20240905T120428Z
UID:10000872-1727521200-1727542800@znp.edu.pl
SUMMARY:Mistrzostwa nauczycieli w strzelectwie sportowym
DESCRIPTION:XVIII MEMORIAŁ JERZEGO BANAKIEWICZA I OGÓLNOPOLSKIE i XXIX OKRĘGOWE MISTRZOSTWA NAUCZYCIELI I PRACOWNIKÓW OŚWIATY W STRZELECTWIE SPORTOWYM \nOrganizator: Oddział Związku Nauczycielstwa Polskiego w Toruniu we współpracy z Kujawsko-Pomorskim Okręgiem ZNP w Bydgoszczy oraz Zarządem Głównym ZNP. \nData i miejsce: 28 września 2024 r. o godz. 11.00\, Strzelnica Sportowa GUN STORM\, ul. Marii Skłodowskiej-Curie 85b\, 87-100 Toruń. \nZGŁOSZENIA DO 17 WRZEŚNIA 2024; \nTEL. 785 001 702 \nE-MAIL: TORUN-MIASTO@ZNP.EDU.P
URL:https://znp.edu.pl/impreza/mistrzostwa-nauczycieli-w-strzelectwie-sportowym/
END:VEVENT
END:VCALENDAR