BEGIN:VCALENDAR
VERSION:2.0
PRODID:-//ZNP - ECPv6.11.2.1//NONSGML v1.0//EN
CALSCALE:GREGORIAN
METHOD:PUBLISH
X-WR-CALNAME:ZNP
X-ORIGINAL-URL:https://znp.edu.pl
X-WR-CALDESC:Events for ZNP
REFRESH-INTERVAL;VALUE=DURATION:PT1H
X-Robots-Tag:noindex
X-PUBLISHED-TTL:PT1H
BEGIN:VTIMEZONE
TZID:UTC
BEGIN:STANDARD
TZOFFSETFROM:+0000
TZOFFSETTO:+0000
TZNAME:UTC
DTSTART:20240101T000000
END:STANDARD
END:VTIMEZONE
BEGIN:VEVENT
DTSTART;TZID=UTC:20240923T170000
DTEND;TZID=UTC:20241109T170000
DTSTAMP:20260421T231714
CREATED:20240924T083319Z
LAST-MODIFIED:20240924T083354Z
UID:10000876-1727110800-1731171600@znp.edu.pl
SUMMARY:Zbiórka ZNP dla powodzian
DESCRIPTION:Wpłat można dokonywać na rachunek bankowy Związku Nauczycielstwa Polskiego z dopiskiem „Dla powodzian”.\nNumer konta: 82 1240 6247 1111 0000 4976 6017\nDecyzje o przyznaniu zapomogi członkowi ZNP i jej wysokości będą wydawane przez prezesów właściwych okręgów ZNP (przez prezesa okręgu\, na terenie którego zrzeszony jest członek ZNP występujący o zapomogę). \n#ZNPpomaga
URL:https://znp.edu.pl/impreza/zbiorka-znp-dla-powodzian/
ATTACH;FMTTYPE=image/png:https://znp.edu.pl/assets/uploads/2024/09/znp_powodz.png
END:VEVENT
BEGIN:VEVENT
DTSTART;TZID=UTC:20241005T013000
DTEND;TZID=UTC:20241005T233000
DTSTAMP:20260421T231714
CREATED:20241004T103613Z
LAST-MODIFIED:20241004T103613Z
UID:10000877-1728091800-1728171000@znp.edu.pl
SUMMARY:Światowy Dzień Nauczyciela
DESCRIPTION:
URL:https://znp.edu.pl/impreza/swiatowy-dzien-nauczyciela/
ATTACH;FMTTYPE=image/jpeg:https://znp.edu.pl/assets/uploads/2024/10/Polish.jpg
END:VEVENT
BEGIN:VEVENT
DTSTART;TZID=UTC:20241008T120000
DTEND;TZID=UTC:20241008T170000
DTSTAMP:20260421T231714
CREATED:20241008T080419Z
LAST-MODIFIED:20241008T080640Z
UID:10000628-1728388800-1728406800@znp.edu.pl
SUMMARY:Nauczyciel Roku 2024 - live na Facebooku
DESCRIPTION:8 października br. o godz. 12:00 w Sali Wielkiej Zamku Królewskiego w Warszawie odbędzie się 22. Gala Konkursu Nauczyciel Roku.\nKonkurs organizuje tygodnik „Głos Nauczycielski”\, a tegoroczną edycję współorganizuje także – po krótkiej przerwie – Minister Edukacji.\nTradycyjnie przyznane zostaną też tytuły Przyjaciela Szkoły oraz Inicjatywy Edukacyjnej Roku. \nhttps://www.facebook.com/events/8525755977489495?acontext=%7B%22event_action_history%22%3A[%7B%22surface%22%3A%22home%22%7D%2C%7B%22mechanism%22%3A%22surface%22%2C%22surface%22%3A%22groups_highlight_units%22%7D]%2C%22ref_notif_type%22%3Anull%7D
URL:https://znp.edu.pl/impreza/nauczyciel-roku-2024/
END:VEVENT
BEGIN:VEVENT
DTSTART;TZID=UTC:20241014T043000
DTEND;TZID=UTC:20241014T233000
DTSTAMP:20260421T231714
CREATED:20241010T095346Z
LAST-MODIFIED:20241010T095346Z
UID:10000629-1728880200-1728948600@znp.edu.pl
SUMMARY:Dzień Edukacji Narodowej
DESCRIPTION:
URL:https://znp.edu.pl/impreza/dzien-edukacji-narodowej/
END:VEVENT
BEGIN:VEVENT
DTSTART;TZID=UTC:20241018T120000
DTEND;TZID=UTC:20241018T170000
DTSTAMP:20260421T231714
CREATED:20241016T082616Z
LAST-MODIFIED:20241018T082422Z
UID:10000630-1729252800-1729270800@znp.edu.pl
SUMMARY:Drugie spotkanie grupy roboczej ds. emerytur nauczycieli
DESCRIPTION:18 października 2024 r. \nDrugie spotkanie grupy roboczej ds. emerytur nauczycieli \nUczestnicy: \nPiotr Gościniak\, członek ZG ZNP\, Okręg Wielkopolski ZNP\nŁukasz Pater\, prawnik\nGrupa zajmie się emeryturami nauczycieli oraz nauczycielskim świadczeniem kompensacyjnym.
URL:https://znp.edu.pl/impreza/drugie-spotkanie-grupy-roboczej-ds-emerytur-nauczycieli/
END:VEVENT
BEGIN:VEVENT
DTSTART;TZID=UTC:20241018T130000
DTEND;TZID=UTC:20241019T230000
DTSTAMP:20260421T231714
CREATED:20241018T095441Z
LAST-MODIFIED:20241018T095534Z
UID:10000631-1729256400-1729378800@znp.edu.pl
SUMMARY:Debata młodych nauczycieli/ek
DESCRIPTION:„Debata młodych nauczycieli” – konferencja CKMN ZNP
URL:https://znp.edu.pl/impreza/debata-mlodych-nauczycieli-ek/
ATTACH;FMTTYPE=image/jpeg:https://znp.edu.pl/assets/uploads/2024/10/znp_post_den4.jpg
END:VEVENT
BEGIN:VEVENT
DTSTART;TZID=UTC:20241024T120000
DTEND;TZID=UTC:20241025T140000
DTSTAMP:20260421T231714
CREATED:20241023T120109Z
LAST-MODIFIED:20241023T120201Z
UID:10000632-1729771200-1729864800@znp.edu.pl
SUMMARY:Szkolenie: Profesjonalny szef/owa organizacji związkowej
DESCRIPTION:Szkolenie dwudniowe „Profesjonalny szef/owa organizacji związkowej – skuteczne przywództwo i zarządzanie strategiczne. Negocjacje i mediacje. Social media w pracy związkowca i różnorodność międzypokoleniowa – jak się komunikować? \nPROGRAM Szkolenie dp_24-25.10.24
URL:https://znp.edu.pl/impreza/szkolenie-profesjonalny-szef-owa-organizacji-zwiazkowej/
LOCATION:Kraków
ATTACH;FMTTYPE=image/jpeg:https://znp.edu.pl/assets/uploads/2024/09/FB_post-kwadratowy-linia-1-1_3.jpg
END:VEVENT
BEGIN:VEVENT
DTSTART;TZID=UTC:20241031T100000
DTEND;TZID=UTC:20241031T123000
DTSTAMP:20260421T231714
CREATED:20241028T091110Z
LAST-MODIFIED:20241028T091110Z
UID:10000636-1730368800-1730377800@znp.edu.pl
SUMMARY:Grupa ds. awansu i oceny pracy nauczycieli
DESCRIPTION:Drugie spotkanie grupy roboczej ds. awansu i oceny pracy nauczycieli w MEN odbędzie się 31 października o godz. 10:00.\nW spotkaniu wezmą udział ze strony ZNP:\nKrzysztof Baszczyński\, członek ZG ZNP\nEdyta Książek\, członek ZG ZNP\nDorota Obidniak\, koordynatorka ds. projektów edukacyjnych oraz Krzysztof Stradomski\, prawnik\nStronę ministerialną reprezentuje wiceminister Henryk Kiepura.\nPierwsze spotkanie grupy roboczej ds. awansu zawodowego i oceny pracy nauczycieli odbyło się 16 lipca br. Grupa działa w ramach Zespołu ds. pragmatyki zawodowej nauczycieli MEN powołanego z inicjatywy ZNP.\n– Związek przedstawił kilka postulatów w kontekście nowelizacji Karty Nauczyciela\, którą w obszarze awansu pan minister Czarnek szumnie nazwał reformą. My twierdziliśmy i twierdzimy\, że to żadna reforma awansu nie była. Było to jedynie przywrócenie tego\, co jeszcze za czasów Anny Zalewskiej w MEN  nazywało się kryteriami i wskaźnikami oceny – mówił wówczas Krzysztof Baszczyński\, członek ZG ZNP\, na briefingu prasowym po pierwszym spotkaniu grupy.\nJednym z postulatów ZNP jest rezygnacja w ocenie pracy ze wskaźników procentowych i rozbudowanych kryteriów.
URL:https://znp.edu.pl/impreza/grupa-ds-awansu-i-oceny-pracy-nauczycieli/
ATTACH;FMTTYPE=image/jpeg:https://znp.edu.pl/assets/uploads/2024/10/IMG_2525-scaled.jpg
END:VEVENT
END:VCALENDAR