BEGIN:VCALENDAR
VERSION:2.0
PRODID:-//ZNP - ECPv6.11.2.1//NONSGML v1.0//EN
CALSCALE:GREGORIAN
METHOD:PUBLISH
X-WR-CALNAME:ZNP
X-ORIGINAL-URL:https://znp.edu.pl
X-WR-CALDESC:Events for ZNP
REFRESH-INTERVAL;VALUE=DURATION:PT1H
X-Robots-Tag:noindex
X-PUBLISHED-TTL:PT1H
BEGIN:VTIMEZONE
TZID:UTC
BEGIN:STANDARD
TZOFFSETFROM:+0000
TZOFFSETTO:+0000
TZNAME:UTC
DTSTART:20250101T000000
END:STANDARD
END:VTIMEZONE
BEGIN:VEVENT
DTSTART;TZID=UTC:20250131T080000
DTEND;TZID=UTC:20250209T170000
DTSTAMP:20260421T152318
CREATED:20250123T140230Z
LAST-MODIFIED:20250123T140436Z
UID:10000645-1738310400-1739120400@znp.edu.pl
SUMMARY:Patronat. FILM: Dzielna banda i tajemnica zaginionego wujka
DESCRIPTION:Pełna przygód komedia od twórców „Mumii” i serii o łowcy skarbów „Tedi”. \nNieustraszone rodzeństwo Tom i Mary przypływa do Nowego Jorku na spotkanie z wujkiem Niallem\, który jednak nie zjawia się w porcie. Ukrywając się w transkontynentalnym pociągu\, bez grosza przy duszy\, dzieci wyruszają w niesamowitą podróż przez Dziki Zachód\, by odnaleźć wujka. Wraz z nowo poznanym chłopcem i przygarniętym pieskiem muszą uratować nowych przyjaciół z rąk gangu poszukiwaczy złota. \nPrzyłączając się do wyprawy z pomysłowym Tomem i jego rezolutną siostrą Mary\, przekonajcie się\, że każdy może zostać bohaterem! \nKasia i Jacek Sienkiewicz z zespołu Kwiat Jabłoni jako Mary i Tom oraz Cezary Pazura jako wujek zabiorą was w pełną zabawnych i szalonych przeżyć podróż przez Dziki Zachód. \nWięcej informacji TUTAJ. \n„Dzielna banda i tajemnica zaginionego wujka”\, Hiszpania 2024\, tytuł oryginalny „Buffalo Kids”\, gatunek: animowany\, familijny\, dystrybucja w Polsce: Best Film. \nReżyseria: Juan Jesus Garcia „Galo” i Pedro Solís García. \nW polskiej wersji językowej głosów bohaterom użyczyli: Kasia Sienkiewicz (Kwiat Jabłoni) – Mary\, Jacek Sienkiewicz (Kwiat Jabłoni) – Tom\, Cezary Pazura – wujek\, Laura Breszka – Eleonor\, Kamil Pruban – wódz Czejenów \nPatronat medialny: ZNP\, Głos Nauczycielski \nPremiera kinowa: 31 stycznia
URL:https://znp.edu.pl/impreza/patronat-dzielna-banda-i-tajemnica-zaginionego-wujka/
ATTACH;FMTTYPE=image/jpeg:https://znp.edu.pl/assets/uploads/2025/01/file_s120-hinick-c030comp1122.jpg
END:VEVENT
BEGIN:VEVENT
DTSTART;TZID=UTC:20250208T120000
DTEND;TZID=UTC:20250209T143000
DTSTAMP:20260421T152318
CREATED:20250121T105544Z
LAST-MODIFIED:20250121T110127Z
UID:10000643-1739016000-1739111400@znp.edu.pl
SUMMARY:Kraków – szkolenie
DESCRIPTION:Dwudniowe szkolenie w Krakowie  8 – 9.02.2025 r. „Mobbing i dyskryminacja – podstawy prawne\, case study” w ramach projektu „Dialog PLUS – wzmocnienie potencjału partnerów społecznych w procesie monitorowania i stanowienia prawa” współfinansowanego z Europejskiego Funduszu Społecznego +. \nOrganizator: Związek Nauczycielstwa Polskiego \nMiejsce szkolenia: Hotel Swing \n\nDobrego Pasterza 124\, 31-416 Kraków\n\n8 lutego 2025 r. – 1. dzień szkolenia \n12.00 – 13.30 – 1. sesja \n13.30- 14.30 – obiad i zakwaterowanie \n14.30-16.00 – 2. sesja \nprzerwa kawowa \n16.15- 17.45 – 3. sesja \n18.30 – kolacja w hotelu ( dla osób korzystających z noclegu) \n9 lutego 2025 r. – 2. dzień szkolenia \n08-.30-10.00 – 1. sesja \nprzerwa kawowa \n10.15-11.45 – 2. sesja \nprzerwa kawowa \n12.00- 13.30 – 3. sesja \n13.30- 14.30 – obiad
URL:https://znp.edu.pl/impreza/krakow-szkolenie/
ATTACH;FMTTYPE=image/jpeg:https://znp.edu.pl/assets/uploads/2025/01/FB_post-kwadratowy-linia-1-1_2.jpg
END:VEVENT
BEGIN:VEVENT
DTSTART;TZID=UTC:20250221T080000
DTEND;TZID=UTC:20250308T170000
DTSTAMP:20260421T152318
CREATED:20250219T120603Z
LAST-MODIFIED:20250219T120603Z
UID:10000647-1740124800-1741453200@znp.edu.pl
SUMMARY:Nasz patronat: Jeden na milion
DESCRIPTION:Inspirująca prawdziwa historia niesamowitej rodziny\, która w każdej napotkanej trudności potrafiła odnaleźć szansę. Austin ma autyzm i wrodzoną łamliwość kości\, ale mimo tego\, a może właśnie dzięki temu wie\, że każdy dzień może być najlepszy. JEDEN NA MILION to film\, po którym chce się żyć! \nAustin Lerette to niezwykły chłopak. Ma autyzm\, a jego kości są tak kruche\, że każdy upadek może doprowadzić do złamania. Ale Austin się nie łamie. Kocha swoją rodzinę\, kolegów\, szkołę i jak mało kto potrafi cieszyć się ży­ciem. Jego odmienność jest jednak także źródłem kłopotów i przykrości. Nie wszyscy rówieśnicy widzą w nim kumpla. Dla niektórych jest „tym dziw­nym dzieciakiem”\, a ciągłe złamania utrudniają normalne funkcjonowanie\, o jakim marzy. Co gorsza jego ukochani rodzice zaczynają tracić radość życia i oddalać się od siebie. I tu do akcji musi wkroczyć Austin\, który jak nikt inny potrafi znajdo­wać jasne strony każdej sytuacji. Czy uda mu się nauczyć swoich bliskich wiary w to\, że każdy dzień może być najlepszy? Czy pokaże im\, jak dostrze­gać w życiu to\, co najpiękniejsze? Warto się przekonać\, bo Austin to praw­dopodobnie najfajniejszy chłopak na świecie. \nPremiera kinowa: 21 lutego 2025 r. \nMateriały edukacyjne\, scenariusze lekcji tutaj: \njeden-na-milion-materialy-edukacyjne-online-wersja-finalna-3101-2.pdf \n 
URL:https://znp.edu.pl/impreza/nasz-patronat-jeden-na-milion/
ATTACH;FMTTYPE=image/jpeg:https://znp.edu.pl/assets/uploads/2025/02/JnM_Grafika-FB_800x800.jpg
END:VEVENT
BEGIN:VEVENT
DTSTART;TZID=UTC:20250222T120000
DTEND;TZID=UTC:20250223T143000
DTSTAMP:20260421T152318
CREATED:20250121T105407Z
LAST-MODIFIED:20250121T110158Z
UID:10000642-1740225600-1740321000@znp.edu.pl
SUMMARY:Białystok - szkolenie
DESCRIPTION:Dwudniowe szkolenie 22 – 23.02.2025 r. w Białymstoku „Mobbing i dyskryminacja – podstawy prawne\, case study” w ramach projektu „Dialog PLUS – wzmocnienie potencjału partnerów społecznych w procesie monitorowania i stanowienia prawa” współfinansowanego z Europejskiego Funduszu Społecznego +.\nOrganizator: Związek Nauczycielstwa Polskiego\n\nMiejsce szkolenia: \nHotel Branicki \n\nZamenhofa 25\n15-435 Białystok\n\n„Mobbing i dyskryminacja – podstawy prawne – 1. DZIEŃ. Mobbing i dyskryminacja – case study – 2. DZIEŃ ” \n22 lutego 2025 r. – 1. dzień szkolenia \n12.00 – 13.30 – 1. sesja \n13.30- 14.30 – obiad i zakwaterowanie \n14.30-16.00 – 2. sesja \nprzerwa kawowa \n16.15- 17.45 – 3. sesja \n18.30 – kolacja w hotelu ( dla osób korzystających z noclegu) \n23 lutego 2025 r. – 2. dzień szkolenia \n8-.30-10.00 – 1. sesja \nprzerwa kawowa \n10.15-11.45 – 2. sesja \nprzerwa kawowa \n12.00- 13.30 – 3. sesja \n13.30- 14.30 – obiad
URL:https://znp.edu.pl/impreza/bialystok-szkolenie/
ATTACH;FMTTYPE=image/jpeg:https://znp.edu.pl/assets/uploads/2025/01/FB_post-kwadratowy-linia-1-1_2.jpg
END:VEVENT
END:VCALENDAR