BEGIN:VCALENDAR
VERSION:2.0
PRODID:-//ZNP - ECPv6.11.2.1//NONSGML v1.0//EN
CALSCALE:GREGORIAN
METHOD:PUBLISH
X-ORIGINAL-URL:https://znp.edu.pl
X-WR-CALDESC:Events for ZNP
REFRESH-INTERVAL;VALUE=DURATION:PT1H
X-Robots-Tag:noindex
X-PUBLISHED-TTL:PT1H
BEGIN:VTIMEZONE
TZID:UTC
BEGIN:STANDARD
TZOFFSETFROM:+0000
TZOFFSETTO:+0000
TZNAME:UTC
DTSTART:20250101T000000
END:STANDARD
END:VTIMEZONE
BEGIN:VEVENT
DTSTART;TZID=UTC:20250401T120000
DTEND;TZID=UTC:20250401T133000
DTSTAMP:20260421T092419
CREATED:20250328T092606Z
LAST-MODIFIED:20250328T092606Z
UID:10000893-1743508800-1743514200@znp.edu.pl
SUMMARY:Webinarium dla związkowców
DESCRIPTION:Webinarium dla związkowców \nTemat: Opiniowanie arkuszy organizacji na rok 2025/2026 \nKiedy? \n1 kwietnia 2025 r. godz. 12:00 – 13:30 \n3 kwietnia 2025 r. godz. 19:00 – 20:30 \nGdzie: TEAMS \nJak? Rejestracja mailowa: znpwebinar@znp.edu.pl \nW webinarze mogą uczestniczyć osoby logujące się z adresu w domenie ZNP.
URL:https://znp.edu.pl/impreza/webinarium-dla-zwiazkowcow/
ATTACH;FMTTYPE=image/jpeg:https://znp.edu.pl/assets/uploads/2025/03/Webinarium-ZNP-13-kwietnia-2025.jpg
END:VEVENT
BEGIN:VEVENT
DTSTART;TZID=UTC:20250403T190000
DTEND;TZID=UTC:20250403T203000
DTSTAMP:20260421T092419
CREATED:20250328T092704Z
LAST-MODIFIED:20250328T092704Z
UID:10000894-1743706800-1743712200@znp.edu.pl
SUMMARY:Webinarium dla związkowców
DESCRIPTION:Temat: Opiniowanie arkuszy organizacji na rok 2025/2026 \nKiedy? \n3 kwietnia 2025 r. godz. 19:00 – 20:30 \nGdzie: TEAMS \nJak? Rejestracja mailowa: znpwebinar@znp.edu.pl \nW webinarze mogą uczestniczyć osoby logujące się z adresu w domenie ZNP.
URL:https://znp.edu.pl/impreza/webinarium-dla-zwiazkowcow-2/
ATTACH;FMTTYPE=image/jpeg:https://znp.edu.pl/assets/uploads/2025/03/Webinarium-ZNP-13-kwietnia-2025.jpg
END:VEVENT
BEGIN:VEVENT
DTSTART;TZID=UTC:20250408T120000
DTEND;TZID=UTC:20250409T150000
DTSTAMP:20260421T092419
CREATED:20250326T112303Z
LAST-MODIFIED:20250326T112326Z
UID:10000892-1744113600-1744210800@znp.edu.pl
SUMMARY:Katowice: Szkolenie ZNP
DESCRIPTION:8 – 9 kwietnia 2025 roku w Katowicach odbędzie się szkolenie „Profesjonalny szef/owa organizacji związkowej – skuteczne przywództwo i zarządzanie strategiczne. Negocjacje i mediacje. Social media w pracy związkowca i różnorodność międzypokoleniowa – jak się komunikować” w ramach projektu „Dialog PLUS – wzmocnienie potencjału partnerów społecznych w procesie monitorowania i stanowienia prawa” współfinansowanego z Europejskiego Funduszu Społecznego+. Organizator: Związek Nauczycielstwa Polskiego
URL:https://znp.edu.pl/impreza/22106/
END:VEVENT
BEGIN:VEVENT
DTSTART;TZID=UTC:20250425T150000
DTEND;TZID=UTC:20250427T130000
DTSTAMP:20260421T092419
CREATED:20250414T073603Z
LAST-MODIFIED:20250425T064713Z
UID:10000895-1745593200-1745758800@znp.edu.pl
SUMMARY:40. NAUCZYCIELSKIE DNI PAMIĘCI I POKOJU
DESCRIPTION:Organizator: Związek Nauczycielstwa Polskiego Oddział w Bielsku-Białej oraz Okręg Śląski \n26 kwietnia 2025 r. (sobota)\nDebata na Uniwersytecie Bielsko-Bialskim \n27 kwietnia 2025 r. (niedziela)\nWyjazd uczestników do Oświęcimia. Zbiórka przed Muzeum Auschwitz-Birkenau\n„Marsz Milczenia”\nZłożenie kwiatów pod Międzynarodowym Pomnikiem Ofiar Obozu w Brzezince\, „Iskierka Pokoju” \nWięcej informacji TUTAJ.  \nMarsz Milczenia odbywa się w rocznicę śmierci głodowej chorzowskiego nauczyciela i bohatera tajnego nauczania Mariana Batki\, który zginął w KL Auschwitz 27 kwietnia 1941 r. Poświęcił swoje życie\, by ratować innego więźnia\, nastoletniego chłopca\, wyznaczonego na śmierć. W 1972 r. za ten czyn został odznaczony Orderem Virtuti Militari. Postać Mariana Batko stała się symbolem nauczycieli\, którzy zginęli podczas II wojny światowej. \nW ten sposób nauczyciele i uczniowie oddadzą hołd zgładzonym w obozie.
URL:https://znp.edu.pl/impreza/40-nauczycielskie-dni-pamieci-i-pokoju/
END:VEVENT
BEGIN:VEVENT
DTSTART;TZID=UTC:20250428T110000
DTEND;TZID=UTC:20250428T170000
DTSTAMP:20260421T092419
CREATED:20250425T071159Z
LAST-MODIFIED:20250425T071159Z
UID:10000900-1745838000-1745859600@znp.edu.pl
SUMMARY:Spotkanie z przewodniczącymi komisji dyscyplinarnych
DESCRIPTION:Związek Nauczycielstwa Polskiego organizuje w poniedziałek\, 28 kwietnia spotkanie z przewodniczącymi komisji dyscyplinarnych dla nauczycieli z całego kraju. \nSpotkanie jest związane z pracami grupy roboczej w MEN w sprawie postępowań dyscyplinarnych nauczycieli. \nMiejsce: siedziba ZNP w Warszawie na Powiślu\, ul. Smulikowskiego 6/8
URL:https://znp.edu.pl/impreza/spotkanie-z-przewodniczacymi-komisji-dyscyplinarnych/
END:VEVENT
BEGIN:VEVENT
DTSTART;TZID=UTC:20250428T113000
DTEND;TZID=UTC:20250428T170000
DTSTAMP:20260421T092419
CREATED:20250425T070835Z
LAST-MODIFIED:20250425T070835Z
UID:10000899-1745839800-1745859600@znp.edu.pl
SUMMARY:Konferencja prasowa ZNP
DESCRIPTION:Zapraszamy na konferencję prasową ZNP w najbliższy poniedziałek: \n\n28 kwietnia 2025 r.\ngodz. 11:30\nsiedziba ZNP w Warszawie na Powiślu\, ul. Smulikowskiego 6/8\, I piętro\n\nTemat: Płace nauczycieli w kontekście sytuacji gospodarczej \nUczestnicy: Sławomir Broniarz\, prezes ZNP i Urszula Woźniak\, wiceprezes ZG ZNP
URL:https://znp.edu.pl/impreza/konferencja-prasowa-znp-11/
ATTACH;FMTTYPE=image/jpeg:https://znp.edu.pl/assets/uploads/2025/04/Kopia-–-Dodaj-podtytul-20.jpg
END:VEVENT
BEGIN:VEVENT
DTSTART;TZID=UTC:20250429T120000
DTEND;TZID=UTC:20250429T170000
DTSTAMP:20260421T092419
CREATED:20250425T071313Z
LAST-MODIFIED:20250425T071313Z
UID:10000901-1745928000-1745946000@znp.edu.pl
SUMMARY:MEN: Grupa ds. postępowań dyscyplinarnych
DESCRIPTION:Spotkanie grupy roboczej w MEN w sprawie postępowań dyscyplinarnych nauczycieli.
URL:https://znp.edu.pl/impreza/men-grupa-ds-postepowan-dyscyplinarnych/
END:VEVENT
BEGIN:VEVENT
DTSTART;TZID=UTC:20250429T123000
DTEND;TZID=UTC:20250429T170000
DTSTAMP:20260421T092419
CREATED:20250414T074024Z
LAST-MODIFIED:20250414T074119Z
UID:10000896-1745929800-1745946000@znp.edu.pl
SUMMARY:MEN: Grupa ds. odpowiedzialności dyscyplinarnej
DESCRIPTION:29 kwietnia o godz. 12:30 odbędzie się w Ministerstwie Edukacji Narodowej spotkanie grupy roboczej ds. odpowiedzialności dyscyplinarnej nauczycieli. \nGrupa działa w ramach Zespołu ds. pragmatyki zawodowej nauczycieli MEN\, który został powołany z inicjatywy ZNP.
URL:https://znp.edu.pl/impreza/men-grupa-ds-odpowiedzialnosci-dyscyplinarnej-2/
END:VEVENT
END:VCALENDAR