BEGIN:VCALENDAR
VERSION:2.0
PRODID:-//ZNP - ECPv6.11.2.1//NONSGML v1.0//EN
CALSCALE:GREGORIAN
METHOD:PUBLISH
X-ORIGINAL-URL:https://znp.edu.pl
X-WR-CALDESC:Events for ZNP
REFRESH-INTERVAL;VALUE=DURATION:PT1H
X-Robots-Tag:noindex
X-PUBLISHED-TTL:PT1H
BEGIN:VTIMEZONE
TZID:UTC
BEGIN:STANDARD
TZOFFSETFROM:+0000
TZOFFSETTO:+0000
TZNAME:UTC
DTSTART:20250101T000000
END:STANDARD
END:VTIMEZONE
BEGIN:VEVENT
DTSTART;TZID=UTC:20250501T010000
DTEND;TZID=UTC:20250501T233000
DTSTAMP:20260421T062803
CREATED:20250414T074130Z
LAST-MODIFIED:20250429T075555Z
UID:10000897-1746061200-1746142200@znp.edu.pl
SUMMARY:Święto Pracy 2025
DESCRIPTION:Międzynarodowy Dzień Solidarności Ludzi Pracy \nW tym roku Łódź stanie się miejscem obchodów Święta Pracy współorganizowanych przez Ogólnopolskie Porozumienie Związków Zawodowych. \nTradycyjny pochód wystartuje 1 maja o godz. 11:00 z pasażu Schillera\, przejdzie ulicą Piotrkowską i zakończy się na Starym Rynku\, gdzie będzie Miasteczko OPZZ. W miasteczku zaplanowano m.in. panele dyskusyjne („Macierzyński\, rodzicielski\, wychowawczy czy ojcowski? – ABC Twoich praw związanych z macierzyństwem i rodzicielstwem”\, „Czy praca w Polsce się opłaca? – o warunkach pracy\, wynagrodzeniach i sytuacji na rynku pracy”\, „Godne emerytury”)\, spotkania\, stoiska informacyjne i wiele innych atrakcji (m.in. występ orkiestry górniczej\, degustacja grochówki wojskowej\, zabawy dla dzieci). \nW wydarzeniu wezmą udział m.in. przedstawiciele Okręgu Łódzkiego ZNP.
URL:https://znp.edu.pl/impreza/swieto-pracy-2025/
ATTACH;FMTTYPE=image/jpeg:https://znp.edu.pl/assets/uploads/2025/04/490983879_1138602708294345_7777147350497960850_n.jpg
END:VEVENT
BEGIN:VEVENT
DTSTART;TZID=UTC:20250505T080000
DTEND;TZID=UTC:20250506T170000
DTSTAMP:20260421T062803
CREATED:20250414T080926Z
LAST-MODIFIED:20250414T080926Z
UID:10000898-1746432000-1746550800@znp.edu.pl
SUMMARY:Warszawa: Dialog plus
DESCRIPTION:Warszawa: 5-6 maja 2025 szkolenie dwudniowe: Profesjonalny szef/owa organizacji związkowej – skuteczne przywództwo i zarządzanie strategiczne. Pierwszy dzień. Social media w pracy związkowca i różnorodność międzypokoleniowa – jak się komunikować?. Drugi dzień \nSzkolenie w ramach projektu: „Dialog PLUS – wzmocnienie potencjału partnerów społecznych w procesie monitorowania i stanowienia prawa”\, FERS.04.03-IP.06-001/23. \nO PROJEKCIE: \nOgólnopolskie Porozumienie Związków Zawodowych w partnerstwie ze Związkiem Nauczycielstwa Polskiego oraz Konfederacją Związków Zawodowych Górnictwa w Polsce \nRealizują projekt: \nDialog PLUS – wzmocnienie potencjału partnerów społecznych w procesie monitorowania i stanowienia prawa \nOkres realizacji projektu 01.03.2024r. – 31.10.2026r. \nWartość projektu: 4 669 747\,50 zł \nDofinansowanie ze środków europejskich: 3 853 475\,63 zł \nDofinansowanie z dotacji celowej: 676 176\,37 zł \nCelem projektu jest wzmocnienie potencjału partnerów społecznych w procesie monitorowania i stanowienia prawa. Ma on służyć wzmocnieniu potencjału instytucjonalnego i eksperckiego\, związanego z uczestnictwem organizacji związkowych w procesach stanowienia oraz monitorowania prawa i polityk publicznych w szczególności w zakresie zatrudnienia\, warunków pracy i płacy\, tak aby móc prognozować np. skutki jego zmian. Dzięki uczestnictwu w projekcie będzie możliwa aktualizacja wiedzy w zakresie prawa określającego zasady funkcjonowania poszczególnych branż\, które często ulega zmianie. Funkcje związkowe podlegają kadencyjności\, co wymaga od organizacji związkowych planowania procesu szkolenia także dla nowych osób. \n#FunduszeUE lub #FunduszeEuropejskie
URL:https://znp.edu.pl/impreza/warszawa-dialog-plus/
END:VEVENT
BEGIN:VEVENT
DTSTART;TZID=UTC:20250512T080000
DTEND;TZID=UTC:20250512T170000
DTSTAMP:20260421T062803
CREATED:20250509T091824Z
LAST-MODIFIED:20250509T091824Z
UID:10000904-1747036800-1747069200@znp.edu.pl
SUMMARY:Prezydium ZG ZNP
DESCRIPTION:
URL:https://znp.edu.pl/impreza/prezydium-zg-znp-15/
END:VEVENT
BEGIN:VEVENT
DTSTART;TZID=UTC:20250513T080000
DTEND;TZID=UTC:20250515T170000
DTSTAMP:20260421T062803
CREATED:20250509T091720Z
LAST-MODIFIED:20250509T091720Z
UID:10000903-1747123200-1747328400@znp.edu.pl
SUMMARY:Egzamin ósmoklasisty
DESCRIPTION:
URL:https://znp.edu.pl/impreza/egzamin-osmoklasisty/
ATTACH;FMTTYPE=image/jpeg:https://znp.edu.pl/assets/uploads/2025/05/znp_post_egzamin_osmoklasisty-1.jpg
END:VEVENT
BEGIN:VEVENT
DTSTART;TZID=UTC:20250515T080000
DTEND;TZID=UTC:20250516T170000
DTSTAMP:20260421T062803
CREATED:20250509T092339Z
LAST-MODIFIED:20250509T092339Z
UID:10000906-1747296000-1747414800@znp.edu.pl
SUMMARY:Szkolenie prezesów oddziałów i okręgów
DESCRIPTION:Gdańsk
URL:https://znp.edu.pl/impreza/szkolenie-prezesow-oddzialow-i-okregow/
END:VEVENT
BEGIN:VEVENT
DTSTART;TZID=UTC:20250516T080000
DTEND;TZID=UTC:20250517T170000
DTSTAMP:20260421T062803
CREATED:20250509T092007Z
LAST-MODIFIED:20250509T092007Z
UID:10000905-1747382400-1747501200@znp.edu.pl
SUMMARY:Katowice: Unijne szkolenie RSWiN ZNP
DESCRIPTION:Szkolenie dwudniowe dla RSWiN ZNP 16-17.05.2025 Katowice: Ustawa prawo o szkolnictwie wyższym i nauce\, ustawa o związkach zawodowych\, Kodeks pracy. Ustawa prawo o szkolnictwie wyższym i nauce\, ustawa o związkach zawodowych\, Kodeks pracy – case study.
URL:https://znp.edu.pl/impreza/katowice-unijne-szkolenie-rswin-znp/
ATTACH;FMTTYPE=image/jpeg:https://znp.edu.pl/assets/uploads/2025/01/FB_post-kwadratowy-linia-1-1_2.jpg
END:VEVENT
BEGIN:VEVENT
DTSTART;TZID=UTC:20250519T080000
DTEND;TZID=UTC:20250520T170000
DTSTAMP:20260421T062803
CREATED:20250509T092404Z
LAST-MODIFIED:20250509T092404Z
UID:10000907-1747641600-1747760400@znp.edu.pl
SUMMARY:Szkolenie prezesów oddziałów i okręgów
DESCRIPTION:Zakopane
URL:https://znp.edu.pl/impreza/szkolenie-prezesow-oddzialow-i-okregow-2/
END:VEVENT
BEGIN:VEVENT
DTSTART;TZID=UTC:20250530T100000
DTEND;TZID=UTC:20250530T170000
DTSTAMP:20260421T062803
CREATED:20250529T095907Z
LAST-MODIFIED:20250529T095943Z
UID:10000917-1748599200-1748624400@znp.edu.pl
SUMMARY:Kraków: TON
DESCRIPTION:Otwarcie Ścieżki Edukacyjnej m. Krakowa poświęconej Bohaterom Tajnego Nauczania odbędzie się 30 maja o godz. 10:00 przy ul. Gołębiej 24 w Krakowie. Organizatorem wydarzenia jest Okręg Małopolski ZNP.\n\n\n\n\n\n\nNatomiast o godz. 11:30 przed Akademia Górniczo-Hutnicza w Krakowie przy ul. Czarnowiejskiej zostanie odsłonięty Pomnik Tajnej Organizacji Nauczycielskiej.\n\n\nOrganizatorami wydarzenia są: Rada Uczelniania ZNP w AGH oraz ZNP Oddział Kraków – Śródmieście.\n\n\n\n Tajna Organizacja Nauczycielska została założona 26 października 1939 r. przez Zygmunta Nowickiego\, prezesa ZNP i konspiratora z czasów carskich oraz czterech innych przedstawicieli Związku: Kazimierza Maja\, Wacława Tułodzieckiego\, Teofila Wojeńskiego i Czesława Wycecha. Zdecydowali oni wówczas\, że #ZNP przechodzi do działalności podziemnej\, przyjmując kryptonim Tajna Organizacja Nauczycielska.
URL:https://znp.edu.pl/impreza/krakow-ton/
END:VEVENT
BEGIN:VEVENT
DTSTART;TZID=UTC:20250530T120000
DTEND;TZID=UTC:20250601T170000
DTSTAMP:20260421T062803
CREATED:20250527T110325Z
LAST-MODIFIED:20250527T110325Z
UID:10000914-1748606400-1748797200@znp.edu.pl
SUMMARY:Gdańsk: Unijne szkolenie
DESCRIPTION:Szkolenie trzydniowe 30.05-1.06.2025 Gdańsk \n„Profesjonalny szef/owa organizacji związkowej – skuteczne przywództwo i zarządzanie strategiczne. \nNegocjacje i mediacje. Social media w pracy związkowca i różnorodność międzypokoleniowa – jak się komunikować? \nStres i wypalenie zawodowe – charakterystyka zjawisk i metody przeciwdziałania”
URL:https://znp.edu.pl/impreza/gdansk-unijne-szkolenie/
END:VEVENT
END:VCALENDAR