BEGIN:VCALENDAR
VERSION:2.0
PRODID:-//ZNP - ECPv6.11.2.1//NONSGML v1.0//EN
CALSCALE:GREGORIAN
METHOD:PUBLISH
X-ORIGINAL-URL:https://znp.edu.pl
X-WR-CALDESC:Events for ZNP
REFRESH-INTERVAL;VALUE=DURATION:PT1H
X-Robots-Tag:noindex
X-PUBLISHED-TTL:PT1H
BEGIN:VTIMEZONE
TZID:UTC
BEGIN:STANDARD
TZOFFSETFROM:+0000
TZOFFSETTO:+0000
TZNAME:UTC
DTSTART:20250101T000000
END:STANDARD
END:VTIMEZONE
BEGIN:VEVENT
DTSTART;TZID=UTC:20250825T080000
DTEND;TZID=UTC:20250826T170000
DTSTAMP:20260421T012410
CREATED:20250717T110710Z
LAST-MODIFIED:20250717T110710Z
UID:10000927-1756108800-1756227600@znp.edu.pl
SUMMARY:Prezydium ZG ZNP
DESCRIPTION:
URL:https://znp.edu.pl/impreza/prezydium-zg-znp-17/
END:VEVENT
BEGIN:VEVENT
DTSTART;TZID=UTC:20250826T120000
DTEND;TZID=UTC:20250826T170000
DTSTAMP:20260421T012411
CREATED:20250813T080751Z
LAST-MODIFIED:20250813T081017Z
UID:10000929-1756209600-1756227600@znp.edu.pl
SUMMARY:Uroczystości pogrzebowe dr. Bolesława Grzesia
DESCRIPTION:Uroczystości pogrzebowe dr. Bolesława Grzesia\, prezesa ZG ZNP w latach 1972 – 1980\, nauczyciela\, historyka\, badacza dziejów Związku oraz okupacyjnych losów polskich nauczycieli\, autora wielu publikacji\, odbędą się 26 sierpnia o godz. 12:00 na warszawskim Cmentarzu Północnym.
URL:https://znp.edu.pl/impreza/uroczystosci-pogrzebowe-dr-boleslawa-grzesia/
END:VEVENT
END:VCALENDAR