BEGIN:VCALENDAR
VERSION:2.0
PRODID:-//ZNP - ECPv6.11.2.1//NONSGML v1.0//EN
CALSCALE:GREGORIAN
METHOD:PUBLISH
X-WR-CALNAME:ZNP
X-ORIGINAL-URL:https://znp.edu.pl
X-WR-CALDESC:Events for ZNP
REFRESH-INTERVAL;VALUE=DURATION:PT1H
X-Robots-Tag:noindex
X-PUBLISHED-TTL:PT1H
BEGIN:VTIMEZONE
TZID:UTC
BEGIN:STANDARD
TZOFFSETFROM:+0000
TZOFFSETTO:+0000
TZNAME:UTC
DTSTART:20250101T000000
END:STANDARD
END:VTIMEZONE
BEGIN:VEVENT
DTSTART;TZID=UTC:20251003T080000
DTEND;TZID=UTC:20251004T170000
DTSTAMP:20260420T205134
CREATED:20250911T064517Z
LAST-MODIFIED:20250911T064517Z
UID:10000937-1759478400-1759597200@znp.edu.pl
SUMMARY:Pilaszków: Ogólnopolskie Obchody Jubileuszu 120-lecia ZNP
DESCRIPTION:Ogólnopolskie Obchody Jubileuszu 120-lecia ZNP \n3 – 4 października 2025 r. PILASZKÓW / Stryków \nW tym roku obchodzimy jubileusz 120-lecia Związku Nauczycielstwa Polskiego! \nZwiązek Nauczycielstwa Polskiego jest najstarszym związkiem zawodowym w Polsce a początki ZNP są nierozerwalnie związane z walką nauczycieli o prawo do nauczania w języku polskim. \n\nW czasach zaborów nauczyciele zakładali organizacje\, bo chcieli być silniejsi w walce o polską szkołę. Jedna z nich – Związek Nauczycieli Ludowych – powstała 1 października 1905 r. w Pilaszkowie koło Łowicza. W ten sposób 120 lat temu zrodziła się organizacja\, która stała się zalążkiem Związku Nauczycielstwa Polskiego.\nRuch nauczycielski rozkwitał także w zaborze austriackim\, gdzie na czele utworzonego 28 grudnia 1905 r. Krajowego Związku Nauczycielstwa Ludowego w Galicji stanął Stanisław Nowak. Związek powstał w Krakowie podczas zebrania delegatów z Galicji\, tzw. Ankiety. Oprócz Nowaka czołową postacią tego ruchu był także Julian Smulikowski (1880-1934)\, współtwórca Związku\, wiceprezes ZNP\, poseł na Sejm w okresie II RP.\n\nW ramach obchodów rocznicy powstania Związku odbędzie się wiele uroczystych wydarzeń poświęconych jego historii i dorobkowi w okręgach\, oddziałach i ogniskach ZNP. Przyświeca im hasło „Edukacja dla pokoleń”. \nZNP to najstarsza i największa organizacja związkowa z wizją sprawiedliwej\, nowoczesnej\, demokratycznej szkoły\, którą razem budujemy. ZNP to także Związek z tradycją. Nasza organizacja zrodziła się 120 lat temu z niezłomnej wiary w siłę wiedzy i godność człowieka. \nZwiązek Nauczycielstwa Polskiego od momentu powstania w 1905 roku odgrywa fundamentalną rolę w tworzeniu systemu edukacji w Polsce oraz w kształtowaniu postaw patriotycznych poprzez przekazywanie wiedzy o historii Polski\, literaturze i kulturze.
URL:https://znp.edu.pl/impreza/pilaszkow-ogolnopolskie-obchody-jubileuszu-120-lecia-znp/
ATTACH;FMTTYPE=image/jpeg:https://znp.edu.pl/assets/uploads/2025/09/znp_post_120lat_jubileusz.jpg
END:VEVENT
BEGIN:VEVENT
DTSTART;TZID=UTC:20251007T120000
DTEND;TZID=UTC:20251007T170000
DTSTAMP:20260420T205134
CREATED:20250527T110111Z
LAST-MODIFIED:20250527T110111Z
UID:10000913-1759838400-1759856400@znp.edu.pl
SUMMARY:Finał konkursu Nauczyciel Roku
DESCRIPTION:Gala finałowa konkursów Nauczyciel Roku 2025 oraz  Nauczyciel Jutr@ odbędzie się  7 października br. na Zamku Królewskim w Warszawie.
URL:https://znp.edu.pl/impreza/final-konkursu-nauczyciel-roku/
ATTACH;FMTTYPE=image/png:https://znp.edu.pl/assets/uploads/2025/05/NR-2005-750x750-1.png
END:VEVENT
BEGIN:VEVENT
DTSTART;TZID=UTC:20251014T010000
DTEND;TZID=UTC:20251014T233000
DTSTAMP:20260420T205134
CREATED:20251013T141924Z
LAST-MODIFIED:20251013T142008Z
UID:10000943-1760403600-1760484600@znp.edu.pl
SUMMARY:Dzień Edukacji Narodowej
DESCRIPTION:14 października przypada Dzień Edukacji Narodowej – święto nauczycieli\, wychowawców\, pedagogów\, pracowników szkolnej administracji i obsługi. Obchodzony jest w rocznicę powstania w 1773 r. Komisji Edukacji Narodowej – pierwszego w Europie ministerstwa oświaty – które zajęło się reformowaniem szkolnictwa w Polsce. \nZ okazji jubileuszu 120-lecia Związku Nauczycielstwa Polskiego oraz Dnia Edukacji Narodowej pragnę wyrazić najwyższe uznanie dla członków ZNP\, którzy przez pokolenia działali – i działają – na rzecz praw nauczycieli i pracowników oświaty\, rozwoju polskiej edukacji i nauki oraz kształtowania wysokich standardów kształcenia! To dzięki Wam polska szkoła trwa\, rozwija się i nieustannie staje się lepsza. ZNP to odpowiedzialność\, odwaga i wartości. To edukacja od pokoleń i dla pokoleń!\n\nŻyczę Wam prestiżu\, systemowego wsparcia\, godnych pensji i społecznego uznania!\n\n\nSławomir Broniarz\nPrezes ZNP 
URL:https://znp.edu.pl/impreza/dzien-edukacji-narodowej-2/
END:VEVENT
BEGIN:VEVENT
DTSTART;TZID=UTC:20251026T010000
DTEND;TZID=UTC:20251026T233000
DTSTAMP:20260420T205134
CREATED:20250916T075715Z
LAST-MODIFIED:20250924T095801Z
UID:10000942-1761440400-1761521400@znp.edu.pl
SUMMARY:Dzień Pamięci o Tajnej Organizacji Nauczycielskiej
DESCRIPTION:26 października Dniem Pamięci o Tajnej Organizacji Nauczycielskiej
URL:https://znp.edu.pl/impreza/dzien-pamieci-o-tajnej-organizacji-nauczycielskiej/
ATTACH;FMTTYPE=image/jpeg:https://znp.edu.pl/assets/uploads/2025/09/znp_post_ton_2.jpg
END:VEVENT
END:VCALENDAR