BEGIN:VCALENDAR
VERSION:2.0
PRODID:-//ZNP - ECPv6.11.2.1//NONSGML v1.0//EN
CALSCALE:GREGORIAN
METHOD:PUBLISH
X-ORIGINAL-URL:https://znp.edu.pl
X-WR-CALDESC:Events for ZNP
REFRESH-INTERVAL;VALUE=DURATION:PT1H
X-Robots-Tag:noindex
X-PUBLISHED-TTL:PT1H
BEGIN:VTIMEZONE
TZID:UTC
BEGIN:STANDARD
TZOFFSETFROM:+0000
TZOFFSETTO:+0000
TZNAME:UTC
DTSTART:20230101T000000
END:STANDARD
END:VTIMEZONE
BEGIN:VEVENT
DTSTART;TZID=UTC:20230328T080000
DTEND;TZID=UTC:20230328T203000
DTSTAMP:20260424T162822
CREATED:20230328T112731Z
LAST-MODIFIED:20230328T122010Z
UID:10000833-1679990400-1680035400@znp.edu.pl
SUMMARY:ZNP w mediach – polecamy
DESCRIPTION:Polsat News \nPolecamy program „Punkt widzenia” z udziałem prezesa ZNP: \nwtorek\, 28.03.2023\, około godz. 18.20
URL:https://znp.edu.pl/impreza/znp-w-mediach-polecamy/
ATTACH;FMTTYPE=image/jpeg:https://znp.edu.pl/assets/uploads/2023/03/17-marca-2022-r.-przedstawicielka-ZNP-Edyta-Ksiazek-czlonek-Zarzadu-Glownego-ZNP-wezmie-udzial-w-posiedzeniu-sejmowej-podkomisji-na-temat-przedmiotu-–-Historia-i-Terazniejszosc.-7.jpg
END:VEVENT
END:VCALENDAR