BEGIN:VCALENDAR
VERSION:2.0
PRODID:-//ZNP - ECPv6.11.2.1//NONSGML v1.0//EN
CALSCALE:GREGORIAN
METHOD:PUBLISH
X-WR-CALNAME:ZNP
X-ORIGINAL-URL:https://znp.edu.pl
X-WR-CALDESC:Events for ZNP
REFRESH-INTERVAL;VALUE=DURATION:PT1H
X-Robots-Tag:noindex
X-PUBLISHED-TTL:PT1H
BEGIN:VTIMEZONE
TZID:UTC
BEGIN:STANDARD
TZOFFSETFROM:+0000
TZOFFSETTO:+0000
TZNAME:UTC
DTSTART:20210101T000000
END:STANDARD
END:VTIMEZONE
BEGIN:VEVENT
DTSTART;TZID=UTC:20210526T140000
DTEND;TZID=UTC:20210526T160000
DTSTAMP:20260421T144923
CREATED:20210521T125740Z
LAST-MODIFIED:20210521T125740Z
UID:10000766-1622037600-1622044800@znp.edu.pl
SUMMARY:57. Posiedzenie Zarządu Światowego Międzynarodówki Edukacyjnej
DESCRIPTION:Posiedzenie z udziałem prezesa ZNP\, członka Zarządu Światowego EI – sesja D.
URL:https://znp.edu.pl/impreza/57-posiedzenie-zarzadu-swiatowego-miedzynarodowki-edukacyjnej/
LOCATION:Bruksela\, platforma ZOOM
END:VEVENT
BEGIN:VEVENT
DTSTART;TZID=UTC:20210526T100000
DTEND;TZID=UTC:20210526T120000
DTSTAMP:20260421T144923
CREATED:20210521T124958Z
LAST-MODIFIED:20210521T124958Z
UID:10000765-1622023200-1622030400@znp.edu.pl
SUMMARY:Posiedzenie liderów związków zawodowych (grupa 3: Austria\, Bułgaria\, Czechy\, Izrael\, Niderlandy\, Niemcy\, Polska\, Rumunia\, Słowacja\, Węgry)
DESCRIPTION:Posiedzenie z udziałem prezesa ZNP\, członka Zarządu Światowego poświęcone omówieniu propozycji Komisji i parlamentu Europejskiego dot. edukacji oraz sytuacji edukacji w krajach regionu związanej z pandemią.
URL:https://znp.edu.pl/impreza/posiedzenie-liderow-zwiazkow-zawodowych-grupa-3-austria-bulgaria-czechy-izrael-niderlandy-niemcy-polska-rumunia-slowacja-wegry/
LOCATION:Bruksela\, platforma ZOOM
END:VEVENT
END:VCALENDAR