BEGIN:VCALENDAR
VERSION:2.0
PRODID:-//ZNP - ECPv6.11.2.1//NONSGML v1.0//EN
CALSCALE:GREGORIAN
METHOD:PUBLISH
X-ORIGINAL-URL:https://znp.edu.pl
X-WR-CALDESC:Events for ZNP
REFRESH-INTERVAL;VALUE=DURATION:PT1H
X-Robots-Tag:noindex
X-PUBLISHED-TTL:PT1H
BEGIN:VTIMEZONE
TZID:UTC
BEGIN:STANDARD
TZOFFSETFROM:+0000
TZOFFSETTO:+0000
TZNAME:UTC
DTSTART:20210101T000000
END:STANDARD
END:VTIMEZONE
BEGIN:VEVENT
DTSTART;TZID=UTC:20231219T110000
DTEND;TZID=UTC:20231219T170000
DTSTAMP:20260425T102233
CREATED:20231213T142208Z
LAST-MODIFIED:20231213T142208Z
UID:10000606-1702983600-1703005200@znp.edu.pl
SUMMARY:Zarząd Główny ZNP
DESCRIPTION:
URL:https://znp.edu.pl/impreza/zarzad-glowny-znp-2/
LOCATION:ul. Smulikowskiego 6/8\, 00-389 Warszawa
END:VEVENT
BEGIN:VEVENT
DTSTART;TZID=UTC:20220317T080000
DTEND;TZID=UTC:20220317T170000
DTSTAMP:20260425T102233
CREATED:20220317T104911Z
LAST-MODIFIED:20220317T105001Z
UID:10000791-1647504000-1647536400@znp.edu.pl
SUMMARY:Spotkanie ze szwedzkimi nauczycielami
DESCRIPTION:Wizyta studyjna przedstawicieli szwedzkiego związku nauczycieli w Zarządzie Głównym ZNP w Warszawie poświęcona dialogowi społecznemu w Polsce i obecnej sytuacji w oświacie związanej z przyjęciem i kształceniem dzieci z Ukrainy w polskich szkołach\, przedszkolach i placówkach oświatowych.
URL:https://znp.edu.pl/impreza/spotkanie-ze-szwedzkimi-nauczycielami/
LOCATION:ul. Smulikowskiego 6/8\, 00-389 Warszawa
END:VEVENT
BEGIN:VEVENT
DTSTART;TZID=UTC:20220314T110000
DTEND;TZID=UTC:20220314T170000
DTSTAMP:20260425T102233
CREATED:20220314T100808Z
LAST-MODIFIED:20220314T100808Z
UID:10000788-1647255600-1647277200@znp.edu.pl
SUMMARY:Prezydium ZG ZNP
DESCRIPTION:
URL:https://znp.edu.pl/impreza/prezydium-zg-znp-3/
LOCATION:ul. Smulikowskiego 6/8\, 00-389 Warszawa
END:VEVENT
BEGIN:VEVENT
DTSTART;TZID=UTC:20211207T113000
DTEND;TZID=UTC:20211207T120000
DTSTAMP:20260425T102233
CREATED:20211206T133825Z
LAST-MODIFIED:20211206T133901Z
UID:10000784-1638876600-1638878400@znp.edu.pl
SUMMARY:Konferencja prasowa ZNP
DESCRIPTION:Zapraszamy na konferencję prasową prezesa ZNP Sławomira Broniarza we wtorek\, 7 grudnia o godz. 11.30. \nTemat: Propozycje ZNP dotyczące negocjacji płacowych z MEiN \nMiejsce: siedziba ZG ZNP w Warszawie\, ul. Smulikowskiego 6/8\, I piętro \nTermin: 7.12.2021\, godz. 11.30 \n  \nPo konferencji prasowej odbędą się negocjacje płacowe ministra Przemysława Czarnka ze związkami zawodowymi. Spotkanie w ramach prac Zespołu odbędzie się 7 grudnia 2021 r. o godz. 13.00\, w gmachu Ministerstwa Edukacji i Nauki przy al. Szucha 25 (s.102). ZNP reprezentować będzie zespół negocjacyjny z wiceprezesem ZG ZNP Krzysztofem Baszczyńskim na czele.
URL:https://znp.edu.pl/impreza/konferencja-prasowa-znp-2/
LOCATION:ul. Smulikowskiego 6/8\, 00-389 Warszawa
ATTACH;FMTTYPE=image/jpeg:https://znp.edu.pl/assets/uploads/2021/12/The-Big-Annual-Super-Sale-1.jpg
END:VEVENT
END:VCALENDAR